BEGIN:VCALENDAR
VERSION:2.0
PRODID:-//Schwarzwaldverein Sindelfingen e. V. - ECPv6.15.20//NONSGML v1.0//EN
CALSCALE:GREGORIAN
METHOD:PUBLISH
X-ORIGINAL-URL:https://swv-sindelfingen.de
X-WR-CALDESC:Veranstaltungen für Schwarzwaldverein Sindelfingen e. V.
REFRESH-INTERVAL;VALUE=DURATION:PT1H
X-Robots-Tag:noindex
X-PUBLISHED-TTL:PT1H
BEGIN:VTIMEZONE
TZID:Europe/Berlin
BEGIN:DAYLIGHT
TZOFFSETFROM:+0100
TZOFFSETTO:+0200
TZNAME:CEST
DTSTART:20260329T010000
END:DAYLIGHT
BEGIN:STANDARD
TZOFFSETFROM:+0200
TZOFFSETTO:+0100
TZNAME:CET
DTSTART:20261025T010000
END:STANDARD
BEGIN:DAYLIGHT
TZOFFSETFROM:+0100
TZOFFSETTO:+0200
TZNAME:CEST
DTSTART:20270328T010000
END:DAYLIGHT
BEGIN:STANDARD
TZOFFSETFROM:+0200
TZOFFSETTO:+0100
TZNAME:CET
DTSTART:20271031T010000
END:STANDARD
BEGIN:DAYLIGHT
TZOFFSETFROM:+0100
TZOFFSETTO:+0200
TZNAME:CEST
DTSTART:20280326T010000
END:DAYLIGHT
BEGIN:STANDARD
TZOFFSETFROM:+0200
TZOFFSETTO:+0100
TZNAME:CET
DTSTART:20281029T010000
END:STANDARD
BEGIN:DAYLIGHT
TZOFFSETFROM:+0100
TZOFFSETTO:+0200
TZNAME:CEST
DTSTART:20290325T010000
END:DAYLIGHT
BEGIN:STANDARD
TZOFFSETFROM:+0200
TZOFFSETTO:+0100
TZNAME:CET
DTSTART:20291028T010000
END:STANDARD
END:VTIMEZONE
BEGIN:VEVENT
DTSTART;TZID=Europe/Berlin:20270830T084500
DTEND;TZID=Europe/Berlin:20270830T101500
DTSTAMP:20260421T220459
CREATED:20250221T150206Z
LAST-MODIFIED:20250221T150206Z
UID:10006797-1819615500-1819620900@swv-sindelfingen.de
SUMMARY:Nordic Walking
DESCRIPTION:
URL:https://swv-sindelfingen.de/event/nordic-walking-3/2027-08-30/
LOCATION:SWV – Vereinsheim\, Arthur-Gruber-Strasse 65\, SIndelfingen\, Deutschland\, 71065
END:VEVENT
BEGIN:VEVENT
DTSTART;TZID=Europe/Berlin:20270906T084500
DTEND;TZID=Europe/Berlin:20270906T101500
DTSTAMP:20260421T220459
CREATED:20250221T150206Z
LAST-MODIFIED:20250221T150206Z
UID:10006798-1820220300-1820225700@swv-sindelfingen.de
SUMMARY:Nordic Walking
DESCRIPTION:
URL:https://swv-sindelfingen.de/event/nordic-walking-3/2027-09-06/
LOCATION:SWV – Vereinsheim\, Arthur-Gruber-Strasse 65\, SIndelfingen\, Deutschland\, 71065
END:VEVENT
BEGIN:VEVENT
DTSTART;TZID=Europe/Berlin:20270913T084500
DTEND;TZID=Europe/Berlin:20270913T101500
DTSTAMP:20260421T220459
CREATED:20250221T150206Z
LAST-MODIFIED:20250221T150206Z
UID:10006799-1820825100-1820830500@swv-sindelfingen.de
SUMMARY:Nordic Walking
DESCRIPTION:
URL:https://swv-sindelfingen.de/event/nordic-walking-3/2027-09-13/
LOCATION:SWV – Vereinsheim\, Arthur-Gruber-Strasse 65\, SIndelfingen\, Deutschland\, 71065
END:VEVENT
BEGIN:VEVENT
DTSTART;TZID=Europe/Berlin:20270920T084500
DTEND;TZID=Europe/Berlin:20270920T101500
DTSTAMP:20260421T220459
CREATED:20250221T150206Z
LAST-MODIFIED:20250221T150206Z
UID:10006800-1821429900-1821435300@swv-sindelfingen.de
SUMMARY:Nordic Walking
DESCRIPTION:
URL:https://swv-sindelfingen.de/event/nordic-walking-3/2027-09-20/
LOCATION:SWV – Vereinsheim\, Arthur-Gruber-Strasse 65\, SIndelfingen\, Deutschland\, 71065
END:VEVENT
BEGIN:VEVENT
DTSTART;TZID=Europe/Berlin:20270927T084500
DTEND;TZID=Europe/Berlin:20270927T101500
DTSTAMP:20260421T220459
CREATED:20250221T150206Z
LAST-MODIFIED:20250221T150206Z
UID:10006801-1822034700-1822040100@swv-sindelfingen.de
SUMMARY:Nordic Walking
DESCRIPTION:
URL:https://swv-sindelfingen.de/event/nordic-walking-3/2027-09-27/
LOCATION:SWV – Vereinsheim\, Arthur-Gruber-Strasse 65\, SIndelfingen\, Deutschland\, 71065
END:VEVENT
BEGIN:VEVENT
DTSTART;TZID=Europe/Berlin:20271004T084500
DTEND;TZID=Europe/Berlin:20271004T101500
DTSTAMP:20260421T220459
CREATED:20250221T150206Z
LAST-MODIFIED:20250221T150206Z
UID:10006802-1822639500-1822644900@swv-sindelfingen.de
SUMMARY:Nordic Walking
DESCRIPTION:
URL:https://swv-sindelfingen.de/event/nordic-walking-3/2027-10-04/
LOCATION:SWV – Vereinsheim\, Arthur-Gruber-Strasse 65\, SIndelfingen\, Deutschland\, 71065
END:VEVENT
BEGIN:VEVENT
DTSTART;TZID=Europe/Berlin:20271011T084500
DTEND;TZID=Europe/Berlin:20271011T101500
DTSTAMP:20260421T220459
CREATED:20250221T150206Z
LAST-MODIFIED:20250221T150206Z
UID:10006803-1823244300-1823249700@swv-sindelfingen.de
SUMMARY:Nordic Walking
DESCRIPTION:
URL:https://swv-sindelfingen.de/event/nordic-walking-3/2027-10-11/
LOCATION:SWV – Vereinsheim\, Arthur-Gruber-Strasse 65\, SIndelfingen\, Deutschland\, 71065
END:VEVENT
BEGIN:VEVENT
DTSTART;TZID=Europe/Berlin:20271018T084500
DTEND;TZID=Europe/Berlin:20271018T101500
DTSTAMP:20260421T220459
CREATED:20250221T150206Z
LAST-MODIFIED:20250221T150206Z
UID:10006804-1823849100-1823854500@swv-sindelfingen.de
SUMMARY:Nordic Walking
DESCRIPTION:
URL:https://swv-sindelfingen.de/event/nordic-walking-3/2027-10-18/
LOCATION:SWV – Vereinsheim\, Arthur-Gruber-Strasse 65\, SIndelfingen\, Deutschland\, 71065
END:VEVENT
BEGIN:VEVENT
DTSTART;TZID=Europe/Berlin:20271025T084500
DTEND;TZID=Europe/Berlin:20271025T101500
DTSTAMP:20260421T220459
CREATED:20250221T150206Z
LAST-MODIFIED:20250221T150206Z
UID:10006805-1824453900-1824459300@swv-sindelfingen.de
SUMMARY:Nordic Walking
DESCRIPTION:
URL:https://swv-sindelfingen.de/event/nordic-walking-3/2027-10-25/
LOCATION:SWV – Vereinsheim\, Arthur-Gruber-Strasse 65\, SIndelfingen\, Deutschland\, 71065
END:VEVENT
BEGIN:VEVENT
DTSTART;TZID=Europe/Berlin:20271101T084500
DTEND;TZID=Europe/Berlin:20271101T101500
DTSTAMP:20260421T220459
CREATED:20250221T150206Z
LAST-MODIFIED:20250221T150206Z
UID:10006806-1825058700-1825064100@swv-sindelfingen.de
SUMMARY:Nordic Walking
DESCRIPTION:
URL:https://swv-sindelfingen.de/event/nordic-walking-3/2027-11-01/
LOCATION:SWV – Vereinsheim\, Arthur-Gruber-Strasse 65\, SIndelfingen\, Deutschland\, 71065
END:VEVENT
BEGIN:VEVENT
DTSTART;TZID=Europe/Berlin:20271108T084500
DTEND;TZID=Europe/Berlin:20271108T101500
DTSTAMP:20260421T220459
CREATED:20250221T150206Z
LAST-MODIFIED:20250221T150206Z
UID:10006807-1825663500-1825668900@swv-sindelfingen.de
SUMMARY:Nordic Walking
DESCRIPTION:
URL:https://swv-sindelfingen.de/event/nordic-walking-3/2027-11-08/
LOCATION:SWV – Vereinsheim\, Arthur-Gruber-Strasse 65\, SIndelfingen\, Deutschland\, 71065
END:VEVENT
BEGIN:VEVENT
DTSTART;TZID=Europe/Berlin:20271115T084500
DTEND;TZID=Europe/Berlin:20271115T101500
DTSTAMP:20260421T220459
CREATED:20250221T150206Z
LAST-MODIFIED:20250221T150206Z
UID:10006808-1826268300-1826273700@swv-sindelfingen.de
SUMMARY:Nordic Walking
DESCRIPTION:
URL:https://swv-sindelfingen.de/event/nordic-walking-3/2027-11-15/
LOCATION:SWV – Vereinsheim\, Arthur-Gruber-Strasse 65\, SIndelfingen\, Deutschland\, 71065
END:VEVENT
BEGIN:VEVENT
DTSTART;TZID=Europe/Berlin:20271122T084500
DTEND;TZID=Europe/Berlin:20271122T101500
DTSTAMP:20260421T220459
CREATED:20250221T150206Z
LAST-MODIFIED:20250221T150206Z
UID:10006809-1826873100-1826878500@swv-sindelfingen.de
SUMMARY:Nordic Walking
DESCRIPTION:
URL:https://swv-sindelfingen.de/event/nordic-walking-3/2027-11-22/
LOCATION:SWV – Vereinsheim\, Arthur-Gruber-Strasse 65\, SIndelfingen\, Deutschland\, 71065
END:VEVENT
BEGIN:VEVENT
DTSTART;TZID=Europe/Berlin:20271129T084500
DTEND;TZID=Europe/Berlin:20271129T101500
DTSTAMP:20260421T220459
CREATED:20250221T150206Z
LAST-MODIFIED:20250221T150206Z
UID:10006810-1827477900-1827483300@swv-sindelfingen.de
SUMMARY:Nordic Walking
DESCRIPTION:
URL:https://swv-sindelfingen.de/event/nordic-walking-3/2027-11-29/
LOCATION:SWV – Vereinsheim\, Arthur-Gruber-Strasse 65\, SIndelfingen\, Deutschland\, 71065
END:VEVENT
BEGIN:VEVENT
DTSTART;TZID=Europe/Berlin:20271206T084500
DTEND;TZID=Europe/Berlin:20271206T101500
DTSTAMP:20260421T220459
CREATED:20250221T150206Z
LAST-MODIFIED:20250221T150206Z
UID:10006811-1828082700-1828088100@swv-sindelfingen.de
SUMMARY:Nordic Walking
DESCRIPTION:
URL:https://swv-sindelfingen.de/event/nordic-walking-3/2027-12-06/
LOCATION:SWV – Vereinsheim\, Arthur-Gruber-Strasse 65\, SIndelfingen\, Deutschland\, 71065
END:VEVENT
BEGIN:VEVENT
DTSTART;TZID=Europe/Berlin:20271213T084500
DTEND;TZID=Europe/Berlin:20271213T101500
DTSTAMP:20260421T220459
CREATED:20250221T150206Z
LAST-MODIFIED:20250221T150206Z
UID:10006812-1828687500-1828692900@swv-sindelfingen.de
SUMMARY:Nordic Walking
DESCRIPTION:
URL:https://swv-sindelfingen.de/event/nordic-walking-3/2027-12-13/
LOCATION:SWV – Vereinsheim\, Arthur-Gruber-Strasse 65\, SIndelfingen\, Deutschland\, 71065
END:VEVENT
BEGIN:VEVENT
DTSTART;TZID=Europe/Berlin:20271220T084500
DTEND;TZID=Europe/Berlin:20271220T101500
DTSTAMP:20260421T220459
CREATED:20250221T150206Z
LAST-MODIFIED:20250221T150206Z
UID:10006813-1829292300-1829297700@swv-sindelfingen.de
SUMMARY:Nordic Walking
DESCRIPTION:
URL:https://swv-sindelfingen.de/event/nordic-walking-3/2027-12-20/
LOCATION:SWV – Vereinsheim\, Arthur-Gruber-Strasse 65\, SIndelfingen\, Deutschland\, 71065
END:VEVENT
BEGIN:VEVENT
DTSTART;TZID=Europe/Berlin:20271227T084500
DTEND;TZID=Europe/Berlin:20271227T101500
DTSTAMP:20260421T220459
CREATED:20250221T150206Z
LAST-MODIFIED:20250221T150206Z
UID:10006814-1829897100-1829902500@swv-sindelfingen.de
SUMMARY:Nordic Walking
DESCRIPTION:
URL:https://swv-sindelfingen.de/event/nordic-walking-3/2027-12-27/
LOCATION:SWV – Vereinsheim\, Arthur-Gruber-Strasse 65\, SIndelfingen\, Deutschland\, 71065
END:VEVENT
BEGIN:VEVENT
DTSTART;TZID=Europe/Berlin:20280103T084500
DTEND;TZID=Europe/Berlin:20280103T101500
DTSTAMP:20260421T220459
CREATED:20250221T150206Z
LAST-MODIFIED:20250221T150206Z
UID:10006815-1830501900-1830507300@swv-sindelfingen.de
SUMMARY:Nordic Walking
DESCRIPTION:
URL:https://swv-sindelfingen.de/event/nordic-walking-3/2028-01-03/
LOCATION:SWV – Vereinsheim\, Arthur-Gruber-Strasse 65\, SIndelfingen\, Deutschland\, 71065
END:VEVENT
BEGIN:VEVENT
DTSTART;TZID=Europe/Berlin:20280110T084500
DTEND;TZID=Europe/Berlin:20280110T101500
DTSTAMP:20260421T220459
CREATED:20250221T150206Z
LAST-MODIFIED:20250221T150206Z
UID:10006816-1831106700-1831112100@swv-sindelfingen.de
SUMMARY:Nordic Walking
DESCRIPTION:
URL:https://swv-sindelfingen.de/event/nordic-walking-3/2028-01-10/
LOCATION:SWV – Vereinsheim\, Arthur-Gruber-Strasse 65\, SIndelfingen\, Deutschland\, 71065
END:VEVENT
BEGIN:VEVENT
DTSTART;TZID=Europe/Berlin:20280117T084500
DTEND;TZID=Europe/Berlin:20280117T101500
DTSTAMP:20260421T220459
CREATED:20250221T150206Z
LAST-MODIFIED:20250221T150206Z
UID:10006817-1831711500-1831716900@swv-sindelfingen.de
SUMMARY:Nordic Walking
DESCRIPTION:
URL:https://swv-sindelfingen.de/event/nordic-walking-3/2028-01-17/
LOCATION:SWV – Vereinsheim\, Arthur-Gruber-Strasse 65\, SIndelfingen\, Deutschland\, 71065
END:VEVENT
BEGIN:VEVENT
DTSTART;TZID=Europe/Berlin:20280124T084500
DTEND;TZID=Europe/Berlin:20280124T101500
DTSTAMP:20260421T220459
CREATED:20250221T150206Z
LAST-MODIFIED:20250221T150206Z
UID:10006818-1832316300-1832321700@swv-sindelfingen.de
SUMMARY:Nordic Walking
DESCRIPTION:
URL:https://swv-sindelfingen.de/event/nordic-walking-3/2028-01-24/
LOCATION:SWV – Vereinsheim\, Arthur-Gruber-Strasse 65\, SIndelfingen\, Deutschland\, 71065
END:VEVENT
BEGIN:VEVENT
DTSTART;TZID=Europe/Berlin:20280131T084500
DTEND;TZID=Europe/Berlin:20280131T101500
DTSTAMP:20260421T220459
CREATED:20250221T150206Z
LAST-MODIFIED:20250221T150206Z
UID:10006819-1832921100-1832926500@swv-sindelfingen.de
SUMMARY:Nordic Walking
DESCRIPTION:
URL:https://swv-sindelfingen.de/event/nordic-walking-3/2028-01-31/
LOCATION:SWV – Vereinsheim\, Arthur-Gruber-Strasse 65\, SIndelfingen\, Deutschland\, 71065
END:VEVENT
BEGIN:VEVENT
DTSTART;TZID=Europe/Berlin:20280207T084500
DTEND;TZID=Europe/Berlin:20280207T101500
DTSTAMP:20260421T220459
CREATED:20250221T150206Z
LAST-MODIFIED:20250221T150206Z
UID:10006820-1833525900-1833531300@swv-sindelfingen.de
SUMMARY:Nordic Walking
DESCRIPTION:
URL:https://swv-sindelfingen.de/event/nordic-walking-3/2028-02-07/
LOCATION:SWV – Vereinsheim\, Arthur-Gruber-Strasse 65\, SIndelfingen\, Deutschland\, 71065
END:VEVENT
BEGIN:VEVENT
DTSTART;TZID=Europe/Berlin:20280214T084500
DTEND;TZID=Europe/Berlin:20280214T101500
DTSTAMP:20260421T220459
CREATED:20250221T150206Z
LAST-MODIFIED:20250221T150206Z
UID:10006821-1834130700-1834136100@swv-sindelfingen.de
SUMMARY:Nordic Walking
DESCRIPTION:
URL:https://swv-sindelfingen.de/event/nordic-walking-3/2028-02-14/
LOCATION:SWV – Vereinsheim\, Arthur-Gruber-Strasse 65\, SIndelfingen\, Deutschland\, 71065
END:VEVENT
BEGIN:VEVENT
DTSTART;TZID=Europe/Berlin:20280221T084500
DTEND;TZID=Europe/Berlin:20280221T101500
DTSTAMP:20260421T220459
CREATED:20250221T150206Z
LAST-MODIFIED:20250221T150206Z
UID:10006822-1834735500-1834740900@swv-sindelfingen.de
SUMMARY:Nordic Walking
DESCRIPTION:
URL:https://swv-sindelfingen.de/event/nordic-walking-3/2028-02-21/
LOCATION:SWV – Vereinsheim\, Arthur-Gruber-Strasse 65\, SIndelfingen\, Deutschland\, 71065
END:VEVENT
BEGIN:VEVENT
DTSTART;TZID=Europe/Berlin:20280228T084500
DTEND;TZID=Europe/Berlin:20280228T101500
DTSTAMP:20260421T220459
CREATED:20250221T150206Z
LAST-MODIFIED:20250221T150206Z
UID:10006823-1835340300-1835345700@swv-sindelfingen.de
SUMMARY:Nordic Walking
DESCRIPTION:
URL:https://swv-sindelfingen.de/event/nordic-walking-3/2028-02-28/
LOCATION:SWV – Vereinsheim\, Arthur-Gruber-Strasse 65\, SIndelfingen\, Deutschland\, 71065
END:VEVENT
BEGIN:VEVENT
DTSTART;TZID=Europe/Berlin:20280306T084500
DTEND;TZID=Europe/Berlin:20280306T101500
DTSTAMP:20260421T220459
CREATED:20250221T150206Z
LAST-MODIFIED:20250221T150206Z
UID:10006824-1835945100-1835950500@swv-sindelfingen.de
SUMMARY:Nordic Walking
DESCRIPTION:
URL:https://swv-sindelfingen.de/event/nordic-walking-3/2028-03-06/
LOCATION:SWV – Vereinsheim\, Arthur-Gruber-Strasse 65\, SIndelfingen\, Deutschland\, 71065
END:VEVENT
BEGIN:VEVENT
DTSTART;TZID=Europe/Berlin:20280313T084500
DTEND;TZID=Europe/Berlin:20280313T101500
DTSTAMP:20260421T220459
CREATED:20250221T150206Z
LAST-MODIFIED:20250221T150206Z
UID:10006825-1836549900-1836555300@swv-sindelfingen.de
SUMMARY:Nordic Walking
DESCRIPTION:
URL:https://swv-sindelfingen.de/event/nordic-walking-3/2028-03-13/
LOCATION:SWV – Vereinsheim\, Arthur-Gruber-Strasse 65\, SIndelfingen\, Deutschland\, 71065
END:VEVENT
BEGIN:VEVENT
DTSTART;TZID=Europe/Berlin:20280320T084500
DTEND;TZID=Europe/Berlin:20280320T101500
DTSTAMP:20260421T220459
CREATED:20250221T150206Z
LAST-MODIFIED:20250221T150206Z
UID:10006826-1837154700-1837160100@swv-sindelfingen.de
SUMMARY:Nordic Walking
DESCRIPTION:
URL:https://swv-sindelfingen.de/event/nordic-walking-3/2028-03-20/
LOCATION:SWV – Vereinsheim\, Arthur-Gruber-Strasse 65\, SIndelfingen\, Deutschland\, 71065
END:VEVENT
END:VCALENDAR