BEGIN:VCALENDAR
VERSION:2.0
PRODID:-//Schwarzwaldverein Sindelfingen e. V. - ECPv6.15.20//NONSGML v1.0//EN
CALSCALE:GREGORIAN
METHOD:PUBLISH
X-WR-CALNAME:Schwarzwaldverein Sindelfingen e. V.
X-ORIGINAL-URL:https://swv-sindelfingen.de
X-WR-CALDESC:Veranstaltungen für Schwarzwaldverein Sindelfingen e. V.
REFRESH-INTERVAL;VALUE=DURATION:PT1H
X-Robots-Tag:noindex
X-PUBLISHED-TTL:PT1H
BEGIN:VTIMEZONE
TZID:Europe/Berlin
BEGIN:DAYLIGHT
TZOFFSETFROM:+0100
TZOFFSETTO:+0200
TZNAME:CEST
DTSTART:20270328T010000
END:DAYLIGHT
BEGIN:STANDARD
TZOFFSETFROM:+0200
TZOFFSETTO:+0100
TZNAME:CET
DTSTART:20271031T010000
END:STANDARD
BEGIN:DAYLIGHT
TZOFFSETFROM:+0100
TZOFFSETTO:+0200
TZNAME:CEST
DTSTART:20280326T010000
END:DAYLIGHT
BEGIN:STANDARD
TZOFFSETFROM:+0200
TZOFFSETTO:+0100
TZNAME:CET
DTSTART:20281029T010000
END:STANDARD
BEGIN:DAYLIGHT
TZOFFSETFROM:+0100
TZOFFSETTO:+0200
TZNAME:CEST
DTSTART:20290325T010000
END:DAYLIGHT
BEGIN:STANDARD
TZOFFSETFROM:+0200
TZOFFSETTO:+0100
TZNAME:CET
DTSTART:20291028T010000
END:STANDARD
BEGIN:DAYLIGHT
TZOFFSETFROM:+0100
TZOFFSETTO:+0200
TZNAME:CEST
DTSTART:20300331T010000
END:DAYLIGHT
BEGIN:STANDARD
TZOFFSETFROM:+0200
TZOFFSETTO:+0100
TZNAME:CET
DTSTART:20301027T010000
END:STANDARD
END:VTIMEZONE
BEGIN:VEVENT
DTSTART;TZID=Europe/Berlin:20281023T084500
DTEND;TZID=Europe/Berlin:20281023T101500
DTSTAMP:20260422T042846
CREATED:20250221T150206Z
LAST-MODIFIED:20250221T150206Z
UID:10006857-1855903500-1855908900@swv-sindelfingen.de
SUMMARY:Nordic Walking
DESCRIPTION:
URL:https://swv-sindelfingen.de/event/nordic-walking-3/2028-10-23/
LOCATION:SWV – Vereinsheim\, Arthur-Gruber-Strasse 65\, SIndelfingen\, Deutschland\, 71065
END:VEVENT
BEGIN:VEVENT
DTSTART;TZID=Europe/Berlin:20281030T084500
DTEND;TZID=Europe/Berlin:20281030T101500
DTSTAMP:20260422T042846
CREATED:20250221T150206Z
LAST-MODIFIED:20250221T150206Z
UID:10006858-1856508300-1856513700@swv-sindelfingen.de
SUMMARY:Nordic Walking
DESCRIPTION:
URL:https://swv-sindelfingen.de/event/nordic-walking-3/2028-10-30/
LOCATION:SWV – Vereinsheim\, Arthur-Gruber-Strasse 65\, SIndelfingen\, Deutschland\, 71065
END:VEVENT
BEGIN:VEVENT
DTSTART;TZID=Europe/Berlin:20281106T084500
DTEND;TZID=Europe/Berlin:20281106T101500
DTSTAMP:20260422T042846
CREATED:20250221T150206Z
LAST-MODIFIED:20250221T150206Z
UID:10006859-1857113100-1857118500@swv-sindelfingen.de
SUMMARY:Nordic Walking
DESCRIPTION:
URL:https://swv-sindelfingen.de/event/nordic-walking-3/2028-11-06/
LOCATION:SWV – Vereinsheim\, Arthur-Gruber-Strasse 65\, SIndelfingen\, Deutschland\, 71065
END:VEVENT
BEGIN:VEVENT
DTSTART;TZID=Europe/Berlin:20281113T084500
DTEND;TZID=Europe/Berlin:20281113T101500
DTSTAMP:20260422T042846
CREATED:20250221T150206Z
LAST-MODIFIED:20250221T150206Z
UID:10006860-1857717900-1857723300@swv-sindelfingen.de
SUMMARY:Nordic Walking
DESCRIPTION:
URL:https://swv-sindelfingen.de/event/nordic-walking-3/2028-11-13/
LOCATION:SWV – Vereinsheim\, Arthur-Gruber-Strasse 65\, SIndelfingen\, Deutschland\, 71065
END:VEVENT
BEGIN:VEVENT
DTSTART;TZID=Europe/Berlin:20281120T084500
DTEND;TZID=Europe/Berlin:20281120T101500
DTSTAMP:20260422T042846
CREATED:20250221T150206Z
LAST-MODIFIED:20250221T150206Z
UID:10006861-1858322700-1858328100@swv-sindelfingen.de
SUMMARY:Nordic Walking
DESCRIPTION:
URL:https://swv-sindelfingen.de/event/nordic-walking-3/2028-11-20/
LOCATION:SWV – Vereinsheim\, Arthur-Gruber-Strasse 65\, SIndelfingen\, Deutschland\, 71065
END:VEVENT
BEGIN:VEVENT
DTSTART;TZID=Europe/Berlin:20281127T084500
DTEND;TZID=Europe/Berlin:20281127T101500
DTSTAMP:20260422T042846
CREATED:20250221T150206Z
LAST-MODIFIED:20250221T150206Z
UID:10006862-1858927500-1858932900@swv-sindelfingen.de
SUMMARY:Nordic Walking
DESCRIPTION:
URL:https://swv-sindelfingen.de/event/nordic-walking-3/2028-11-27/
LOCATION:SWV – Vereinsheim\, Arthur-Gruber-Strasse 65\, SIndelfingen\, Deutschland\, 71065
END:VEVENT
BEGIN:VEVENT
DTSTART;TZID=Europe/Berlin:20281204T084500
DTEND;TZID=Europe/Berlin:20281204T101500
DTSTAMP:20260422T042846
CREATED:20250221T150206Z
LAST-MODIFIED:20250221T150206Z
UID:10006863-1859532300-1859537700@swv-sindelfingen.de
SUMMARY:Nordic Walking
DESCRIPTION:
URL:https://swv-sindelfingen.de/event/nordic-walking-3/2028-12-04/
LOCATION:SWV – Vereinsheim\, Arthur-Gruber-Strasse 65\, SIndelfingen\, Deutschland\, 71065
END:VEVENT
BEGIN:VEVENT
DTSTART;TZID=Europe/Berlin:20281211T084500
DTEND;TZID=Europe/Berlin:20281211T101500
DTSTAMP:20260422T042846
CREATED:20250221T150206Z
LAST-MODIFIED:20250221T150206Z
UID:10006864-1860137100-1860142500@swv-sindelfingen.de
SUMMARY:Nordic Walking
DESCRIPTION:
URL:https://swv-sindelfingen.de/event/nordic-walking-3/2028-12-11/
LOCATION:SWV – Vereinsheim\, Arthur-Gruber-Strasse 65\, SIndelfingen\, Deutschland\, 71065
END:VEVENT
BEGIN:VEVENT
DTSTART;TZID=Europe/Berlin:20281218T084500
DTEND;TZID=Europe/Berlin:20281218T101500
DTSTAMP:20260422T042846
CREATED:20250221T150206Z
LAST-MODIFIED:20250221T150206Z
UID:10006865-1860741900-1860747300@swv-sindelfingen.de
SUMMARY:Nordic Walking
DESCRIPTION:
URL:https://swv-sindelfingen.de/event/nordic-walking-3/2028-12-18/
LOCATION:SWV – Vereinsheim\, Arthur-Gruber-Strasse 65\, SIndelfingen\, Deutschland\, 71065
END:VEVENT
BEGIN:VEVENT
DTSTART;TZID=Europe/Berlin:20281225T084500
DTEND;TZID=Europe/Berlin:20281225T101500
DTSTAMP:20260422T042846
CREATED:20250221T150206Z
LAST-MODIFIED:20250221T150206Z
UID:10006866-1861346700-1861352100@swv-sindelfingen.de
SUMMARY:Nordic Walking
DESCRIPTION:
URL:https://swv-sindelfingen.de/event/nordic-walking-3/2028-12-25/
LOCATION:SWV – Vereinsheim\, Arthur-Gruber-Strasse 65\, SIndelfingen\, Deutschland\, 71065
END:VEVENT
BEGIN:VEVENT
DTSTART;TZID=Europe/Berlin:20290101T084500
DTEND;TZID=Europe/Berlin:20290101T101500
DTSTAMP:20260422T042846
CREATED:20250221T150206Z
LAST-MODIFIED:20250221T150206Z
UID:10006867-1861951500-1861956900@swv-sindelfingen.de
SUMMARY:Nordic Walking
DESCRIPTION:
URL:https://swv-sindelfingen.de/event/nordic-walking-3/2029-01-01/
LOCATION:SWV – Vereinsheim\, Arthur-Gruber-Strasse 65\, SIndelfingen\, Deutschland\, 71065
END:VEVENT
BEGIN:VEVENT
DTSTART;TZID=Europe/Berlin:20290108T084500
DTEND;TZID=Europe/Berlin:20290108T101500
DTSTAMP:20260422T042846
CREATED:20250221T150206Z
LAST-MODIFIED:20250221T150206Z
UID:10006868-1862556300-1862561700@swv-sindelfingen.de
SUMMARY:Nordic Walking
DESCRIPTION:
URL:https://swv-sindelfingen.de/event/nordic-walking-3/2029-01-08/
LOCATION:SWV – Vereinsheim\, Arthur-Gruber-Strasse 65\, SIndelfingen\, Deutschland\, 71065
END:VEVENT
BEGIN:VEVENT
DTSTART;TZID=Europe/Berlin:20290115T084500
DTEND;TZID=Europe/Berlin:20290115T101500
DTSTAMP:20260422T042846
CREATED:20250221T150206Z
LAST-MODIFIED:20250221T150206Z
UID:10006869-1863161100-1863166500@swv-sindelfingen.de
SUMMARY:Nordic Walking
DESCRIPTION:
URL:https://swv-sindelfingen.de/event/nordic-walking-3/2029-01-15/
LOCATION:SWV – Vereinsheim\, Arthur-Gruber-Strasse 65\, SIndelfingen\, Deutschland\, 71065
END:VEVENT
BEGIN:VEVENT
DTSTART;TZID=Europe/Berlin:20290122T084500
DTEND;TZID=Europe/Berlin:20290122T101500
DTSTAMP:20260422T042846
CREATED:20250221T150206Z
LAST-MODIFIED:20250221T150206Z
UID:10006870-1863765900-1863771300@swv-sindelfingen.de
SUMMARY:Nordic Walking
DESCRIPTION:
URL:https://swv-sindelfingen.de/event/nordic-walking-3/2029-01-22/
LOCATION:SWV – Vereinsheim\, Arthur-Gruber-Strasse 65\, SIndelfingen\, Deutschland\, 71065
END:VEVENT
BEGIN:VEVENT
DTSTART;TZID=Europe/Berlin:20290129T084500
DTEND;TZID=Europe/Berlin:20290129T101500
DTSTAMP:20260422T042846
CREATED:20250221T150206Z
LAST-MODIFIED:20250221T150206Z
UID:10006871-1864370700-1864376100@swv-sindelfingen.de
SUMMARY:Nordic Walking
DESCRIPTION:
URL:https://swv-sindelfingen.de/event/nordic-walking-3/2029-01-29/
LOCATION:SWV – Vereinsheim\, Arthur-Gruber-Strasse 65\, SIndelfingen\, Deutschland\, 71065
END:VEVENT
BEGIN:VEVENT
DTSTART;TZID=Europe/Berlin:20290205T084500
DTEND;TZID=Europe/Berlin:20290205T101500
DTSTAMP:20260422T042846
CREATED:20250221T150206Z
LAST-MODIFIED:20250221T150206Z
UID:10006872-1864975500-1864980900@swv-sindelfingen.de
SUMMARY:Nordic Walking
DESCRIPTION:
URL:https://swv-sindelfingen.de/event/nordic-walking-3/2029-02-05/
LOCATION:SWV – Vereinsheim\, Arthur-Gruber-Strasse 65\, SIndelfingen\, Deutschland\, 71065
END:VEVENT
BEGIN:VEVENT
DTSTART;TZID=Europe/Berlin:20290212T084500
DTEND;TZID=Europe/Berlin:20290212T101500
DTSTAMP:20260422T042846
CREATED:20250221T150206Z
LAST-MODIFIED:20250221T150206Z
UID:10006873-1865580300-1865585700@swv-sindelfingen.de
SUMMARY:Nordic Walking
DESCRIPTION:
URL:https://swv-sindelfingen.de/event/nordic-walking-3/2029-02-12/
LOCATION:SWV – Vereinsheim\, Arthur-Gruber-Strasse 65\, SIndelfingen\, Deutschland\, 71065
END:VEVENT
BEGIN:VEVENT
DTSTART;TZID=Europe/Berlin:20290219T084500
DTEND;TZID=Europe/Berlin:20290219T101500
DTSTAMP:20260422T042846
CREATED:20250221T150206Z
LAST-MODIFIED:20250221T150206Z
UID:10006874-1866185100-1866190500@swv-sindelfingen.de
SUMMARY:Nordic Walking
DESCRIPTION:
URL:https://swv-sindelfingen.de/event/nordic-walking-3/2029-02-19/
LOCATION:SWV – Vereinsheim\, Arthur-Gruber-Strasse 65\, SIndelfingen\, Deutschland\, 71065
END:VEVENT
BEGIN:VEVENT
DTSTART;TZID=Europe/Berlin:20290226T084500
DTEND;TZID=Europe/Berlin:20290226T101500
DTSTAMP:20260422T042846
CREATED:20250221T150206Z
LAST-MODIFIED:20250221T150206Z
UID:10006875-1866789900-1866795300@swv-sindelfingen.de
SUMMARY:Nordic Walking
DESCRIPTION:
URL:https://swv-sindelfingen.de/event/nordic-walking-3/2029-02-26/
LOCATION:SWV – Vereinsheim\, Arthur-Gruber-Strasse 65\, SIndelfingen\, Deutschland\, 71065
END:VEVENT
BEGIN:VEVENT
DTSTART;TZID=Europe/Berlin:20290305T084500
DTEND;TZID=Europe/Berlin:20290305T101500
DTSTAMP:20260422T042846
CREATED:20250221T150206Z
LAST-MODIFIED:20250221T150206Z
UID:10006876-1867394700-1867400100@swv-sindelfingen.de
SUMMARY:Nordic Walking
DESCRIPTION:
URL:https://swv-sindelfingen.de/event/nordic-walking-3/2029-03-05/
LOCATION:SWV – Vereinsheim\, Arthur-Gruber-Strasse 65\, SIndelfingen\, Deutschland\, 71065
END:VEVENT
BEGIN:VEVENT
DTSTART;TZID=Europe/Berlin:20290312T084500
DTEND;TZID=Europe/Berlin:20290312T101500
DTSTAMP:20260422T042846
CREATED:20250221T150206Z
LAST-MODIFIED:20250221T150206Z
UID:10006877-1867999500-1868004900@swv-sindelfingen.de
SUMMARY:Nordic Walking
DESCRIPTION:
URL:https://swv-sindelfingen.de/event/nordic-walking-3/2029-03-12/
LOCATION:SWV – Vereinsheim\, Arthur-Gruber-Strasse 65\, SIndelfingen\, Deutschland\, 71065
END:VEVENT
BEGIN:VEVENT
DTSTART;TZID=Europe/Berlin:20290319T084500
DTEND;TZID=Europe/Berlin:20290319T101500
DTSTAMP:20260422T042846
CREATED:20250221T150206Z
LAST-MODIFIED:20250221T150206Z
UID:10006878-1868604300-1868609700@swv-sindelfingen.de
SUMMARY:Nordic Walking
DESCRIPTION:
URL:https://swv-sindelfingen.de/event/nordic-walking-3/2029-03-19/
LOCATION:SWV – Vereinsheim\, Arthur-Gruber-Strasse 65\, SIndelfingen\, Deutschland\, 71065
END:VEVENT
BEGIN:VEVENT
DTSTART;TZID=Europe/Berlin:20290326T084500
DTEND;TZID=Europe/Berlin:20290326T101500
DTSTAMP:20260422T042846
CREATED:20250221T150206Z
LAST-MODIFIED:20250221T150206Z
UID:10006879-1869209100-1869214500@swv-sindelfingen.de
SUMMARY:Nordic Walking
DESCRIPTION:
URL:https://swv-sindelfingen.de/event/nordic-walking-3/2029-03-26/
LOCATION:SWV – Vereinsheim\, Arthur-Gruber-Strasse 65\, SIndelfingen\, Deutschland\, 71065
END:VEVENT
BEGIN:VEVENT
DTSTART;TZID=Europe/Berlin:20290402T084500
DTEND;TZID=Europe/Berlin:20290402T101500
DTSTAMP:20260422T042846
CREATED:20250221T150206Z
LAST-MODIFIED:20250221T150206Z
UID:10006880-1869813900-1869819300@swv-sindelfingen.de
SUMMARY:Nordic Walking
DESCRIPTION:
URL:https://swv-sindelfingen.de/event/nordic-walking-3/2029-04-02/
LOCATION:SWV – Vereinsheim\, Arthur-Gruber-Strasse 65\, SIndelfingen\, Deutschland\, 71065
END:VEVENT
BEGIN:VEVENT
DTSTART;TZID=Europe/Berlin:20290409T084500
DTEND;TZID=Europe/Berlin:20290409T101500
DTSTAMP:20260422T042846
CREATED:20250221T150206Z
LAST-MODIFIED:20250221T150206Z
UID:10006881-1870418700-1870424100@swv-sindelfingen.de
SUMMARY:Nordic Walking
DESCRIPTION:
URL:https://swv-sindelfingen.de/event/nordic-walking-3/2029-04-09/
LOCATION:SWV – Vereinsheim\, Arthur-Gruber-Strasse 65\, SIndelfingen\, Deutschland\, 71065
END:VEVENT
BEGIN:VEVENT
DTSTART;TZID=Europe/Berlin:20290416T084500
DTEND;TZID=Europe/Berlin:20290416T101500
DTSTAMP:20260422T042846
CREATED:20250221T150206Z
LAST-MODIFIED:20250221T150206Z
UID:10006882-1871023500-1871028900@swv-sindelfingen.de
SUMMARY:Nordic Walking
DESCRIPTION:
URL:https://swv-sindelfingen.de/event/nordic-walking-3/2029-04-16/
LOCATION:SWV – Vereinsheim\, Arthur-Gruber-Strasse 65\, SIndelfingen\, Deutschland\, 71065
END:VEVENT
BEGIN:VEVENT
DTSTART;TZID=Europe/Berlin:20290423T084500
DTEND;TZID=Europe/Berlin:20290423T101500
DTSTAMP:20260422T042846
CREATED:20250221T150206Z
LAST-MODIFIED:20250221T150206Z
UID:10006883-1871628300-1871633700@swv-sindelfingen.de
SUMMARY:Nordic Walking
DESCRIPTION:
URL:https://swv-sindelfingen.de/event/nordic-walking-3/2029-04-23/
LOCATION:SWV – Vereinsheim\, Arthur-Gruber-Strasse 65\, SIndelfingen\, Deutschland\, 71065
END:VEVENT
BEGIN:VEVENT
DTSTART;TZID=Europe/Berlin:20290430T084500
DTEND;TZID=Europe/Berlin:20290430T101500
DTSTAMP:20260422T042846
CREATED:20250221T150206Z
LAST-MODIFIED:20250221T150206Z
UID:10006884-1872233100-1872238500@swv-sindelfingen.de
SUMMARY:Nordic Walking
DESCRIPTION:
URL:https://swv-sindelfingen.de/event/nordic-walking-3/2029-04-30/
LOCATION:SWV – Vereinsheim\, Arthur-Gruber-Strasse 65\, SIndelfingen\, Deutschland\, 71065
END:VEVENT
BEGIN:VEVENT
DTSTART;TZID=Europe/Berlin:20290507T084500
DTEND;TZID=Europe/Berlin:20290507T101500
DTSTAMP:20260422T042846
CREATED:20250221T150206Z
LAST-MODIFIED:20250221T150206Z
UID:10006885-1872837900-1872843300@swv-sindelfingen.de
SUMMARY:Nordic Walking
DESCRIPTION:
URL:https://swv-sindelfingen.de/event/nordic-walking-3/2029-05-07/
LOCATION:SWV – Vereinsheim\, Arthur-Gruber-Strasse 65\, SIndelfingen\, Deutschland\, 71065
END:VEVENT
BEGIN:VEVENT
DTSTART;TZID=Europe/Berlin:20290514T084500
DTEND;TZID=Europe/Berlin:20290514T101500
DTSTAMP:20260422T042846
CREATED:20250221T150206Z
LAST-MODIFIED:20250221T150206Z
UID:10006886-1873442700-1873448100@swv-sindelfingen.de
SUMMARY:Nordic Walking
DESCRIPTION:
URL:https://swv-sindelfingen.de/event/nordic-walking-3/2029-05-14/
LOCATION:SWV – Vereinsheim\, Arthur-Gruber-Strasse 65\, SIndelfingen\, Deutschland\, 71065
END:VEVENT
END:VCALENDAR