BEGIN:VCALENDAR
VERSION:2.0
PRODID:-//Schwarzwaldverein Sindelfingen e. V. - ECPv6.15.20//NONSGML v1.0//EN
CALSCALE:GREGORIAN
METHOD:PUBLISH
X-WR-CALNAME:Schwarzwaldverein Sindelfingen e. V.
X-ORIGINAL-URL:https://swv-sindelfingen.de
X-WR-CALDESC:Veranstaltungen für Schwarzwaldverein Sindelfingen e. V.
REFRESH-INTERVAL;VALUE=DURATION:PT1H
X-Robots-Tag:noindex
X-PUBLISHED-TTL:PT1H
BEGIN:VTIMEZONE
TZID:Europe/Berlin
BEGIN:DAYLIGHT
TZOFFSETFROM:+0100
TZOFFSETTO:+0200
TZNAME:CEST
DTSTART:20280326T010000
END:DAYLIGHT
BEGIN:STANDARD
TZOFFSETFROM:+0200
TZOFFSETTO:+0100
TZNAME:CET
DTSTART:20281029T010000
END:STANDARD
BEGIN:DAYLIGHT
TZOFFSETFROM:+0100
TZOFFSETTO:+0200
TZNAME:CEST
DTSTART:20290325T010000
END:DAYLIGHT
BEGIN:STANDARD
TZOFFSETFROM:+0200
TZOFFSETTO:+0100
TZNAME:CET
DTSTART:20291028T010000
END:STANDARD
BEGIN:DAYLIGHT
TZOFFSETFROM:+0100
TZOFFSETTO:+0200
TZNAME:CEST
DTSTART:20300331T010000
END:DAYLIGHT
BEGIN:STANDARD
TZOFFSETFROM:+0200
TZOFFSETTO:+0100
TZNAME:CET
DTSTART:20301027T010000
END:STANDARD
END:VTIMEZONE
BEGIN:VEVENT
DTSTART;TZID=Europe/Berlin:20290601T080000
DTEND;TZID=Europe/Berlin:20290601T170000
DTSTAMP:20260426T060101
CREATED:20250130T204210Z
LAST-MODIFIED:20250130T204210Z
UID:10006306-1874995200-1875027600@swv-sindelfingen.de
SUMMARY:Fit werden - fit bleiben
DESCRIPTION:
URL:https://swv-sindelfingen.de/event/fit-werden-fit-bleiben-2/2029-06-01/
END:VEVENT
BEGIN:VEVENT
DTSTART;TZID=Europe/Berlin:20290604T084500
DTEND;TZID=Europe/Berlin:20290604T101500
DTSTAMP:20260426T060101
CREATED:20250221T150206Z
LAST-MODIFIED:20250221T150206Z
UID:10006889-1875257100-1875262500@swv-sindelfingen.de
SUMMARY:Nordic Walking
DESCRIPTION:
URL:https://swv-sindelfingen.de/event/nordic-walking-3/2029-06-04/
LOCATION:SWV – Vereinsheim\, Arthur-Gruber-Strasse 65\, SIndelfingen\, Deutschland\, 71065
END:VEVENT
BEGIN:VEVENT
DTSTART;TZID=Europe/Berlin:20290605T193000
DTEND;TZID=Europe/Berlin:20290605T210000
DTSTAMP:20260426T060101
CREATED:20250130T201106Z
LAST-MODIFIED:20250130T201221Z
UID:10005195-1875382200-1875387600@swv-sindelfingen.de
SUMMARY:Powergymnastik
DESCRIPTION:
URL:https://swv-sindelfingen.de/event/powergymnastikk/2029-06-05/
END:VEVENT
BEGIN:VEVENT
DTSTART;TZID=Europe/Berlin:20290606T184500
DTEND;TZID=Europe/Berlin:20290606T184500
DTSTAMP:20260426T060101
CREATED:20250131T075402Z
LAST-MODIFIED:20250131T075402Z
UID:10006594-1875465900-1875465900@swv-sindelfingen.de
SUMMARY:Trainingsbetrieb
DESCRIPTION:Mittwochabends (im Winterhalbjahr ab 18:45 Uhr)\, im Badezentrum Sindelfingen (außer in den Schulferien\, dann z.T. Ersatztraining).\nInfos: Felix Loroff
URL:https://swv-sindelfingen.de/event/trainingsbetrieb/2029-06-06/
CATEGORIES:Kanusport
END:VEVENT
BEGIN:VEVENT
DTSTART;TZID=Europe/Berlin:20290606T190000
DTEND;TZID=Europe/Berlin:20290606T211500
DTSTAMP:20260426T060101
CREATED:20250130T202848Z
LAST-MODIFIED:20250130T202848Z
UID:10005470-1875466800-1875474900@swv-sindelfingen.de
SUMMARY:Fitness nur für Frauen
DESCRIPTION:
URL:https://swv-sindelfingen.de/event/fitness-nur-fuer-frauen-2/2029-06-06/
END:VEVENT
BEGIN:VEVENT
DTSTART;TZID=Europe/Berlin:20290607T193000
DTEND;TZID=Europe/Berlin:20290607T210000
DTSTAMP:20260426T060101
CREATED:20250130T203352Z
LAST-MODIFIED:20260220T175000Z
UID:10005751-1875555000-1875560400@swv-sindelfingen.de
SUMMARY:Fitness Workout
DESCRIPTION:
URL:https://swv-sindelfingen.de/event/fitness-workout-2/2029-06-07/
LOCATION:Realschule Klstergarten
END:VEVENT
BEGIN:VEVENT
DTSTART;TZID=Europe/Berlin:20290608T080000
DTEND;TZID=Europe/Berlin:20290608T170000
DTSTAMP:20260426T060101
CREATED:20250130T204210Z
LAST-MODIFIED:20250130T204210Z
UID:10006307-1875600000-1875632400@swv-sindelfingen.de
SUMMARY:Fit werden - fit bleiben
DESCRIPTION:
URL:https://swv-sindelfingen.de/event/fit-werden-fit-bleiben-2/2029-06-08/
END:VEVENT
BEGIN:VEVENT
DTSTART;TZID=Europe/Berlin:20290611T084500
DTEND;TZID=Europe/Berlin:20290611T101500
DTSTAMP:20260426T060101
CREATED:20250221T150206Z
LAST-MODIFIED:20250221T150206Z
UID:10006890-1875861900-1875867300@swv-sindelfingen.de
SUMMARY:Nordic Walking
DESCRIPTION:
URL:https://swv-sindelfingen.de/event/nordic-walking-3/2029-06-11/
LOCATION:SWV – Vereinsheim\, Arthur-Gruber-Strasse 65\, SIndelfingen\, Deutschland\, 71065
END:VEVENT
BEGIN:VEVENT
DTSTART;TZID=Europe/Berlin:20290612T193000
DTEND;TZID=Europe/Berlin:20290612T210000
DTSTAMP:20260426T060101
CREATED:20250130T201106Z
LAST-MODIFIED:20250130T201221Z
UID:10005196-1875987000-1875992400@swv-sindelfingen.de
SUMMARY:Powergymnastik
DESCRIPTION:
URL:https://swv-sindelfingen.de/event/powergymnastikk/2029-06-12/
END:VEVENT
BEGIN:VEVENT
DTSTART;TZID=Europe/Berlin:20290613T184500
DTEND;TZID=Europe/Berlin:20290613T184500
DTSTAMP:20260426T060101
CREATED:20250131T075402Z
LAST-MODIFIED:20250131T075402Z
UID:10006595-1876070700-1876070700@swv-sindelfingen.de
SUMMARY:Trainingsbetrieb
DESCRIPTION:Mittwochabends (im Winterhalbjahr ab 18:45 Uhr)\, im Badezentrum Sindelfingen (außer in den Schulferien\, dann z.T. Ersatztraining).\nInfos: Felix Loroff
URL:https://swv-sindelfingen.de/event/trainingsbetrieb/2029-06-13/
CATEGORIES:Kanusport
END:VEVENT
BEGIN:VEVENT
DTSTART;TZID=Europe/Berlin:20290613T190000
DTEND;TZID=Europe/Berlin:20290613T211500
DTSTAMP:20260426T060101
CREATED:20250130T202848Z
LAST-MODIFIED:20250130T202848Z
UID:10005471-1876071600-1876079700@swv-sindelfingen.de
SUMMARY:Fitness nur für Frauen
DESCRIPTION:
URL:https://swv-sindelfingen.de/event/fitness-nur-fuer-frauen-2/2029-06-13/
END:VEVENT
BEGIN:VEVENT
DTSTART;TZID=Europe/Berlin:20290614T193000
DTEND;TZID=Europe/Berlin:20290614T210000
DTSTAMP:20260426T060101
CREATED:20250130T203352Z
LAST-MODIFIED:20260220T175000Z
UID:10005752-1876159800-1876165200@swv-sindelfingen.de
SUMMARY:Fitness Workout
DESCRIPTION:
URL:https://swv-sindelfingen.de/event/fitness-workout-2/2029-06-14/
LOCATION:Realschule Klstergarten
END:VEVENT
BEGIN:VEVENT
DTSTART;TZID=Europe/Berlin:20290615T080000
DTEND;TZID=Europe/Berlin:20290615T170000
DTSTAMP:20260426T060101
CREATED:20250130T204210Z
LAST-MODIFIED:20250130T204210Z
UID:10006308-1876204800-1876237200@swv-sindelfingen.de
SUMMARY:Fit werden - fit bleiben
DESCRIPTION:
URL:https://swv-sindelfingen.de/event/fit-werden-fit-bleiben-2/2029-06-15/
END:VEVENT
BEGIN:VEVENT
DTSTART;TZID=Europe/Berlin:20290618T084500
DTEND;TZID=Europe/Berlin:20290618T101500
DTSTAMP:20260426T060101
CREATED:20250221T150206Z
LAST-MODIFIED:20250221T150206Z
UID:10006891-1876466700-1876472100@swv-sindelfingen.de
SUMMARY:Nordic Walking
DESCRIPTION:
URL:https://swv-sindelfingen.de/event/nordic-walking-3/2029-06-18/
LOCATION:SWV – Vereinsheim\, Arthur-Gruber-Strasse 65\, SIndelfingen\, Deutschland\, 71065
END:VEVENT
BEGIN:VEVENT
DTSTART;TZID=Europe/Berlin:20290619T193000
DTEND;TZID=Europe/Berlin:20290619T210000
DTSTAMP:20260426T060101
CREATED:20250130T201106Z
LAST-MODIFIED:20250130T201221Z
UID:10005197-1876591800-1876597200@swv-sindelfingen.de
SUMMARY:Powergymnastik
DESCRIPTION:
URL:https://swv-sindelfingen.de/event/powergymnastikk/2029-06-19/
END:VEVENT
BEGIN:VEVENT
DTSTART;TZID=Europe/Berlin:20290620T184500
DTEND;TZID=Europe/Berlin:20290620T184500
DTSTAMP:20260426T060101
CREATED:20250131T075402Z
LAST-MODIFIED:20250131T075402Z
UID:10006596-1876675500-1876675500@swv-sindelfingen.de
SUMMARY:Trainingsbetrieb
DESCRIPTION:Mittwochabends (im Winterhalbjahr ab 18:45 Uhr)\, im Badezentrum Sindelfingen (außer in den Schulferien\, dann z.T. Ersatztraining).\nInfos: Felix Loroff
URL:https://swv-sindelfingen.de/event/trainingsbetrieb/2029-06-20/
CATEGORIES:Kanusport
END:VEVENT
BEGIN:VEVENT
DTSTART;TZID=Europe/Berlin:20290620T190000
DTEND;TZID=Europe/Berlin:20290620T211500
DTSTAMP:20260426T060101
CREATED:20250130T202848Z
LAST-MODIFIED:20250130T202848Z
UID:10005472-1876676400-1876684500@swv-sindelfingen.de
SUMMARY:Fitness nur für Frauen
DESCRIPTION:
URL:https://swv-sindelfingen.de/event/fitness-nur-fuer-frauen-2/2029-06-20/
END:VEVENT
BEGIN:VEVENT
DTSTART;TZID=Europe/Berlin:20290621T193000
DTEND;TZID=Europe/Berlin:20290621T210000
DTSTAMP:20260426T060101
CREATED:20250130T203352Z
LAST-MODIFIED:20260220T175000Z
UID:10005753-1876764600-1876770000@swv-sindelfingen.de
SUMMARY:Fitness Workout
DESCRIPTION:
URL:https://swv-sindelfingen.de/event/fitness-workout-2/2029-06-21/
LOCATION:Realschule Klstergarten
END:VEVENT
BEGIN:VEVENT
DTSTART;TZID=Europe/Berlin:20290622T080000
DTEND;TZID=Europe/Berlin:20290622T170000
DTSTAMP:20260426T060101
CREATED:20250130T204210Z
LAST-MODIFIED:20250130T204210Z
UID:10006309-1876809600-1876842000@swv-sindelfingen.de
SUMMARY:Fit werden - fit bleiben
DESCRIPTION:
URL:https://swv-sindelfingen.de/event/fit-werden-fit-bleiben-2/2029-06-22/
END:VEVENT
BEGIN:VEVENT
DTSTART;TZID=Europe/Berlin:20290625T084500
DTEND;TZID=Europe/Berlin:20290625T101500
DTSTAMP:20260426T060101
CREATED:20250221T150206Z
LAST-MODIFIED:20250221T150206Z
UID:10006892-1877071500-1877076900@swv-sindelfingen.de
SUMMARY:Nordic Walking
DESCRIPTION:
URL:https://swv-sindelfingen.de/event/nordic-walking-3/2029-06-25/
LOCATION:SWV – Vereinsheim\, Arthur-Gruber-Strasse 65\, SIndelfingen\, Deutschland\, 71065
END:VEVENT
BEGIN:VEVENT
DTSTART;TZID=Europe/Berlin:20290626T193000
DTEND;TZID=Europe/Berlin:20290626T210000
DTSTAMP:20260426T060101
CREATED:20250130T201106Z
LAST-MODIFIED:20250130T201221Z
UID:10005198-1877196600-1877202000@swv-sindelfingen.de
SUMMARY:Powergymnastik
DESCRIPTION:
URL:https://swv-sindelfingen.de/event/powergymnastikk/2029-06-26/
END:VEVENT
BEGIN:VEVENT
DTSTART;TZID=Europe/Berlin:20290627T184500
DTEND;TZID=Europe/Berlin:20290627T184500
DTSTAMP:20260426T060101
CREATED:20250131T075402Z
LAST-MODIFIED:20250131T075402Z
UID:10006597-1877280300-1877280300@swv-sindelfingen.de
SUMMARY:Trainingsbetrieb
DESCRIPTION:Mittwochabends (im Winterhalbjahr ab 18:45 Uhr)\, im Badezentrum Sindelfingen (außer in den Schulferien\, dann z.T. Ersatztraining).\nInfos: Felix Loroff
URL:https://swv-sindelfingen.de/event/trainingsbetrieb/2029-06-27/
CATEGORIES:Kanusport
END:VEVENT
BEGIN:VEVENT
DTSTART;TZID=Europe/Berlin:20290627T190000
DTEND;TZID=Europe/Berlin:20290627T211500
DTSTAMP:20260426T060101
CREATED:20250130T202848Z
LAST-MODIFIED:20250130T202848Z
UID:10005473-1877281200-1877289300@swv-sindelfingen.de
SUMMARY:Fitness nur für Frauen
DESCRIPTION:
URL:https://swv-sindelfingen.de/event/fitness-nur-fuer-frauen-2/2029-06-27/
END:VEVENT
BEGIN:VEVENT
DTSTART;TZID=Europe/Berlin:20290628T193000
DTEND;TZID=Europe/Berlin:20290628T210000
DTSTAMP:20260426T060101
CREATED:20250130T203352Z
LAST-MODIFIED:20260220T175000Z
UID:10005754-1877369400-1877374800@swv-sindelfingen.de
SUMMARY:Fitness Workout
DESCRIPTION:
URL:https://swv-sindelfingen.de/event/fitness-workout-2/2029-06-28/
LOCATION:Realschule Klstergarten
END:VEVENT
BEGIN:VEVENT
DTSTART;TZID=Europe/Berlin:20290629T080000
DTEND;TZID=Europe/Berlin:20290629T170000
DTSTAMP:20260426T060101
CREATED:20250130T204210Z
LAST-MODIFIED:20250130T204210Z
UID:10006310-1877414400-1877446800@swv-sindelfingen.de
SUMMARY:Fit werden - fit bleiben
DESCRIPTION:
URL:https://swv-sindelfingen.de/event/fit-werden-fit-bleiben-2/2029-06-29/
END:VEVENT
END:VCALENDAR