BEGIN:VCALENDAR
VERSION:2.0
PRODID:-//Schwarzwaldverein Sindelfingen e. V. - ECPv6.15.20//NONSGML v1.0//EN
CALSCALE:GREGORIAN
METHOD:PUBLISH
X-ORIGINAL-URL:https://swv-sindelfingen.de
X-WR-CALDESC:Veranstaltungen für Schwarzwaldverein Sindelfingen e. V.
REFRESH-INTERVAL;VALUE=DURATION:PT1H
X-Robots-Tag:noindex
X-PUBLISHED-TTL:PT1H
BEGIN:VTIMEZONE
TZID:Europe/Berlin
BEGIN:DAYLIGHT
TZOFFSETFROM:+0100
TZOFFSETTO:+0200
TZNAME:CEST
DTSTART:20280326T010000
END:DAYLIGHT
BEGIN:STANDARD
TZOFFSETFROM:+0200
TZOFFSETTO:+0100
TZNAME:CET
DTSTART:20281029T010000
END:STANDARD
BEGIN:DAYLIGHT
TZOFFSETFROM:+0100
TZOFFSETTO:+0200
TZNAME:CEST
DTSTART:20290325T010000
END:DAYLIGHT
BEGIN:STANDARD
TZOFFSETFROM:+0200
TZOFFSETTO:+0100
TZNAME:CET
DTSTART:20291028T010000
END:STANDARD
BEGIN:DAYLIGHT
TZOFFSETFROM:+0100
TZOFFSETTO:+0200
TZNAME:CEST
DTSTART:20300331T010000
END:DAYLIGHT
BEGIN:STANDARD
TZOFFSETFROM:+0200
TZOFFSETTO:+0100
TZNAME:CET
DTSTART:20301027T010000
END:STANDARD
END:VTIMEZONE
BEGIN:VEVENT
DTSTART;TZID=Europe/Berlin:20290402T084500
DTEND;TZID=Europe/Berlin:20290402T101500
DTSTAMP:20260426T025216
CREATED:20250221T150206Z
LAST-MODIFIED:20250221T150206Z
UID:10006880-1869813900-1869819300@swv-sindelfingen.de
SUMMARY:Nordic Walking
DESCRIPTION:
URL:https://swv-sindelfingen.de/event/nordic-walking-3/2029-04-02/
LOCATION:SWV – Vereinsheim\, Arthur-Gruber-Strasse 65\, SIndelfingen\, Deutschland\, 71065
END:VEVENT
BEGIN:VEVENT
DTSTART;TZID=Europe/Berlin:20290403T193000
DTEND;TZID=Europe/Berlin:20290403T210000
DTSTAMP:20260426T025216
CREATED:20250130T201106Z
LAST-MODIFIED:20250130T201221Z
UID:10005186-1869939000-1869944400@swv-sindelfingen.de
SUMMARY:Powergymnastik
DESCRIPTION:
URL:https://swv-sindelfingen.de/event/powergymnastikk/2029-04-03/
END:VEVENT
BEGIN:VEVENT
DTSTART;TZID=Europe/Berlin:20290404T184500
DTEND;TZID=Europe/Berlin:20290404T184500
DTSTAMP:20260426T025216
CREATED:20250131T075402Z
LAST-MODIFIED:20250131T075402Z
UID:10006585-1870022700-1870022700@swv-sindelfingen.de
SUMMARY:Trainingsbetrieb
DESCRIPTION:Mittwochabends (im Winterhalbjahr ab 18:45 Uhr)\, im Badezentrum Sindelfingen (außer in den Schulferien\, dann z.T. Ersatztraining).\nInfos: Felix Loroff
URL:https://swv-sindelfingen.de/event/trainingsbetrieb/2029-04-04/
CATEGORIES:Kanusport
END:VEVENT
BEGIN:VEVENT
DTSTART;TZID=Europe/Berlin:20290404T190000
DTEND;TZID=Europe/Berlin:20290404T211500
DTSTAMP:20260426T025216
CREATED:20250130T202848Z
LAST-MODIFIED:20250130T202848Z
UID:10005461-1870023600-1870031700@swv-sindelfingen.de
SUMMARY:Fitness nur für Frauen
DESCRIPTION:
URL:https://swv-sindelfingen.de/event/fitness-nur-fuer-frauen-2/2029-04-04/
END:VEVENT
BEGIN:VEVENT
DTSTART;TZID=Europe/Berlin:20290405T193000
DTEND;TZID=Europe/Berlin:20290405T210000
DTSTAMP:20260426T025216
CREATED:20250130T203352Z
LAST-MODIFIED:20260220T175000Z
UID:10005742-1870111800-1870117200@swv-sindelfingen.de
SUMMARY:Fitness Workout
DESCRIPTION:
URL:https://swv-sindelfingen.de/event/fitness-workout-2/2029-04-05/
LOCATION:Realschule Klstergarten
END:VEVENT
BEGIN:VEVENT
DTSTART;TZID=Europe/Berlin:20290406T080000
DTEND;TZID=Europe/Berlin:20290406T170000
DTSTAMP:20260426T025216
CREATED:20250130T204210Z
LAST-MODIFIED:20250130T204210Z
UID:10006298-1870156800-1870189200@swv-sindelfingen.de
SUMMARY:Fit werden - fit bleiben
DESCRIPTION:
URL:https://swv-sindelfingen.de/event/fit-werden-fit-bleiben-2/2029-04-06/
END:VEVENT
BEGIN:VEVENT
DTSTART;TZID=Europe/Berlin:20290409T084500
DTEND;TZID=Europe/Berlin:20290409T101500
DTSTAMP:20260426T025216
CREATED:20250221T150206Z
LAST-MODIFIED:20250221T150206Z
UID:10006881-1870418700-1870424100@swv-sindelfingen.de
SUMMARY:Nordic Walking
DESCRIPTION:
URL:https://swv-sindelfingen.de/event/nordic-walking-3/2029-04-09/
LOCATION:SWV – Vereinsheim\, Arthur-Gruber-Strasse 65\, SIndelfingen\, Deutschland\, 71065
END:VEVENT
BEGIN:VEVENT
DTSTART;TZID=Europe/Berlin:20290410T193000
DTEND;TZID=Europe/Berlin:20290410T210000
DTSTAMP:20260426T025216
CREATED:20250130T201106Z
LAST-MODIFIED:20250130T201221Z
UID:10005187-1870543800-1870549200@swv-sindelfingen.de
SUMMARY:Powergymnastik
DESCRIPTION:
URL:https://swv-sindelfingen.de/event/powergymnastikk/2029-04-10/
END:VEVENT
BEGIN:VEVENT
DTSTART;TZID=Europe/Berlin:20290411T184500
DTEND;TZID=Europe/Berlin:20290411T184500
DTSTAMP:20260426T025216
CREATED:20250131T075402Z
LAST-MODIFIED:20250131T075402Z
UID:10006586-1870627500-1870627500@swv-sindelfingen.de
SUMMARY:Trainingsbetrieb
DESCRIPTION:Mittwochabends (im Winterhalbjahr ab 18:45 Uhr)\, im Badezentrum Sindelfingen (außer in den Schulferien\, dann z.T. Ersatztraining).\nInfos: Felix Loroff
URL:https://swv-sindelfingen.de/event/trainingsbetrieb/2029-04-11/
CATEGORIES:Kanusport
END:VEVENT
BEGIN:VEVENT
DTSTART;TZID=Europe/Berlin:20290411T190000
DTEND;TZID=Europe/Berlin:20290411T211500
DTSTAMP:20260426T025216
CREATED:20250130T202848Z
LAST-MODIFIED:20250130T202848Z
UID:10005462-1870628400-1870636500@swv-sindelfingen.de
SUMMARY:Fitness nur für Frauen
DESCRIPTION:
URL:https://swv-sindelfingen.de/event/fitness-nur-fuer-frauen-2/2029-04-11/
END:VEVENT
BEGIN:VEVENT
DTSTART;TZID=Europe/Berlin:20290412T193000
DTEND;TZID=Europe/Berlin:20290412T210000
DTSTAMP:20260426T025216
CREATED:20250130T203352Z
LAST-MODIFIED:20260220T175000Z
UID:10005743-1870716600-1870722000@swv-sindelfingen.de
SUMMARY:Fitness Workout
DESCRIPTION:
URL:https://swv-sindelfingen.de/event/fitness-workout-2/2029-04-12/
LOCATION:Realschule Klstergarten
END:VEVENT
BEGIN:VEVENT
DTSTART;TZID=Europe/Berlin:20290413T080000
DTEND;TZID=Europe/Berlin:20290413T170000
DTSTAMP:20260426T025216
CREATED:20250130T204210Z
LAST-MODIFIED:20250130T204210Z
UID:10006299-1870761600-1870794000@swv-sindelfingen.de
SUMMARY:Fit werden - fit bleiben
DESCRIPTION:
URL:https://swv-sindelfingen.de/event/fit-werden-fit-bleiben-2/2029-04-13/
END:VEVENT
BEGIN:VEVENT
DTSTART;TZID=Europe/Berlin:20290416T084500
DTEND;TZID=Europe/Berlin:20290416T101500
DTSTAMP:20260426T025216
CREATED:20250221T150206Z
LAST-MODIFIED:20250221T150206Z
UID:10006882-1871023500-1871028900@swv-sindelfingen.de
SUMMARY:Nordic Walking
DESCRIPTION:
URL:https://swv-sindelfingen.de/event/nordic-walking-3/2029-04-16/
LOCATION:SWV – Vereinsheim\, Arthur-Gruber-Strasse 65\, SIndelfingen\, Deutschland\, 71065
END:VEVENT
BEGIN:VEVENT
DTSTART;TZID=Europe/Berlin:20290417T193000
DTEND;TZID=Europe/Berlin:20290417T210000
DTSTAMP:20260426T025216
CREATED:20250130T201106Z
LAST-MODIFIED:20250130T201221Z
UID:10005188-1871148600-1871154000@swv-sindelfingen.de
SUMMARY:Powergymnastik
DESCRIPTION:
URL:https://swv-sindelfingen.de/event/powergymnastikk/2029-04-17/
END:VEVENT
BEGIN:VEVENT
DTSTART;TZID=Europe/Berlin:20290418T184500
DTEND;TZID=Europe/Berlin:20290418T184500
DTSTAMP:20260426T025216
CREATED:20250131T075402Z
LAST-MODIFIED:20250131T075402Z
UID:10006587-1871232300-1871232300@swv-sindelfingen.de
SUMMARY:Trainingsbetrieb
DESCRIPTION:Mittwochabends (im Winterhalbjahr ab 18:45 Uhr)\, im Badezentrum Sindelfingen (außer in den Schulferien\, dann z.T. Ersatztraining).\nInfos: Felix Loroff
URL:https://swv-sindelfingen.de/event/trainingsbetrieb/2029-04-18/
CATEGORIES:Kanusport
END:VEVENT
BEGIN:VEVENT
DTSTART;TZID=Europe/Berlin:20290418T190000
DTEND;TZID=Europe/Berlin:20290418T211500
DTSTAMP:20260426T025216
CREATED:20250130T202848Z
LAST-MODIFIED:20250130T202848Z
UID:10005463-1871233200-1871241300@swv-sindelfingen.de
SUMMARY:Fitness nur für Frauen
DESCRIPTION:
URL:https://swv-sindelfingen.de/event/fitness-nur-fuer-frauen-2/2029-04-18/
END:VEVENT
BEGIN:VEVENT
DTSTART;TZID=Europe/Berlin:20290419T193000
DTEND;TZID=Europe/Berlin:20290419T210000
DTSTAMP:20260426T025216
CREATED:20250130T203352Z
LAST-MODIFIED:20260220T175000Z
UID:10005744-1871321400-1871326800@swv-sindelfingen.de
SUMMARY:Fitness Workout
DESCRIPTION:
URL:https://swv-sindelfingen.de/event/fitness-workout-2/2029-04-19/
LOCATION:Realschule Klstergarten
END:VEVENT
BEGIN:VEVENT
DTSTART;TZID=Europe/Berlin:20290420T080000
DTEND;TZID=Europe/Berlin:20290420T170000
DTSTAMP:20260426T025216
CREATED:20250130T204210Z
LAST-MODIFIED:20250130T204210Z
UID:10006300-1871366400-1871398800@swv-sindelfingen.de
SUMMARY:Fit werden - fit bleiben
DESCRIPTION:
URL:https://swv-sindelfingen.de/event/fit-werden-fit-bleiben-2/2029-04-20/
END:VEVENT
BEGIN:VEVENT
DTSTART;TZID=Europe/Berlin:20290423T084500
DTEND;TZID=Europe/Berlin:20290423T101500
DTSTAMP:20260426T025216
CREATED:20250221T150206Z
LAST-MODIFIED:20250221T150206Z
UID:10006883-1871628300-1871633700@swv-sindelfingen.de
SUMMARY:Nordic Walking
DESCRIPTION:
URL:https://swv-sindelfingen.de/event/nordic-walking-3/2029-04-23/
LOCATION:SWV – Vereinsheim\, Arthur-Gruber-Strasse 65\, SIndelfingen\, Deutschland\, 71065
END:VEVENT
BEGIN:VEVENT
DTSTART;TZID=Europe/Berlin:20290424T193000
DTEND;TZID=Europe/Berlin:20290424T210000
DTSTAMP:20260426T025216
CREATED:20250130T201106Z
LAST-MODIFIED:20250130T201221Z
UID:10005189-1871753400-1871758800@swv-sindelfingen.de
SUMMARY:Powergymnastik
DESCRIPTION:
URL:https://swv-sindelfingen.de/event/powergymnastikk/2029-04-24/
END:VEVENT
BEGIN:VEVENT
DTSTART;TZID=Europe/Berlin:20290425T184500
DTEND;TZID=Europe/Berlin:20290425T184500
DTSTAMP:20260426T025216
CREATED:20250131T075402Z
LAST-MODIFIED:20250131T075402Z
UID:10006588-1871837100-1871837100@swv-sindelfingen.de
SUMMARY:Trainingsbetrieb
DESCRIPTION:Mittwochabends (im Winterhalbjahr ab 18:45 Uhr)\, im Badezentrum Sindelfingen (außer in den Schulferien\, dann z.T. Ersatztraining).\nInfos: Felix Loroff
URL:https://swv-sindelfingen.de/event/trainingsbetrieb/2029-04-25/
CATEGORIES:Kanusport
END:VEVENT
BEGIN:VEVENT
DTSTART;TZID=Europe/Berlin:20290425T190000
DTEND;TZID=Europe/Berlin:20290425T211500
DTSTAMP:20260426T025216
CREATED:20250130T202848Z
LAST-MODIFIED:20250130T202848Z
UID:10005464-1871838000-1871846100@swv-sindelfingen.de
SUMMARY:Fitness nur für Frauen
DESCRIPTION:
URL:https://swv-sindelfingen.de/event/fitness-nur-fuer-frauen-2/2029-04-25/
END:VEVENT
BEGIN:VEVENT
DTSTART;TZID=Europe/Berlin:20290426T193000
DTEND;TZID=Europe/Berlin:20290426T210000
DTSTAMP:20260426T025216
CREATED:20250130T203352Z
LAST-MODIFIED:20260220T175000Z
UID:10005745-1871926200-1871931600@swv-sindelfingen.de
SUMMARY:Fitness Workout
DESCRIPTION:
URL:https://swv-sindelfingen.de/event/fitness-workout-2/2029-04-26/
LOCATION:Realschule Klstergarten
END:VEVENT
BEGIN:VEVENT
DTSTART;TZID=Europe/Berlin:20290427T080000
DTEND;TZID=Europe/Berlin:20290427T170000
DTSTAMP:20260426T025216
CREATED:20250130T204210Z
LAST-MODIFIED:20250130T204210Z
UID:10006301-1871971200-1872003600@swv-sindelfingen.de
SUMMARY:Fit werden - fit bleiben
DESCRIPTION:
URL:https://swv-sindelfingen.de/event/fit-werden-fit-bleiben-2/2029-04-27/
END:VEVENT
BEGIN:VEVENT
DTSTART;TZID=Europe/Berlin:20290430T084500
DTEND;TZID=Europe/Berlin:20290430T101500
DTSTAMP:20260426T025216
CREATED:20250221T150206Z
LAST-MODIFIED:20250221T150206Z
UID:10006884-1872233100-1872238500@swv-sindelfingen.de
SUMMARY:Nordic Walking
DESCRIPTION:
URL:https://swv-sindelfingen.de/event/nordic-walking-3/2029-04-30/
LOCATION:SWV – Vereinsheim\, Arthur-Gruber-Strasse 65\, SIndelfingen\, Deutschland\, 71065
END:VEVENT
END:VCALENDAR