BEGIN:VCALENDAR
VERSION:2.0
PRODID:-//Schwarzwaldverein Sindelfingen e. V. - ECPv6.15.20//NONSGML v1.0//EN
CALSCALE:GREGORIAN
METHOD:PUBLISH
X-ORIGINAL-URL:https://swv-sindelfingen.de
X-WR-CALDESC:Veranstaltungen für Schwarzwaldverein Sindelfingen e. V.
REFRESH-INTERVAL;VALUE=DURATION:PT1H
X-Robots-Tag:noindex
X-PUBLISHED-TTL:PT1H
BEGIN:VTIMEZONE
TZID:Europe/Berlin
BEGIN:DAYLIGHT
TZOFFSETFROM:+0100
TZOFFSETTO:+0200
TZNAME:CEST
DTSTART:20280326T010000
END:DAYLIGHT
BEGIN:STANDARD
TZOFFSETFROM:+0200
TZOFFSETTO:+0100
TZNAME:CET
DTSTART:20281029T010000
END:STANDARD
BEGIN:DAYLIGHT
TZOFFSETFROM:+0100
TZOFFSETTO:+0200
TZNAME:CEST
DTSTART:20290325T010000
END:DAYLIGHT
BEGIN:STANDARD
TZOFFSETFROM:+0200
TZOFFSETTO:+0100
TZNAME:CET
DTSTART:20291028T010000
END:STANDARD
BEGIN:DAYLIGHT
TZOFFSETFROM:+0100
TZOFFSETTO:+0200
TZNAME:CEST
DTSTART:20300331T010000
END:DAYLIGHT
BEGIN:STANDARD
TZOFFSETFROM:+0200
TZOFFSETTO:+0100
TZNAME:CET
DTSTART:20301027T010000
END:STANDARD
END:VTIMEZONE
BEGIN:VEVENT
DTSTART;TZID=Europe/Berlin:20290201T193000
DTEND;TZID=Europe/Berlin:20290201T210000
DTSTAMP:20260425T144312
CREATED:20250130T203352Z
LAST-MODIFIED:20260220T175000Z
UID:10005733-1864668600-1864674000@swv-sindelfingen.de
SUMMARY:Fitness Workout
DESCRIPTION:
URL:https://swv-sindelfingen.de/event/fitness-workout-2/2029-02-01/
LOCATION:Realschule Klstergarten
END:VEVENT
BEGIN:VEVENT
DTSTART;TZID=Europe/Berlin:20290202T080000
DTEND;TZID=Europe/Berlin:20290202T170000
DTSTAMP:20260425T144312
CREATED:20250130T204210Z
LAST-MODIFIED:20250130T204210Z
UID:10006289-1864713600-1864746000@swv-sindelfingen.de
SUMMARY:Fit werden - fit bleiben
DESCRIPTION:
URL:https://swv-sindelfingen.de/event/fit-werden-fit-bleiben-2/2029-02-02/
END:VEVENT
BEGIN:VEVENT
DTSTART;TZID=Europe/Berlin:20290205T084500
DTEND;TZID=Europe/Berlin:20290205T101500
DTSTAMP:20260425T144312
CREATED:20250221T150206Z
LAST-MODIFIED:20250221T150206Z
UID:10006872-1864975500-1864980900@swv-sindelfingen.de
SUMMARY:Nordic Walking
DESCRIPTION:
URL:https://swv-sindelfingen.de/event/nordic-walking-3/2029-02-05/
LOCATION:SWV – Vereinsheim\, Arthur-Gruber-Strasse 65\, SIndelfingen\, Deutschland\, 71065
END:VEVENT
BEGIN:VEVENT
DTSTART;TZID=Europe/Berlin:20290206T193000
DTEND;TZID=Europe/Berlin:20290206T210000
DTSTAMP:20260425T144312
CREATED:20250130T201106Z
LAST-MODIFIED:20250130T201221Z
UID:10005178-1865100600-1865106000@swv-sindelfingen.de
SUMMARY:Powergymnastik
DESCRIPTION:
URL:https://swv-sindelfingen.de/event/powergymnastikk/2029-02-06/
END:VEVENT
BEGIN:VEVENT
DTSTART;TZID=Europe/Berlin:20290207T184500
DTEND;TZID=Europe/Berlin:20290207T184500
DTSTAMP:20260425T144312
CREATED:20250131T075402Z
LAST-MODIFIED:20250131T075402Z
UID:10006577-1865184300-1865184300@swv-sindelfingen.de
SUMMARY:Trainingsbetrieb
DESCRIPTION:Mittwochabends (im Winterhalbjahr ab 18:45 Uhr)\, im Badezentrum Sindelfingen (außer in den Schulferien\, dann z.T. Ersatztraining).\nInfos: Felix Loroff
URL:https://swv-sindelfingen.de/event/trainingsbetrieb/2029-02-07/
CATEGORIES:Kanusport
END:VEVENT
BEGIN:VEVENT
DTSTART;TZID=Europe/Berlin:20290207T190000
DTEND;TZID=Europe/Berlin:20290207T211500
DTSTAMP:20260425T144312
CREATED:20250130T202848Z
LAST-MODIFIED:20250130T202848Z
UID:10005453-1865185200-1865193300@swv-sindelfingen.de
SUMMARY:Fitness nur für Frauen
DESCRIPTION:
URL:https://swv-sindelfingen.de/event/fitness-nur-fuer-frauen-2/2029-02-07/
END:VEVENT
BEGIN:VEVENT
DTSTART;TZID=Europe/Berlin:20290208T193000
DTEND;TZID=Europe/Berlin:20290208T210000
DTSTAMP:20260425T144312
CREATED:20250130T203352Z
LAST-MODIFIED:20260220T175000Z
UID:10005734-1865273400-1865278800@swv-sindelfingen.de
SUMMARY:Fitness Workout
DESCRIPTION:
URL:https://swv-sindelfingen.de/event/fitness-workout-2/2029-02-08/
LOCATION:Realschule Klstergarten
END:VEVENT
BEGIN:VEVENT
DTSTART;TZID=Europe/Berlin:20290209T080000
DTEND;TZID=Europe/Berlin:20290209T170000
DTSTAMP:20260425T144312
CREATED:20250130T204210Z
LAST-MODIFIED:20250130T204210Z
UID:10006290-1865318400-1865350800@swv-sindelfingen.de
SUMMARY:Fit werden - fit bleiben
DESCRIPTION:
URL:https://swv-sindelfingen.de/event/fit-werden-fit-bleiben-2/2029-02-09/
END:VEVENT
BEGIN:VEVENT
DTSTART;TZID=Europe/Berlin:20290212T084500
DTEND;TZID=Europe/Berlin:20290212T101500
DTSTAMP:20260425T144312
CREATED:20250221T150206Z
LAST-MODIFIED:20250221T150206Z
UID:10006873-1865580300-1865585700@swv-sindelfingen.de
SUMMARY:Nordic Walking
DESCRIPTION:
URL:https://swv-sindelfingen.de/event/nordic-walking-3/2029-02-12/
LOCATION:SWV – Vereinsheim\, Arthur-Gruber-Strasse 65\, SIndelfingen\, Deutschland\, 71065
END:VEVENT
BEGIN:VEVENT
DTSTART;TZID=Europe/Berlin:20290213T193000
DTEND;TZID=Europe/Berlin:20290213T210000
DTSTAMP:20260425T144312
CREATED:20250130T201106Z
LAST-MODIFIED:20250130T201221Z
UID:10005179-1865705400-1865710800@swv-sindelfingen.de
SUMMARY:Powergymnastik
DESCRIPTION:
URL:https://swv-sindelfingen.de/event/powergymnastikk/2029-02-13/
END:VEVENT
BEGIN:VEVENT
DTSTART;TZID=Europe/Berlin:20290214T184500
DTEND;TZID=Europe/Berlin:20290214T184500
DTSTAMP:20260425T144312
CREATED:20250131T075402Z
LAST-MODIFIED:20250131T075402Z
UID:10006578-1865789100-1865789100@swv-sindelfingen.de
SUMMARY:Trainingsbetrieb
DESCRIPTION:Mittwochabends (im Winterhalbjahr ab 18:45 Uhr)\, im Badezentrum Sindelfingen (außer in den Schulferien\, dann z.T. Ersatztraining).\nInfos: Felix Loroff
URL:https://swv-sindelfingen.de/event/trainingsbetrieb/2029-02-14/
CATEGORIES:Kanusport
END:VEVENT
BEGIN:VEVENT
DTSTART;TZID=Europe/Berlin:20290214T190000
DTEND;TZID=Europe/Berlin:20290214T211500
DTSTAMP:20260425T144312
CREATED:20250130T202848Z
LAST-MODIFIED:20250130T202848Z
UID:10005454-1865790000-1865798100@swv-sindelfingen.de
SUMMARY:Fitness nur für Frauen
DESCRIPTION:
URL:https://swv-sindelfingen.de/event/fitness-nur-fuer-frauen-2/2029-02-14/
END:VEVENT
BEGIN:VEVENT
DTSTART;TZID=Europe/Berlin:20290215T193000
DTEND;TZID=Europe/Berlin:20290215T210000
DTSTAMP:20260425T144312
CREATED:20250130T203352Z
LAST-MODIFIED:20260220T175000Z
UID:10005735-1865878200-1865883600@swv-sindelfingen.de
SUMMARY:Fitness Workout
DESCRIPTION:
URL:https://swv-sindelfingen.de/event/fitness-workout-2/2029-02-15/
LOCATION:Realschule Klstergarten
END:VEVENT
BEGIN:VEVENT
DTSTART;TZID=Europe/Berlin:20290216T080000
DTEND;TZID=Europe/Berlin:20290216T170000
DTSTAMP:20260425T144312
CREATED:20250130T204210Z
LAST-MODIFIED:20250130T204210Z
UID:10006291-1865923200-1865955600@swv-sindelfingen.de
SUMMARY:Fit werden - fit bleiben
DESCRIPTION:
URL:https://swv-sindelfingen.de/event/fit-werden-fit-bleiben-2/2029-02-16/
END:VEVENT
BEGIN:VEVENT
DTSTART;TZID=Europe/Berlin:20290219T084500
DTEND;TZID=Europe/Berlin:20290219T101500
DTSTAMP:20260425T144312
CREATED:20250221T150206Z
LAST-MODIFIED:20250221T150206Z
UID:10006874-1866185100-1866190500@swv-sindelfingen.de
SUMMARY:Nordic Walking
DESCRIPTION:
URL:https://swv-sindelfingen.de/event/nordic-walking-3/2029-02-19/
LOCATION:SWV – Vereinsheim\, Arthur-Gruber-Strasse 65\, SIndelfingen\, Deutschland\, 71065
END:VEVENT
BEGIN:VEVENT
DTSTART;TZID=Europe/Berlin:20290220T193000
DTEND;TZID=Europe/Berlin:20290220T210000
DTSTAMP:20260425T144312
CREATED:20250130T201106Z
LAST-MODIFIED:20250130T201221Z
UID:10005180-1866310200-1866315600@swv-sindelfingen.de
SUMMARY:Powergymnastik
DESCRIPTION:
URL:https://swv-sindelfingen.de/event/powergymnastikk/2029-02-20/
END:VEVENT
BEGIN:VEVENT
DTSTART;TZID=Europe/Berlin:20290221T184500
DTEND;TZID=Europe/Berlin:20290221T184500
DTSTAMP:20260425T144312
CREATED:20250131T075402Z
LAST-MODIFIED:20250131T075402Z
UID:10006579-1866393900-1866393900@swv-sindelfingen.de
SUMMARY:Trainingsbetrieb
DESCRIPTION:Mittwochabends (im Winterhalbjahr ab 18:45 Uhr)\, im Badezentrum Sindelfingen (außer in den Schulferien\, dann z.T. Ersatztraining).\nInfos: Felix Loroff
URL:https://swv-sindelfingen.de/event/trainingsbetrieb/2029-02-21/
CATEGORIES:Kanusport
END:VEVENT
BEGIN:VEVENT
DTSTART;TZID=Europe/Berlin:20290221T190000
DTEND;TZID=Europe/Berlin:20290221T211500
DTSTAMP:20260425T144312
CREATED:20250130T202848Z
LAST-MODIFIED:20250130T202848Z
UID:10005455-1866394800-1866402900@swv-sindelfingen.de
SUMMARY:Fitness nur für Frauen
DESCRIPTION:
URL:https://swv-sindelfingen.de/event/fitness-nur-fuer-frauen-2/2029-02-21/
END:VEVENT
BEGIN:VEVENT
DTSTART;TZID=Europe/Berlin:20290222T193000
DTEND;TZID=Europe/Berlin:20290222T210000
DTSTAMP:20260425T144312
CREATED:20250130T203352Z
LAST-MODIFIED:20260220T175000Z
UID:10005736-1866483000-1866488400@swv-sindelfingen.de
SUMMARY:Fitness Workout
DESCRIPTION:
URL:https://swv-sindelfingen.de/event/fitness-workout-2/2029-02-22/
LOCATION:Realschule Klstergarten
END:VEVENT
BEGIN:VEVENT
DTSTART;TZID=Europe/Berlin:20290223T080000
DTEND;TZID=Europe/Berlin:20290223T170000
DTSTAMP:20260425T144312
CREATED:20250130T204210Z
LAST-MODIFIED:20250130T204210Z
UID:10006292-1866528000-1866560400@swv-sindelfingen.de
SUMMARY:Fit werden - fit bleiben
DESCRIPTION:
URL:https://swv-sindelfingen.de/event/fit-werden-fit-bleiben-2/2029-02-23/
END:VEVENT
BEGIN:VEVENT
DTSTART;TZID=Europe/Berlin:20290226T084500
DTEND;TZID=Europe/Berlin:20290226T101500
DTSTAMP:20260425T144312
CREATED:20250221T150206Z
LAST-MODIFIED:20250221T150206Z
UID:10006875-1866789900-1866795300@swv-sindelfingen.de
SUMMARY:Nordic Walking
DESCRIPTION:
URL:https://swv-sindelfingen.de/event/nordic-walking-3/2029-02-26/
LOCATION:SWV – Vereinsheim\, Arthur-Gruber-Strasse 65\, SIndelfingen\, Deutschland\, 71065
END:VEVENT
BEGIN:VEVENT
DTSTART;TZID=Europe/Berlin:20290227T193000
DTEND;TZID=Europe/Berlin:20290227T210000
DTSTAMP:20260425T144312
CREATED:20250130T201106Z
LAST-MODIFIED:20250130T201221Z
UID:10005181-1866915000-1866920400@swv-sindelfingen.de
SUMMARY:Powergymnastik
DESCRIPTION:
URL:https://swv-sindelfingen.de/event/powergymnastikk/2029-02-27/
END:VEVENT
BEGIN:VEVENT
DTSTART;TZID=Europe/Berlin:20290228T184500
DTEND;TZID=Europe/Berlin:20290228T184500
DTSTAMP:20260425T144312
CREATED:20250131T075402Z
LAST-MODIFIED:20250131T075402Z
UID:10006580-1866998700-1866998700@swv-sindelfingen.de
SUMMARY:Trainingsbetrieb
DESCRIPTION:Mittwochabends (im Winterhalbjahr ab 18:45 Uhr)\, im Badezentrum Sindelfingen (außer in den Schulferien\, dann z.T. Ersatztraining).\nInfos: Felix Loroff
URL:https://swv-sindelfingen.de/event/trainingsbetrieb/2029-02-28/
CATEGORIES:Kanusport
END:VEVENT
BEGIN:VEVENT
DTSTART;TZID=Europe/Berlin:20290228T190000
DTEND;TZID=Europe/Berlin:20290228T211500
DTSTAMP:20260425T144312
CREATED:20250130T202848Z
LAST-MODIFIED:20250130T202848Z
UID:10005456-1866999600-1867007700@swv-sindelfingen.de
SUMMARY:Fitness nur für Frauen
DESCRIPTION:
URL:https://swv-sindelfingen.de/event/fitness-nur-fuer-frauen-2/2029-02-28/
END:VEVENT
END:VCALENDAR