BEGIN:VCALENDAR
VERSION:2.0
PRODID:-//Schwarzwaldverein Sindelfingen e. V. - ECPv6.15.20//NONSGML v1.0//EN
CALSCALE:GREGORIAN
METHOD:PUBLISH
X-ORIGINAL-URL:https://swv-sindelfingen.de
X-WR-CALDESC:Veranstaltungen für Schwarzwaldverein Sindelfingen e. V.
REFRESH-INTERVAL;VALUE=DURATION:PT1H
X-Robots-Tag:noindex
X-PUBLISHED-TTL:PT1H
BEGIN:VTIMEZONE
TZID:Europe/Berlin
BEGIN:DAYLIGHT
TZOFFSETFROM:+0100
TZOFFSETTO:+0200
TZNAME:CEST
DTSTART:20270328T010000
END:DAYLIGHT
BEGIN:STANDARD
TZOFFSETFROM:+0200
TZOFFSETTO:+0100
TZNAME:CET
DTSTART:20271031T010000
END:STANDARD
BEGIN:DAYLIGHT
TZOFFSETFROM:+0100
TZOFFSETTO:+0200
TZNAME:CEST
DTSTART:20280326T010000
END:DAYLIGHT
BEGIN:STANDARD
TZOFFSETFROM:+0200
TZOFFSETTO:+0100
TZNAME:CET
DTSTART:20281029T010000
END:STANDARD
BEGIN:DAYLIGHT
TZOFFSETFROM:+0100
TZOFFSETTO:+0200
TZNAME:CEST
DTSTART:20290325T010000
END:DAYLIGHT
BEGIN:STANDARD
TZOFFSETFROM:+0200
TZOFFSETTO:+0100
TZNAME:CET
DTSTART:20291028T010000
END:STANDARD
END:VTIMEZONE
BEGIN:VEVENT
DTSTART;TZID=Europe/Berlin:20281002T084500
DTEND;TZID=Europe/Berlin:20281002T101500
DTSTAMP:20260425T062754
CREATED:20250221T150206Z
LAST-MODIFIED:20250221T150206Z
UID:10006854-1854089100-1854094500@swv-sindelfingen.de
SUMMARY:Nordic Walking
DESCRIPTION:
URL:https://swv-sindelfingen.de/event/nordic-walking-3/2028-10-02/
LOCATION:SWV – Vereinsheim\, Arthur-Gruber-Strasse 65\, SIndelfingen\, Deutschland\, 71065
END:VEVENT
BEGIN:VEVENT
DTSTART;TZID=Europe/Berlin:20281003T193000
DTEND;TZID=Europe/Berlin:20281003T210000
DTSTAMP:20260425T062754
CREATED:20250130T201106Z
LAST-MODIFIED:20250130T201221Z
UID:10005160-1854214200-1854219600@swv-sindelfingen.de
SUMMARY:Powergymnastik
DESCRIPTION:
URL:https://swv-sindelfingen.de/event/powergymnastikk/2028-10-03/
END:VEVENT
BEGIN:VEVENT
DTSTART;TZID=Europe/Berlin:20281004T184500
DTEND;TZID=Europe/Berlin:20281004T184500
DTSTAMP:20260425T062754
CREATED:20250131T075402Z
LAST-MODIFIED:20250131T075402Z
UID:10006559-1854297900-1854297900@swv-sindelfingen.de
SUMMARY:Trainingsbetrieb
DESCRIPTION:Mittwochabends (im Winterhalbjahr ab 18:45 Uhr)\, im Badezentrum Sindelfingen (außer in den Schulferien\, dann z.T. Ersatztraining).\nInfos: Felix Loroff
URL:https://swv-sindelfingen.de/event/trainingsbetrieb/2028-10-04/
CATEGORIES:Kanusport
END:VEVENT
BEGIN:VEVENT
DTSTART;TZID=Europe/Berlin:20281004T190000
DTEND;TZID=Europe/Berlin:20281004T211500
DTSTAMP:20260425T062754
CREATED:20250130T202848Z
LAST-MODIFIED:20250130T202848Z
UID:10005435-1854298800-1854306900@swv-sindelfingen.de
SUMMARY:Fitness nur für Frauen
DESCRIPTION:
URL:https://swv-sindelfingen.de/event/fitness-nur-fuer-frauen-2/2028-10-04/
END:VEVENT
BEGIN:VEVENT
DTSTART;TZID=Europe/Berlin:20281005T193000
DTEND;TZID=Europe/Berlin:20281005T210000
DTSTAMP:20260425T062754
CREATED:20250130T203352Z
LAST-MODIFIED:20260220T175000Z
UID:10005716-1854387000-1854392400@swv-sindelfingen.de
SUMMARY:Fitness Workout
DESCRIPTION:
URL:https://swv-sindelfingen.de/event/fitness-workout-2/2028-10-05/
LOCATION:Realschule Klstergarten
END:VEVENT
BEGIN:VEVENT
DTSTART;TZID=Europe/Berlin:20281006T080000
DTEND;TZID=Europe/Berlin:20281006T170000
DTSTAMP:20260425T062754
CREATED:20250130T204210Z
LAST-MODIFIED:20250130T204210Z
UID:10006272-1854432000-1854464400@swv-sindelfingen.de
SUMMARY:Fit werden - fit bleiben
DESCRIPTION:
URL:https://swv-sindelfingen.de/event/fit-werden-fit-bleiben-2/2028-10-06/
END:VEVENT
BEGIN:VEVENT
DTSTART;TZID=Europe/Berlin:20281009T084500
DTEND;TZID=Europe/Berlin:20281009T101500
DTSTAMP:20260425T062754
CREATED:20250221T150206Z
LAST-MODIFIED:20250221T150206Z
UID:10006855-1854693900-1854699300@swv-sindelfingen.de
SUMMARY:Nordic Walking
DESCRIPTION:
URL:https://swv-sindelfingen.de/event/nordic-walking-3/2028-10-09/
LOCATION:SWV – Vereinsheim\, Arthur-Gruber-Strasse 65\, SIndelfingen\, Deutschland\, 71065
END:VEVENT
BEGIN:VEVENT
DTSTART;TZID=Europe/Berlin:20281010T193000
DTEND;TZID=Europe/Berlin:20281010T210000
DTSTAMP:20260425T062754
CREATED:20250130T201106Z
LAST-MODIFIED:20250130T201221Z
UID:10005161-1854819000-1854824400@swv-sindelfingen.de
SUMMARY:Powergymnastik
DESCRIPTION:
URL:https://swv-sindelfingen.de/event/powergymnastikk/2028-10-10/
END:VEVENT
BEGIN:VEVENT
DTSTART;TZID=Europe/Berlin:20281011T184500
DTEND;TZID=Europe/Berlin:20281011T184500
DTSTAMP:20260425T062754
CREATED:20250131T075402Z
LAST-MODIFIED:20250131T075402Z
UID:10006560-1854902700-1854902700@swv-sindelfingen.de
SUMMARY:Trainingsbetrieb
DESCRIPTION:Mittwochabends (im Winterhalbjahr ab 18:45 Uhr)\, im Badezentrum Sindelfingen (außer in den Schulferien\, dann z.T. Ersatztraining).\nInfos: Felix Loroff
URL:https://swv-sindelfingen.de/event/trainingsbetrieb/2028-10-11/
CATEGORIES:Kanusport
END:VEVENT
BEGIN:VEVENT
DTSTART;TZID=Europe/Berlin:20281011T190000
DTEND;TZID=Europe/Berlin:20281011T211500
DTSTAMP:20260425T062754
CREATED:20250130T202848Z
LAST-MODIFIED:20250130T202848Z
UID:10005436-1854903600-1854911700@swv-sindelfingen.de
SUMMARY:Fitness nur für Frauen
DESCRIPTION:
URL:https://swv-sindelfingen.de/event/fitness-nur-fuer-frauen-2/2028-10-11/
END:VEVENT
BEGIN:VEVENT
DTSTART;TZID=Europe/Berlin:20281012T193000
DTEND;TZID=Europe/Berlin:20281012T210000
DTSTAMP:20260425T062754
CREATED:20250130T203352Z
LAST-MODIFIED:20260220T175000Z
UID:10005717-1854991800-1854997200@swv-sindelfingen.de
SUMMARY:Fitness Workout
DESCRIPTION:
URL:https://swv-sindelfingen.de/event/fitness-workout-2/2028-10-12/
LOCATION:Realschule Klstergarten
END:VEVENT
BEGIN:VEVENT
DTSTART;TZID=Europe/Berlin:20281013T080000
DTEND;TZID=Europe/Berlin:20281013T170000
DTSTAMP:20260425T062754
CREATED:20250130T204210Z
LAST-MODIFIED:20250130T204210Z
UID:10006273-1855036800-1855069200@swv-sindelfingen.de
SUMMARY:Fit werden - fit bleiben
DESCRIPTION:
URL:https://swv-sindelfingen.de/event/fit-werden-fit-bleiben-2/2028-10-13/
END:VEVENT
BEGIN:VEVENT
DTSTART;TZID=Europe/Berlin:20281016T084500
DTEND;TZID=Europe/Berlin:20281016T101500
DTSTAMP:20260425T062754
CREATED:20250221T150206Z
LAST-MODIFIED:20250221T150206Z
UID:10006856-1855298700-1855304100@swv-sindelfingen.de
SUMMARY:Nordic Walking
DESCRIPTION:
URL:https://swv-sindelfingen.de/event/nordic-walking-3/2028-10-16/
LOCATION:SWV – Vereinsheim\, Arthur-Gruber-Strasse 65\, SIndelfingen\, Deutschland\, 71065
END:VEVENT
BEGIN:VEVENT
DTSTART;TZID=Europe/Berlin:20281017T193000
DTEND;TZID=Europe/Berlin:20281017T210000
DTSTAMP:20260425T062754
CREATED:20250130T201106Z
LAST-MODIFIED:20250130T201221Z
UID:10005162-1855423800-1855429200@swv-sindelfingen.de
SUMMARY:Powergymnastik
DESCRIPTION:
URL:https://swv-sindelfingen.de/event/powergymnastikk/2028-10-17/
END:VEVENT
BEGIN:VEVENT
DTSTART;TZID=Europe/Berlin:20281018T184500
DTEND;TZID=Europe/Berlin:20281018T184500
DTSTAMP:20260425T062754
CREATED:20250131T075402Z
LAST-MODIFIED:20250131T075402Z
UID:10006561-1855507500-1855507500@swv-sindelfingen.de
SUMMARY:Trainingsbetrieb
DESCRIPTION:Mittwochabends (im Winterhalbjahr ab 18:45 Uhr)\, im Badezentrum Sindelfingen (außer in den Schulferien\, dann z.T. Ersatztraining).\nInfos: Felix Loroff
URL:https://swv-sindelfingen.de/event/trainingsbetrieb/2028-10-18/
CATEGORIES:Kanusport
END:VEVENT
BEGIN:VEVENT
DTSTART;TZID=Europe/Berlin:20281018T190000
DTEND;TZID=Europe/Berlin:20281018T211500
DTSTAMP:20260425T062754
CREATED:20250130T202848Z
LAST-MODIFIED:20250130T202848Z
UID:10005437-1855508400-1855516500@swv-sindelfingen.de
SUMMARY:Fitness nur für Frauen
DESCRIPTION:
URL:https://swv-sindelfingen.de/event/fitness-nur-fuer-frauen-2/2028-10-18/
END:VEVENT
BEGIN:VEVENT
DTSTART;TZID=Europe/Berlin:20281019T193000
DTEND;TZID=Europe/Berlin:20281019T210000
DTSTAMP:20260425T062754
CREATED:20250130T203352Z
LAST-MODIFIED:20260220T175000Z
UID:10005718-1855596600-1855602000@swv-sindelfingen.de
SUMMARY:Fitness Workout
DESCRIPTION:
URL:https://swv-sindelfingen.de/event/fitness-workout-2/2028-10-19/
LOCATION:Realschule Klstergarten
END:VEVENT
BEGIN:VEVENT
DTSTART;TZID=Europe/Berlin:20281020T080000
DTEND;TZID=Europe/Berlin:20281020T170000
DTSTAMP:20260425T062754
CREATED:20250130T204210Z
LAST-MODIFIED:20250130T204210Z
UID:10006274-1855641600-1855674000@swv-sindelfingen.de
SUMMARY:Fit werden - fit bleiben
DESCRIPTION:
URL:https://swv-sindelfingen.de/event/fit-werden-fit-bleiben-2/2028-10-20/
END:VEVENT
BEGIN:VEVENT
DTSTART;TZID=Europe/Berlin:20281023T084500
DTEND;TZID=Europe/Berlin:20281023T101500
DTSTAMP:20260425T062754
CREATED:20250221T150206Z
LAST-MODIFIED:20250221T150206Z
UID:10006857-1855903500-1855908900@swv-sindelfingen.de
SUMMARY:Nordic Walking
DESCRIPTION:
URL:https://swv-sindelfingen.de/event/nordic-walking-3/2028-10-23/
LOCATION:SWV – Vereinsheim\, Arthur-Gruber-Strasse 65\, SIndelfingen\, Deutschland\, 71065
END:VEVENT
BEGIN:VEVENT
DTSTART;TZID=Europe/Berlin:20281024T193000
DTEND;TZID=Europe/Berlin:20281024T210000
DTSTAMP:20260425T062754
CREATED:20250130T201106Z
LAST-MODIFIED:20250130T201221Z
UID:10005163-1856028600-1856034000@swv-sindelfingen.de
SUMMARY:Powergymnastik
DESCRIPTION:
URL:https://swv-sindelfingen.de/event/powergymnastikk/2028-10-24/
END:VEVENT
BEGIN:VEVENT
DTSTART;TZID=Europe/Berlin:20281025T184500
DTEND;TZID=Europe/Berlin:20281025T184500
DTSTAMP:20260425T062754
CREATED:20250131T075402Z
LAST-MODIFIED:20250131T075402Z
UID:10006562-1856112300-1856112300@swv-sindelfingen.de
SUMMARY:Trainingsbetrieb
DESCRIPTION:Mittwochabends (im Winterhalbjahr ab 18:45 Uhr)\, im Badezentrum Sindelfingen (außer in den Schulferien\, dann z.T. Ersatztraining).\nInfos: Felix Loroff
URL:https://swv-sindelfingen.de/event/trainingsbetrieb/2028-10-25/
CATEGORIES:Kanusport
END:VEVENT
BEGIN:VEVENT
DTSTART;TZID=Europe/Berlin:20281025T190000
DTEND;TZID=Europe/Berlin:20281025T211500
DTSTAMP:20260425T062754
CREATED:20250130T202848Z
LAST-MODIFIED:20250130T202848Z
UID:10005438-1856113200-1856121300@swv-sindelfingen.de
SUMMARY:Fitness nur für Frauen
DESCRIPTION:
URL:https://swv-sindelfingen.de/event/fitness-nur-fuer-frauen-2/2028-10-25/
END:VEVENT
BEGIN:VEVENT
DTSTART;TZID=Europe/Berlin:20281026T193000
DTEND;TZID=Europe/Berlin:20281026T210000
DTSTAMP:20260425T062754
CREATED:20250130T203352Z
LAST-MODIFIED:20260220T175000Z
UID:10005719-1856201400-1856206800@swv-sindelfingen.de
SUMMARY:Fitness Workout
DESCRIPTION:
URL:https://swv-sindelfingen.de/event/fitness-workout-2/2028-10-26/
LOCATION:Realschule Klstergarten
END:VEVENT
BEGIN:VEVENT
DTSTART;TZID=Europe/Berlin:20281027T080000
DTEND;TZID=Europe/Berlin:20281027T170000
DTSTAMP:20260425T062754
CREATED:20250130T204210Z
LAST-MODIFIED:20250130T204210Z
UID:10006275-1856246400-1856278800@swv-sindelfingen.de
SUMMARY:Fit werden - fit bleiben
DESCRIPTION:
URL:https://swv-sindelfingen.de/event/fit-werden-fit-bleiben-2/2028-10-27/
END:VEVENT
BEGIN:VEVENT
DTSTART;TZID=Europe/Berlin:20281030T084500
DTEND;TZID=Europe/Berlin:20281030T101500
DTSTAMP:20260425T062754
CREATED:20250221T150206Z
LAST-MODIFIED:20250221T150206Z
UID:10006858-1856508300-1856513700@swv-sindelfingen.de
SUMMARY:Nordic Walking
DESCRIPTION:
URL:https://swv-sindelfingen.de/event/nordic-walking-3/2028-10-30/
LOCATION:SWV – Vereinsheim\, Arthur-Gruber-Strasse 65\, SIndelfingen\, Deutschland\, 71065
END:VEVENT
BEGIN:VEVENT
DTSTART;TZID=Europe/Berlin:20281031T193000
DTEND;TZID=Europe/Berlin:20281031T210000
DTSTAMP:20260425T062754
CREATED:20250130T201106Z
LAST-MODIFIED:20250130T201221Z
UID:10005164-1856633400-1856638800@swv-sindelfingen.de
SUMMARY:Powergymnastik
DESCRIPTION:
URL:https://swv-sindelfingen.de/event/powergymnastikk/2028-10-31/
END:VEVENT
END:VCALENDAR