BEGIN:VCALENDAR
VERSION:2.0
PRODID:-//Schwarzwaldverein Sindelfingen e. V. - ECPv6.15.20//NONSGML v1.0//EN
CALSCALE:GREGORIAN
METHOD:PUBLISH
X-WR-CALNAME:Schwarzwaldverein Sindelfingen e. V.
X-ORIGINAL-URL:https://swv-sindelfingen.de
X-WR-CALDESC:Veranstaltungen für Schwarzwaldverein Sindelfingen e. V.
REFRESH-INTERVAL;VALUE=DURATION:PT1H
X-Robots-Tag:noindex
X-PUBLISHED-TTL:PT1H
BEGIN:VTIMEZONE
TZID:Europe/Berlin
BEGIN:DAYLIGHT
TZOFFSETFROM:+0100
TZOFFSETTO:+0200
TZNAME:CEST
DTSTART:20270328T010000
END:DAYLIGHT
BEGIN:STANDARD
TZOFFSETFROM:+0200
TZOFFSETTO:+0100
TZNAME:CET
DTSTART:20271031T010000
END:STANDARD
BEGIN:DAYLIGHT
TZOFFSETFROM:+0100
TZOFFSETTO:+0200
TZNAME:CEST
DTSTART:20280326T010000
END:DAYLIGHT
BEGIN:STANDARD
TZOFFSETFROM:+0200
TZOFFSETTO:+0100
TZNAME:CET
DTSTART:20281029T010000
END:STANDARD
BEGIN:DAYLIGHT
TZOFFSETFROM:+0100
TZOFFSETTO:+0200
TZNAME:CEST
DTSTART:20290325T010000
END:DAYLIGHT
BEGIN:STANDARD
TZOFFSETFROM:+0200
TZOFFSETTO:+0100
TZNAME:CET
DTSTART:20291028T010000
END:STANDARD
END:VTIMEZONE
BEGIN:VEVENT
DTSTART;TZID=Europe/Berlin:20280901T080000
DTEND;TZID=Europe/Berlin:20280901T170000
DTSTAMP:20260425T034237
CREATED:20250130T204210Z
LAST-MODIFIED:20250130T204210Z
UID:10006267-1851408000-1851440400@swv-sindelfingen.de
SUMMARY:Fit werden - fit bleiben
DESCRIPTION:
URL:https://swv-sindelfingen.de/event/fit-werden-fit-bleiben-2/2028-09-01/
END:VEVENT
BEGIN:VEVENT
DTSTART;TZID=Europe/Berlin:20280904T084500
DTEND;TZID=Europe/Berlin:20280904T101500
DTSTAMP:20260425T034237
CREATED:20250221T150206Z
LAST-MODIFIED:20250221T150206Z
UID:10006850-1851669900-1851675300@swv-sindelfingen.de
SUMMARY:Nordic Walking
DESCRIPTION:
URL:https://swv-sindelfingen.de/event/nordic-walking-3/2028-09-04/
LOCATION:SWV – Vereinsheim\, Arthur-Gruber-Strasse 65\, SIndelfingen\, Deutschland\, 71065
END:VEVENT
BEGIN:VEVENT
DTSTART;TZID=Europe/Berlin:20280905T193000
DTEND;TZID=Europe/Berlin:20280905T210000
DTSTAMP:20260425T034237
CREATED:20250130T201106Z
LAST-MODIFIED:20250130T201221Z
UID:10005156-1851795000-1851800400@swv-sindelfingen.de
SUMMARY:Powergymnastik
DESCRIPTION:
URL:https://swv-sindelfingen.de/event/powergymnastikk/2028-09-05/
END:VEVENT
BEGIN:VEVENT
DTSTART;TZID=Europe/Berlin:20280906T184500
DTEND;TZID=Europe/Berlin:20280906T184500
DTSTAMP:20260425T034237
CREATED:20250131T075402Z
LAST-MODIFIED:20250131T075402Z
UID:10006555-1851878700-1851878700@swv-sindelfingen.de
SUMMARY:Trainingsbetrieb
DESCRIPTION:Mittwochabends (im Winterhalbjahr ab 18:45 Uhr)\, im Badezentrum Sindelfingen (außer in den Schulferien\, dann z.T. Ersatztraining).\nInfos: Felix Loroff
URL:https://swv-sindelfingen.de/event/trainingsbetrieb/2028-09-06/
CATEGORIES:Kanusport
END:VEVENT
BEGIN:VEVENT
DTSTART;TZID=Europe/Berlin:20280906T190000
DTEND;TZID=Europe/Berlin:20280906T211500
DTSTAMP:20260425T034237
CREATED:20250130T202848Z
LAST-MODIFIED:20250130T202848Z
UID:10005431-1851879600-1851887700@swv-sindelfingen.de
SUMMARY:Fitness nur für Frauen
DESCRIPTION:
URL:https://swv-sindelfingen.de/event/fitness-nur-fuer-frauen-2/2028-09-06/
END:VEVENT
BEGIN:VEVENT
DTSTART;TZID=Europe/Berlin:20280907T193000
DTEND;TZID=Europe/Berlin:20280907T210000
DTSTAMP:20260425T034237
CREATED:20250130T203352Z
LAST-MODIFIED:20260220T175000Z
UID:10005712-1851967800-1851973200@swv-sindelfingen.de
SUMMARY:Fitness Workout
DESCRIPTION:
URL:https://swv-sindelfingen.de/event/fitness-workout-2/2028-09-07/
LOCATION:Realschule Klstergarten
END:VEVENT
BEGIN:VEVENT
DTSTART;TZID=Europe/Berlin:20280908T080000
DTEND;TZID=Europe/Berlin:20280908T170000
DTSTAMP:20260425T034237
CREATED:20250130T204210Z
LAST-MODIFIED:20250130T204210Z
UID:10006268-1852012800-1852045200@swv-sindelfingen.de
SUMMARY:Fit werden - fit bleiben
DESCRIPTION:
URL:https://swv-sindelfingen.de/event/fit-werden-fit-bleiben-2/2028-09-08/
END:VEVENT
BEGIN:VEVENT
DTSTART;TZID=Europe/Berlin:20280911T084500
DTEND;TZID=Europe/Berlin:20280911T101500
DTSTAMP:20260425T034237
CREATED:20250221T150206Z
LAST-MODIFIED:20250221T150206Z
UID:10006851-1852274700-1852280100@swv-sindelfingen.de
SUMMARY:Nordic Walking
DESCRIPTION:
URL:https://swv-sindelfingen.de/event/nordic-walking-3/2028-09-11/
LOCATION:SWV – Vereinsheim\, Arthur-Gruber-Strasse 65\, SIndelfingen\, Deutschland\, 71065
END:VEVENT
BEGIN:VEVENT
DTSTART;TZID=Europe/Berlin:20280912T193000
DTEND;TZID=Europe/Berlin:20280912T210000
DTSTAMP:20260425T034237
CREATED:20250130T201106Z
LAST-MODIFIED:20250130T201221Z
UID:10005157-1852399800-1852405200@swv-sindelfingen.de
SUMMARY:Powergymnastik
DESCRIPTION:
URL:https://swv-sindelfingen.de/event/powergymnastikk/2028-09-12/
END:VEVENT
BEGIN:VEVENT
DTSTART;TZID=Europe/Berlin:20280913T184500
DTEND;TZID=Europe/Berlin:20280913T184500
DTSTAMP:20260425T034237
CREATED:20250131T075402Z
LAST-MODIFIED:20250131T075402Z
UID:10006556-1852483500-1852483500@swv-sindelfingen.de
SUMMARY:Trainingsbetrieb
DESCRIPTION:Mittwochabends (im Winterhalbjahr ab 18:45 Uhr)\, im Badezentrum Sindelfingen (außer in den Schulferien\, dann z.T. Ersatztraining).\nInfos: Felix Loroff
URL:https://swv-sindelfingen.de/event/trainingsbetrieb/2028-09-13/
CATEGORIES:Kanusport
END:VEVENT
BEGIN:VEVENT
DTSTART;TZID=Europe/Berlin:20280913T190000
DTEND;TZID=Europe/Berlin:20280913T211500
DTSTAMP:20260425T034237
CREATED:20250130T202848Z
LAST-MODIFIED:20250130T202848Z
UID:10005432-1852484400-1852492500@swv-sindelfingen.de
SUMMARY:Fitness nur für Frauen
DESCRIPTION:
URL:https://swv-sindelfingen.de/event/fitness-nur-fuer-frauen-2/2028-09-13/
END:VEVENT
BEGIN:VEVENT
DTSTART;TZID=Europe/Berlin:20280914T193000
DTEND;TZID=Europe/Berlin:20280914T210000
DTSTAMP:20260425T034237
CREATED:20250130T203352Z
LAST-MODIFIED:20260220T175000Z
UID:10005713-1852572600-1852578000@swv-sindelfingen.de
SUMMARY:Fitness Workout
DESCRIPTION:
URL:https://swv-sindelfingen.de/event/fitness-workout-2/2028-09-14/
LOCATION:Realschule Klstergarten
END:VEVENT
BEGIN:VEVENT
DTSTART;TZID=Europe/Berlin:20280915T080000
DTEND;TZID=Europe/Berlin:20280915T170000
DTSTAMP:20260425T034237
CREATED:20250130T204210Z
LAST-MODIFIED:20250130T204210Z
UID:10006269-1852617600-1852650000@swv-sindelfingen.de
SUMMARY:Fit werden - fit bleiben
DESCRIPTION:
URL:https://swv-sindelfingen.de/event/fit-werden-fit-bleiben-2/2028-09-15/
END:VEVENT
BEGIN:VEVENT
DTSTART;TZID=Europe/Berlin:20280918T084500
DTEND;TZID=Europe/Berlin:20280918T101500
DTSTAMP:20260425T034237
CREATED:20250221T150206Z
LAST-MODIFIED:20250221T150206Z
UID:10006852-1852879500-1852884900@swv-sindelfingen.de
SUMMARY:Nordic Walking
DESCRIPTION:
URL:https://swv-sindelfingen.de/event/nordic-walking-3/2028-09-18/
LOCATION:SWV – Vereinsheim\, Arthur-Gruber-Strasse 65\, SIndelfingen\, Deutschland\, 71065
END:VEVENT
BEGIN:VEVENT
DTSTART;TZID=Europe/Berlin:20280919T193000
DTEND;TZID=Europe/Berlin:20280919T210000
DTSTAMP:20260425T034237
CREATED:20250130T201106Z
LAST-MODIFIED:20250130T201221Z
UID:10005158-1853004600-1853010000@swv-sindelfingen.de
SUMMARY:Powergymnastik
DESCRIPTION:
URL:https://swv-sindelfingen.de/event/powergymnastikk/2028-09-19/
END:VEVENT
BEGIN:VEVENT
DTSTART;TZID=Europe/Berlin:20280920T184500
DTEND;TZID=Europe/Berlin:20280920T184500
DTSTAMP:20260425T034237
CREATED:20250131T075402Z
LAST-MODIFIED:20250131T075402Z
UID:10006557-1853088300-1853088300@swv-sindelfingen.de
SUMMARY:Trainingsbetrieb
DESCRIPTION:Mittwochabends (im Winterhalbjahr ab 18:45 Uhr)\, im Badezentrum Sindelfingen (außer in den Schulferien\, dann z.T. Ersatztraining).\nInfos: Felix Loroff
URL:https://swv-sindelfingen.de/event/trainingsbetrieb/2028-09-20/
CATEGORIES:Kanusport
END:VEVENT
BEGIN:VEVENT
DTSTART;TZID=Europe/Berlin:20280920T190000
DTEND;TZID=Europe/Berlin:20280920T211500
DTSTAMP:20260425T034237
CREATED:20250130T202848Z
LAST-MODIFIED:20250130T202848Z
UID:10005433-1853089200-1853097300@swv-sindelfingen.de
SUMMARY:Fitness nur für Frauen
DESCRIPTION:
URL:https://swv-sindelfingen.de/event/fitness-nur-fuer-frauen-2/2028-09-20/
END:VEVENT
BEGIN:VEVENT
DTSTART;TZID=Europe/Berlin:20280921T193000
DTEND;TZID=Europe/Berlin:20280921T210000
DTSTAMP:20260425T034237
CREATED:20250130T203352Z
LAST-MODIFIED:20260220T175000Z
UID:10005714-1853177400-1853182800@swv-sindelfingen.de
SUMMARY:Fitness Workout
DESCRIPTION:
URL:https://swv-sindelfingen.de/event/fitness-workout-2/2028-09-21/
LOCATION:Realschule Klstergarten
END:VEVENT
BEGIN:VEVENT
DTSTART;TZID=Europe/Berlin:20280922T080000
DTEND;TZID=Europe/Berlin:20280922T170000
DTSTAMP:20260425T034237
CREATED:20250130T204210Z
LAST-MODIFIED:20250130T204210Z
UID:10006270-1853222400-1853254800@swv-sindelfingen.de
SUMMARY:Fit werden - fit bleiben
DESCRIPTION:
URL:https://swv-sindelfingen.de/event/fit-werden-fit-bleiben-2/2028-09-22/
END:VEVENT
BEGIN:VEVENT
DTSTART;TZID=Europe/Berlin:20280925T084500
DTEND;TZID=Europe/Berlin:20280925T101500
DTSTAMP:20260425T034237
CREATED:20250221T150206Z
LAST-MODIFIED:20250221T150206Z
UID:10006853-1853484300-1853489700@swv-sindelfingen.de
SUMMARY:Nordic Walking
DESCRIPTION:
URL:https://swv-sindelfingen.de/event/nordic-walking-3/2028-09-25/
LOCATION:SWV – Vereinsheim\, Arthur-Gruber-Strasse 65\, SIndelfingen\, Deutschland\, 71065
END:VEVENT
BEGIN:VEVENT
DTSTART;TZID=Europe/Berlin:20280926T193000
DTEND;TZID=Europe/Berlin:20280926T210000
DTSTAMP:20260425T034237
CREATED:20250130T201106Z
LAST-MODIFIED:20250130T201221Z
UID:10005159-1853609400-1853614800@swv-sindelfingen.de
SUMMARY:Powergymnastik
DESCRIPTION:
URL:https://swv-sindelfingen.de/event/powergymnastikk/2028-09-26/
END:VEVENT
BEGIN:VEVENT
DTSTART;TZID=Europe/Berlin:20280927T184500
DTEND;TZID=Europe/Berlin:20280927T184500
DTSTAMP:20260425T034237
CREATED:20250131T075402Z
LAST-MODIFIED:20250131T075402Z
UID:10006558-1853693100-1853693100@swv-sindelfingen.de
SUMMARY:Trainingsbetrieb
DESCRIPTION:Mittwochabends (im Winterhalbjahr ab 18:45 Uhr)\, im Badezentrum Sindelfingen (außer in den Schulferien\, dann z.T. Ersatztraining).\nInfos: Felix Loroff
URL:https://swv-sindelfingen.de/event/trainingsbetrieb/2028-09-27/
CATEGORIES:Kanusport
END:VEVENT
BEGIN:VEVENT
DTSTART;TZID=Europe/Berlin:20280927T190000
DTEND;TZID=Europe/Berlin:20280927T211500
DTSTAMP:20260425T034237
CREATED:20250130T202848Z
LAST-MODIFIED:20250130T202848Z
UID:10005434-1853694000-1853702100@swv-sindelfingen.de
SUMMARY:Fitness nur für Frauen
DESCRIPTION:
URL:https://swv-sindelfingen.de/event/fitness-nur-fuer-frauen-2/2028-09-27/
END:VEVENT
BEGIN:VEVENT
DTSTART;TZID=Europe/Berlin:20280928T193000
DTEND;TZID=Europe/Berlin:20280928T210000
DTSTAMP:20260425T034237
CREATED:20250130T203352Z
LAST-MODIFIED:20260220T175000Z
UID:10005715-1853782200-1853787600@swv-sindelfingen.de
SUMMARY:Fitness Workout
DESCRIPTION:
URL:https://swv-sindelfingen.de/event/fitness-workout-2/2028-09-28/
LOCATION:Realschule Klstergarten
END:VEVENT
BEGIN:VEVENT
DTSTART;TZID=Europe/Berlin:20280929T080000
DTEND;TZID=Europe/Berlin:20280929T170000
DTSTAMP:20260425T034237
CREATED:20250130T204210Z
LAST-MODIFIED:20250130T204210Z
UID:10006271-1853827200-1853859600@swv-sindelfingen.de
SUMMARY:Fit werden - fit bleiben
DESCRIPTION:
URL:https://swv-sindelfingen.de/event/fit-werden-fit-bleiben-2/2028-09-29/
END:VEVENT
END:VCALENDAR