BEGIN:VCALENDAR
VERSION:2.0
PRODID:-//Schwarzwaldverein Sindelfingen e. V. - ECPv6.15.20//NONSGML v1.0//EN
CALSCALE:GREGORIAN
METHOD:PUBLISH
X-WR-CALNAME:Schwarzwaldverein Sindelfingen e. V.
X-ORIGINAL-URL:https://swv-sindelfingen.de
X-WR-CALDESC:Veranstaltungen für Schwarzwaldverein Sindelfingen e. V.
REFRESH-INTERVAL;VALUE=DURATION:PT1H
X-Robots-Tag:noindex
X-PUBLISHED-TTL:PT1H
BEGIN:VTIMEZONE
TZID:Europe/Berlin
BEGIN:DAYLIGHT
TZOFFSETFROM:+0100
TZOFFSETTO:+0200
TZNAME:CEST
DTSTART:20270328T010000
END:DAYLIGHT
BEGIN:STANDARD
TZOFFSETFROM:+0200
TZOFFSETTO:+0100
TZNAME:CET
DTSTART:20271031T010000
END:STANDARD
BEGIN:DAYLIGHT
TZOFFSETFROM:+0100
TZOFFSETTO:+0200
TZNAME:CEST
DTSTART:20280326T010000
END:DAYLIGHT
BEGIN:STANDARD
TZOFFSETFROM:+0200
TZOFFSETTO:+0100
TZNAME:CET
DTSTART:20281029T010000
END:STANDARD
BEGIN:DAYLIGHT
TZOFFSETFROM:+0100
TZOFFSETTO:+0200
TZNAME:CEST
DTSTART:20290325T010000
END:DAYLIGHT
BEGIN:STANDARD
TZOFFSETFROM:+0200
TZOFFSETTO:+0100
TZNAME:CET
DTSTART:20291028T010000
END:STANDARD
END:VTIMEZONE
BEGIN:VEVENT
DTSTART;TZID=Europe/Berlin:20280601T193000
DTEND;TZID=Europe/Berlin:20280601T210000
DTSTAMP:20260423T060745
CREATED:20250130T203352Z
LAST-MODIFIED:20260220T175000Z
UID:10005698-1843500600-1843506000@swv-sindelfingen.de
SUMMARY:Fitness Workout
DESCRIPTION:
URL:https://swv-sindelfingen.de/event/fitness-workout-2/2028-06-01/
LOCATION:Realschule Klstergarten
END:VEVENT
BEGIN:VEVENT
DTSTART;TZID=Europe/Berlin:20280602T080000
DTEND;TZID=Europe/Berlin:20280602T170000
DTSTAMP:20260423T060745
CREATED:20250130T204210Z
LAST-MODIFIED:20250130T204210Z
UID:10006254-1843545600-1843578000@swv-sindelfingen.de
SUMMARY:Fit werden - fit bleiben
DESCRIPTION:
URL:https://swv-sindelfingen.de/event/fit-werden-fit-bleiben-2/2028-06-02/
END:VEVENT
BEGIN:VEVENT
DTSTART;TZID=Europe/Berlin:20280605T084500
DTEND;TZID=Europe/Berlin:20280605T101500
DTSTAMP:20260423T060745
CREATED:20250221T150206Z
LAST-MODIFIED:20250221T150206Z
UID:10006837-1843807500-1843812900@swv-sindelfingen.de
SUMMARY:Nordic Walking
DESCRIPTION:
URL:https://swv-sindelfingen.de/event/nordic-walking-3/2028-06-05/
LOCATION:SWV – Vereinsheim\, Arthur-Gruber-Strasse 65\, SIndelfingen\, Deutschland\, 71065
END:VEVENT
BEGIN:VEVENT
DTSTART;TZID=Europe/Berlin:20280606T193000
DTEND;TZID=Europe/Berlin:20280606T210000
DTSTAMP:20260423T060745
CREATED:20250130T201106Z
LAST-MODIFIED:20250130T201221Z
UID:10005143-1843932600-1843938000@swv-sindelfingen.de
SUMMARY:Powergymnastik
DESCRIPTION:
URL:https://swv-sindelfingen.de/event/powergymnastikk/2028-06-06/
END:VEVENT
BEGIN:VEVENT
DTSTART;TZID=Europe/Berlin:20280607T184500
DTEND;TZID=Europe/Berlin:20280607T184500
DTSTAMP:20260423T060745
CREATED:20250131T075402Z
LAST-MODIFIED:20250131T075402Z
UID:10006542-1844016300-1844016300@swv-sindelfingen.de
SUMMARY:Trainingsbetrieb
DESCRIPTION:Mittwochabends (im Winterhalbjahr ab 18:45 Uhr)\, im Badezentrum Sindelfingen (außer in den Schulferien\, dann z.T. Ersatztraining).\nInfos: Felix Loroff
URL:https://swv-sindelfingen.de/event/trainingsbetrieb/2028-06-07/
CATEGORIES:Kanusport
END:VEVENT
BEGIN:VEVENT
DTSTART;TZID=Europe/Berlin:20280607T190000
DTEND;TZID=Europe/Berlin:20280607T211500
DTSTAMP:20260423T060745
CREATED:20250130T202848Z
LAST-MODIFIED:20250130T202848Z
UID:10005418-1844017200-1844025300@swv-sindelfingen.de
SUMMARY:Fitness nur für Frauen
DESCRIPTION:
URL:https://swv-sindelfingen.de/event/fitness-nur-fuer-frauen-2/2028-06-07/
END:VEVENT
BEGIN:VEVENT
DTSTART;TZID=Europe/Berlin:20280608T193000
DTEND;TZID=Europe/Berlin:20280608T210000
DTSTAMP:20260423T060745
CREATED:20250130T203352Z
LAST-MODIFIED:20260220T175000Z
UID:10005699-1844105400-1844110800@swv-sindelfingen.de
SUMMARY:Fitness Workout
DESCRIPTION:
URL:https://swv-sindelfingen.de/event/fitness-workout-2/2028-06-08/
LOCATION:Realschule Klstergarten
END:VEVENT
BEGIN:VEVENT
DTSTART;TZID=Europe/Berlin:20280609T080000
DTEND;TZID=Europe/Berlin:20280609T170000
DTSTAMP:20260423T060745
CREATED:20250130T204210Z
LAST-MODIFIED:20250130T204210Z
UID:10006255-1844150400-1844182800@swv-sindelfingen.de
SUMMARY:Fit werden - fit bleiben
DESCRIPTION:
URL:https://swv-sindelfingen.de/event/fit-werden-fit-bleiben-2/2028-06-09/
END:VEVENT
BEGIN:VEVENT
DTSTART;TZID=Europe/Berlin:20280612T084500
DTEND;TZID=Europe/Berlin:20280612T101500
DTSTAMP:20260423T060745
CREATED:20250221T150206Z
LAST-MODIFIED:20250221T150206Z
UID:10006838-1844412300-1844417700@swv-sindelfingen.de
SUMMARY:Nordic Walking
DESCRIPTION:
URL:https://swv-sindelfingen.de/event/nordic-walking-3/2028-06-12/
LOCATION:SWV – Vereinsheim\, Arthur-Gruber-Strasse 65\, SIndelfingen\, Deutschland\, 71065
END:VEVENT
BEGIN:VEVENT
DTSTART;TZID=Europe/Berlin:20280613T193000
DTEND;TZID=Europe/Berlin:20280613T210000
DTSTAMP:20260423T060745
CREATED:20250130T201106Z
LAST-MODIFIED:20250130T201221Z
UID:10005144-1844537400-1844542800@swv-sindelfingen.de
SUMMARY:Powergymnastik
DESCRIPTION:
URL:https://swv-sindelfingen.de/event/powergymnastikk/2028-06-13/
END:VEVENT
BEGIN:VEVENT
DTSTART;TZID=Europe/Berlin:20280614T184500
DTEND;TZID=Europe/Berlin:20280614T184500
DTSTAMP:20260423T060745
CREATED:20250131T075402Z
LAST-MODIFIED:20250131T075402Z
UID:10006543-1844621100-1844621100@swv-sindelfingen.de
SUMMARY:Trainingsbetrieb
DESCRIPTION:Mittwochabends (im Winterhalbjahr ab 18:45 Uhr)\, im Badezentrum Sindelfingen (außer in den Schulferien\, dann z.T. Ersatztraining).\nInfos: Felix Loroff
URL:https://swv-sindelfingen.de/event/trainingsbetrieb/2028-06-14/
CATEGORIES:Kanusport
END:VEVENT
BEGIN:VEVENT
DTSTART;TZID=Europe/Berlin:20280614T190000
DTEND;TZID=Europe/Berlin:20280614T211500
DTSTAMP:20260423T060745
CREATED:20250130T202848Z
LAST-MODIFIED:20250130T202848Z
UID:10005419-1844622000-1844630100@swv-sindelfingen.de
SUMMARY:Fitness nur für Frauen
DESCRIPTION:
URL:https://swv-sindelfingen.de/event/fitness-nur-fuer-frauen-2/2028-06-14/
END:VEVENT
BEGIN:VEVENT
DTSTART;TZID=Europe/Berlin:20280615T193000
DTEND;TZID=Europe/Berlin:20280615T210000
DTSTAMP:20260423T060745
CREATED:20250130T203352Z
LAST-MODIFIED:20260220T175000Z
UID:10005700-1844710200-1844715600@swv-sindelfingen.de
SUMMARY:Fitness Workout
DESCRIPTION:
URL:https://swv-sindelfingen.de/event/fitness-workout-2/2028-06-15/
LOCATION:Realschule Klstergarten
END:VEVENT
BEGIN:VEVENT
DTSTART;TZID=Europe/Berlin:20280616T080000
DTEND;TZID=Europe/Berlin:20280616T170000
DTSTAMP:20260423T060745
CREATED:20250130T204210Z
LAST-MODIFIED:20250130T204210Z
UID:10006256-1844755200-1844787600@swv-sindelfingen.de
SUMMARY:Fit werden - fit bleiben
DESCRIPTION:
URL:https://swv-sindelfingen.de/event/fit-werden-fit-bleiben-2/2028-06-16/
END:VEVENT
BEGIN:VEVENT
DTSTART;TZID=Europe/Berlin:20280619T084500
DTEND;TZID=Europe/Berlin:20280619T101500
DTSTAMP:20260423T060745
CREATED:20250221T150206Z
LAST-MODIFIED:20250221T150206Z
UID:10006839-1845017100-1845022500@swv-sindelfingen.de
SUMMARY:Nordic Walking
DESCRIPTION:
URL:https://swv-sindelfingen.de/event/nordic-walking-3/2028-06-19/
LOCATION:SWV – Vereinsheim\, Arthur-Gruber-Strasse 65\, SIndelfingen\, Deutschland\, 71065
END:VEVENT
BEGIN:VEVENT
DTSTART;TZID=Europe/Berlin:20280620T193000
DTEND;TZID=Europe/Berlin:20280620T210000
DTSTAMP:20260423T060745
CREATED:20250130T201106Z
LAST-MODIFIED:20250130T201221Z
UID:10005145-1845142200-1845147600@swv-sindelfingen.de
SUMMARY:Powergymnastik
DESCRIPTION:
URL:https://swv-sindelfingen.de/event/powergymnastikk/2028-06-20/
END:VEVENT
BEGIN:VEVENT
DTSTART;TZID=Europe/Berlin:20280621T184500
DTEND;TZID=Europe/Berlin:20280621T184500
DTSTAMP:20260423T060745
CREATED:20250131T075402Z
LAST-MODIFIED:20250131T075402Z
UID:10006544-1845225900-1845225900@swv-sindelfingen.de
SUMMARY:Trainingsbetrieb
DESCRIPTION:Mittwochabends (im Winterhalbjahr ab 18:45 Uhr)\, im Badezentrum Sindelfingen (außer in den Schulferien\, dann z.T. Ersatztraining).\nInfos: Felix Loroff
URL:https://swv-sindelfingen.de/event/trainingsbetrieb/2028-06-21/
CATEGORIES:Kanusport
END:VEVENT
BEGIN:VEVENT
DTSTART;TZID=Europe/Berlin:20280621T190000
DTEND;TZID=Europe/Berlin:20280621T211500
DTSTAMP:20260423T060745
CREATED:20250130T202848Z
LAST-MODIFIED:20250130T202848Z
UID:10005420-1845226800-1845234900@swv-sindelfingen.de
SUMMARY:Fitness nur für Frauen
DESCRIPTION:
URL:https://swv-sindelfingen.de/event/fitness-nur-fuer-frauen-2/2028-06-21/
END:VEVENT
BEGIN:VEVENT
DTSTART;TZID=Europe/Berlin:20280622T193000
DTEND;TZID=Europe/Berlin:20280622T210000
DTSTAMP:20260423T060745
CREATED:20250130T203352Z
LAST-MODIFIED:20260220T175000Z
UID:10005701-1845315000-1845320400@swv-sindelfingen.de
SUMMARY:Fitness Workout
DESCRIPTION:
URL:https://swv-sindelfingen.de/event/fitness-workout-2/2028-06-22/
LOCATION:Realschule Klstergarten
END:VEVENT
BEGIN:VEVENT
DTSTART;TZID=Europe/Berlin:20280623T080000
DTEND;TZID=Europe/Berlin:20280623T170000
DTSTAMP:20260423T060745
CREATED:20250130T204210Z
LAST-MODIFIED:20250130T204210Z
UID:10006257-1845360000-1845392400@swv-sindelfingen.de
SUMMARY:Fit werden - fit bleiben
DESCRIPTION:
URL:https://swv-sindelfingen.de/event/fit-werden-fit-bleiben-2/2028-06-23/
END:VEVENT
BEGIN:VEVENT
DTSTART;TZID=Europe/Berlin:20280626T084500
DTEND;TZID=Europe/Berlin:20280626T101500
DTSTAMP:20260423T060745
CREATED:20250221T150206Z
LAST-MODIFIED:20250221T150206Z
UID:10006840-1845621900-1845627300@swv-sindelfingen.de
SUMMARY:Nordic Walking
DESCRIPTION:
URL:https://swv-sindelfingen.de/event/nordic-walking-3/2028-06-26/
LOCATION:SWV – Vereinsheim\, Arthur-Gruber-Strasse 65\, SIndelfingen\, Deutschland\, 71065
END:VEVENT
BEGIN:VEVENT
DTSTART;TZID=Europe/Berlin:20280627T193000
DTEND;TZID=Europe/Berlin:20280627T210000
DTSTAMP:20260423T060745
CREATED:20250130T201106Z
LAST-MODIFIED:20250130T201221Z
UID:10005146-1845747000-1845752400@swv-sindelfingen.de
SUMMARY:Powergymnastik
DESCRIPTION:
URL:https://swv-sindelfingen.de/event/powergymnastikk/2028-06-27/
END:VEVENT
BEGIN:VEVENT
DTSTART;TZID=Europe/Berlin:20280628T184500
DTEND;TZID=Europe/Berlin:20280628T184500
DTSTAMP:20260423T060745
CREATED:20250131T075402Z
LAST-MODIFIED:20250131T075402Z
UID:10006545-1845830700-1845830700@swv-sindelfingen.de
SUMMARY:Trainingsbetrieb
DESCRIPTION:Mittwochabends (im Winterhalbjahr ab 18:45 Uhr)\, im Badezentrum Sindelfingen (außer in den Schulferien\, dann z.T. Ersatztraining).\nInfos: Felix Loroff
URL:https://swv-sindelfingen.de/event/trainingsbetrieb/2028-06-28/
CATEGORIES:Kanusport
END:VEVENT
BEGIN:VEVENT
DTSTART;TZID=Europe/Berlin:20280628T190000
DTEND;TZID=Europe/Berlin:20280628T211500
DTSTAMP:20260423T060745
CREATED:20250130T202848Z
LAST-MODIFIED:20250130T202848Z
UID:10005421-1845831600-1845839700@swv-sindelfingen.de
SUMMARY:Fitness nur für Frauen
DESCRIPTION:
URL:https://swv-sindelfingen.de/event/fitness-nur-fuer-frauen-2/2028-06-28/
END:VEVENT
BEGIN:VEVENT
DTSTART;TZID=Europe/Berlin:20280629T193000
DTEND;TZID=Europe/Berlin:20280629T210000
DTSTAMP:20260423T060745
CREATED:20250130T203352Z
LAST-MODIFIED:20260220T175000Z
UID:10005702-1845919800-1845925200@swv-sindelfingen.de
SUMMARY:Fitness Workout
DESCRIPTION:
URL:https://swv-sindelfingen.de/event/fitness-workout-2/2028-06-29/
LOCATION:Realschule Klstergarten
END:VEVENT
BEGIN:VEVENT
DTSTART;TZID=Europe/Berlin:20280630T080000
DTEND;TZID=Europe/Berlin:20280630T170000
DTSTAMP:20260423T060745
CREATED:20250130T204210Z
LAST-MODIFIED:20250130T204210Z
UID:10006258-1845964800-1845997200@swv-sindelfingen.de
SUMMARY:Fit werden - fit bleiben
DESCRIPTION:
URL:https://swv-sindelfingen.de/event/fit-werden-fit-bleiben-2/2028-06-30/
END:VEVENT
END:VCALENDAR