BEGIN:VCALENDAR
VERSION:2.0
PRODID:-//Schwarzwaldverein Sindelfingen e. V. - ECPv6.15.20//NONSGML v1.0//EN
CALSCALE:GREGORIAN
METHOD:PUBLISH
X-WR-CALNAME:Schwarzwaldverein Sindelfingen e. V.
X-ORIGINAL-URL:https://swv-sindelfingen.de
X-WR-CALDESC:Veranstaltungen für Schwarzwaldverein Sindelfingen e. V.
REFRESH-INTERVAL;VALUE=DURATION:PT1H
X-Robots-Tag:noindex
X-PUBLISHED-TTL:PT1H
BEGIN:VTIMEZONE
TZID:Europe/Berlin
BEGIN:DAYLIGHT
TZOFFSETFROM:+0100
TZOFFSETTO:+0200
TZNAME:CEST
DTSTART:20270328T010000
END:DAYLIGHT
BEGIN:STANDARD
TZOFFSETFROM:+0200
TZOFFSETTO:+0100
TZNAME:CET
DTSTART:20271031T010000
END:STANDARD
BEGIN:DAYLIGHT
TZOFFSETFROM:+0100
TZOFFSETTO:+0200
TZNAME:CEST
DTSTART:20280326T010000
END:DAYLIGHT
BEGIN:STANDARD
TZOFFSETFROM:+0200
TZOFFSETTO:+0100
TZNAME:CET
DTSTART:20281029T010000
END:STANDARD
BEGIN:DAYLIGHT
TZOFFSETFROM:+0100
TZOFFSETTO:+0200
TZNAME:CEST
DTSTART:20290325T010000
END:DAYLIGHT
BEGIN:STANDARD
TZOFFSETFROM:+0200
TZOFFSETTO:+0100
TZNAME:CET
DTSTART:20291028T010000
END:STANDARD
END:VTIMEZONE
BEGIN:VEVENT
DTSTART;TZID=Europe/Berlin:20280501T084500
DTEND;TZID=Europe/Berlin:20280501T101500
DTSTAMP:20260423T032333
CREATED:20250221T150206Z
LAST-MODIFIED:20250221T150206Z
UID:10006832-1840783500-1840788900@swv-sindelfingen.de
SUMMARY:Nordic Walking
DESCRIPTION:
URL:https://swv-sindelfingen.de/event/nordic-walking-3/2028-05-01/
LOCATION:SWV – Vereinsheim\, Arthur-Gruber-Strasse 65\, SIndelfingen\, Deutschland\, 71065
END:VEVENT
BEGIN:VEVENT
DTSTART;TZID=Europe/Berlin:20280502T193000
DTEND;TZID=Europe/Berlin:20280502T210000
DTSTAMP:20260423T032333
CREATED:20250130T201106Z
LAST-MODIFIED:20250130T201221Z
UID:10005138-1840908600-1840914000@swv-sindelfingen.de
SUMMARY:Powergymnastik
DESCRIPTION:
URL:https://swv-sindelfingen.de/event/powergymnastikk/2028-05-02/
END:VEVENT
BEGIN:VEVENT
DTSTART;TZID=Europe/Berlin:20280503T184500
DTEND;TZID=Europe/Berlin:20280503T184500
DTSTAMP:20260423T032333
CREATED:20250131T075402Z
LAST-MODIFIED:20250131T075402Z
UID:10006537-1840992300-1840992300@swv-sindelfingen.de
SUMMARY:Trainingsbetrieb
DESCRIPTION:Mittwochabends (im Winterhalbjahr ab 18:45 Uhr)\, im Badezentrum Sindelfingen (außer in den Schulferien\, dann z.T. Ersatztraining).\nInfos: Felix Loroff
URL:https://swv-sindelfingen.de/event/trainingsbetrieb/2028-05-03/
CATEGORIES:Kanusport
END:VEVENT
BEGIN:VEVENT
DTSTART;TZID=Europe/Berlin:20280503T190000
DTEND;TZID=Europe/Berlin:20280503T211500
DTSTAMP:20260423T032333
CREATED:20250130T202848Z
LAST-MODIFIED:20250130T202848Z
UID:10005413-1840993200-1841001300@swv-sindelfingen.de
SUMMARY:Fitness nur für Frauen
DESCRIPTION:
URL:https://swv-sindelfingen.de/event/fitness-nur-fuer-frauen-2/2028-05-03/
END:VEVENT
BEGIN:VEVENT
DTSTART;TZID=Europe/Berlin:20280504T193000
DTEND;TZID=Europe/Berlin:20280504T210000
DTSTAMP:20260423T032333
CREATED:20250130T203352Z
LAST-MODIFIED:20260220T175000Z
UID:10005694-1841081400-1841086800@swv-sindelfingen.de
SUMMARY:Fitness Workout
DESCRIPTION:
URL:https://swv-sindelfingen.de/event/fitness-workout-2/2028-05-04/
LOCATION:Realschule Klstergarten
END:VEVENT
BEGIN:VEVENT
DTSTART;TZID=Europe/Berlin:20280505T080000
DTEND;TZID=Europe/Berlin:20280505T170000
DTSTAMP:20260423T032333
CREATED:20250130T204210Z
LAST-MODIFIED:20250130T204210Z
UID:10006250-1841126400-1841158800@swv-sindelfingen.de
SUMMARY:Fit werden - fit bleiben
DESCRIPTION:
URL:https://swv-sindelfingen.de/event/fit-werden-fit-bleiben-2/2028-05-05/
END:VEVENT
BEGIN:VEVENT
DTSTART;TZID=Europe/Berlin:20280508T084500
DTEND;TZID=Europe/Berlin:20280508T101500
DTSTAMP:20260423T032333
CREATED:20250221T150206Z
LAST-MODIFIED:20250221T150206Z
UID:10006833-1841388300-1841393700@swv-sindelfingen.de
SUMMARY:Nordic Walking
DESCRIPTION:
URL:https://swv-sindelfingen.de/event/nordic-walking-3/2028-05-08/
LOCATION:SWV – Vereinsheim\, Arthur-Gruber-Strasse 65\, SIndelfingen\, Deutschland\, 71065
END:VEVENT
BEGIN:VEVENT
DTSTART;TZID=Europe/Berlin:20280509T193000
DTEND;TZID=Europe/Berlin:20280509T210000
DTSTAMP:20260423T032333
CREATED:20250130T201106Z
LAST-MODIFIED:20250130T201221Z
UID:10005139-1841513400-1841518800@swv-sindelfingen.de
SUMMARY:Powergymnastik
DESCRIPTION:
URL:https://swv-sindelfingen.de/event/powergymnastikk/2028-05-09/
END:VEVENT
BEGIN:VEVENT
DTSTART;TZID=Europe/Berlin:20280510T184500
DTEND;TZID=Europe/Berlin:20280510T184500
DTSTAMP:20260423T032333
CREATED:20250131T075402Z
LAST-MODIFIED:20250131T075402Z
UID:10006538-1841597100-1841597100@swv-sindelfingen.de
SUMMARY:Trainingsbetrieb
DESCRIPTION:Mittwochabends (im Winterhalbjahr ab 18:45 Uhr)\, im Badezentrum Sindelfingen (außer in den Schulferien\, dann z.T. Ersatztraining).\nInfos: Felix Loroff
URL:https://swv-sindelfingen.de/event/trainingsbetrieb/2028-05-10/
CATEGORIES:Kanusport
END:VEVENT
BEGIN:VEVENT
DTSTART;TZID=Europe/Berlin:20280510T190000
DTEND;TZID=Europe/Berlin:20280510T211500
DTSTAMP:20260423T032333
CREATED:20250130T202848Z
LAST-MODIFIED:20250130T202848Z
UID:10005414-1841598000-1841606100@swv-sindelfingen.de
SUMMARY:Fitness nur für Frauen
DESCRIPTION:
URL:https://swv-sindelfingen.de/event/fitness-nur-fuer-frauen-2/2028-05-10/
END:VEVENT
BEGIN:VEVENT
DTSTART;TZID=Europe/Berlin:20280511T193000
DTEND;TZID=Europe/Berlin:20280511T210000
DTSTAMP:20260423T032333
CREATED:20250130T203352Z
LAST-MODIFIED:20260220T175000Z
UID:10005695-1841686200-1841691600@swv-sindelfingen.de
SUMMARY:Fitness Workout
DESCRIPTION:
URL:https://swv-sindelfingen.de/event/fitness-workout-2/2028-05-11/
LOCATION:Realschule Klstergarten
END:VEVENT
BEGIN:VEVENT
DTSTART;TZID=Europe/Berlin:20280512T080000
DTEND;TZID=Europe/Berlin:20280512T170000
DTSTAMP:20260423T032333
CREATED:20250130T204210Z
LAST-MODIFIED:20250130T204210Z
UID:10006251-1841731200-1841763600@swv-sindelfingen.de
SUMMARY:Fit werden - fit bleiben
DESCRIPTION:
URL:https://swv-sindelfingen.de/event/fit-werden-fit-bleiben-2/2028-05-12/
END:VEVENT
BEGIN:VEVENT
DTSTART;TZID=Europe/Berlin:20280515T084500
DTEND;TZID=Europe/Berlin:20280515T101500
DTSTAMP:20260423T032333
CREATED:20250221T150206Z
LAST-MODIFIED:20250221T150206Z
UID:10006834-1841993100-1841998500@swv-sindelfingen.de
SUMMARY:Nordic Walking
DESCRIPTION:
URL:https://swv-sindelfingen.de/event/nordic-walking-3/2028-05-15/
LOCATION:SWV – Vereinsheim\, Arthur-Gruber-Strasse 65\, SIndelfingen\, Deutschland\, 71065
END:VEVENT
BEGIN:VEVENT
DTSTART;TZID=Europe/Berlin:20280516T193000
DTEND;TZID=Europe/Berlin:20280516T210000
DTSTAMP:20260423T032333
CREATED:20250130T201106Z
LAST-MODIFIED:20250130T201221Z
UID:10005140-1842118200-1842123600@swv-sindelfingen.de
SUMMARY:Powergymnastik
DESCRIPTION:
URL:https://swv-sindelfingen.de/event/powergymnastikk/2028-05-16/
END:VEVENT
BEGIN:VEVENT
DTSTART;TZID=Europe/Berlin:20280517T184500
DTEND;TZID=Europe/Berlin:20280517T184500
DTSTAMP:20260423T032333
CREATED:20250131T075402Z
LAST-MODIFIED:20250131T075402Z
UID:10006539-1842201900-1842201900@swv-sindelfingen.de
SUMMARY:Trainingsbetrieb
DESCRIPTION:Mittwochabends (im Winterhalbjahr ab 18:45 Uhr)\, im Badezentrum Sindelfingen (außer in den Schulferien\, dann z.T. Ersatztraining).\nInfos: Felix Loroff
URL:https://swv-sindelfingen.de/event/trainingsbetrieb/2028-05-17/
CATEGORIES:Kanusport
END:VEVENT
BEGIN:VEVENT
DTSTART;TZID=Europe/Berlin:20280517T190000
DTEND;TZID=Europe/Berlin:20280517T211500
DTSTAMP:20260423T032333
CREATED:20250130T202848Z
LAST-MODIFIED:20250130T202848Z
UID:10005415-1842202800-1842210900@swv-sindelfingen.de
SUMMARY:Fitness nur für Frauen
DESCRIPTION:
URL:https://swv-sindelfingen.de/event/fitness-nur-fuer-frauen-2/2028-05-17/
END:VEVENT
BEGIN:VEVENT
DTSTART;TZID=Europe/Berlin:20280518T193000
DTEND;TZID=Europe/Berlin:20280518T210000
DTSTAMP:20260423T032333
CREATED:20250130T203352Z
LAST-MODIFIED:20260220T175000Z
UID:10005696-1842291000-1842296400@swv-sindelfingen.de
SUMMARY:Fitness Workout
DESCRIPTION:
URL:https://swv-sindelfingen.de/event/fitness-workout-2/2028-05-18/
LOCATION:Realschule Klstergarten
END:VEVENT
BEGIN:VEVENT
DTSTART;TZID=Europe/Berlin:20280519T080000
DTEND;TZID=Europe/Berlin:20280519T170000
DTSTAMP:20260423T032333
CREATED:20250130T204210Z
LAST-MODIFIED:20250130T204210Z
UID:10006252-1842336000-1842368400@swv-sindelfingen.de
SUMMARY:Fit werden - fit bleiben
DESCRIPTION:
URL:https://swv-sindelfingen.de/event/fit-werden-fit-bleiben-2/2028-05-19/
END:VEVENT
BEGIN:VEVENT
DTSTART;TZID=Europe/Berlin:20280522T084500
DTEND;TZID=Europe/Berlin:20280522T101500
DTSTAMP:20260423T032333
CREATED:20250221T150206Z
LAST-MODIFIED:20250221T150206Z
UID:10006835-1842597900-1842603300@swv-sindelfingen.de
SUMMARY:Nordic Walking
DESCRIPTION:
URL:https://swv-sindelfingen.de/event/nordic-walking-3/2028-05-22/
LOCATION:SWV – Vereinsheim\, Arthur-Gruber-Strasse 65\, SIndelfingen\, Deutschland\, 71065
END:VEVENT
BEGIN:VEVENT
DTSTART;TZID=Europe/Berlin:20280523T193000
DTEND;TZID=Europe/Berlin:20280523T210000
DTSTAMP:20260423T032333
CREATED:20250130T201106Z
LAST-MODIFIED:20250130T201221Z
UID:10005141-1842723000-1842728400@swv-sindelfingen.de
SUMMARY:Powergymnastik
DESCRIPTION:
URL:https://swv-sindelfingen.de/event/powergymnastikk/2028-05-23/
END:VEVENT
BEGIN:VEVENT
DTSTART;TZID=Europe/Berlin:20280524T184500
DTEND;TZID=Europe/Berlin:20280524T184500
DTSTAMP:20260423T032333
CREATED:20250131T075402Z
LAST-MODIFIED:20250131T075402Z
UID:10006540-1842806700-1842806700@swv-sindelfingen.de
SUMMARY:Trainingsbetrieb
DESCRIPTION:Mittwochabends (im Winterhalbjahr ab 18:45 Uhr)\, im Badezentrum Sindelfingen (außer in den Schulferien\, dann z.T. Ersatztraining).\nInfos: Felix Loroff
URL:https://swv-sindelfingen.de/event/trainingsbetrieb/2028-05-24/
CATEGORIES:Kanusport
END:VEVENT
BEGIN:VEVENT
DTSTART;TZID=Europe/Berlin:20280524T190000
DTEND;TZID=Europe/Berlin:20280524T211500
DTSTAMP:20260423T032333
CREATED:20250130T202848Z
LAST-MODIFIED:20250130T202848Z
UID:10005416-1842807600-1842815700@swv-sindelfingen.de
SUMMARY:Fitness nur für Frauen
DESCRIPTION:
URL:https://swv-sindelfingen.de/event/fitness-nur-fuer-frauen-2/2028-05-24/
END:VEVENT
BEGIN:VEVENT
DTSTART;TZID=Europe/Berlin:20280525T193000
DTEND;TZID=Europe/Berlin:20280525T210000
DTSTAMP:20260423T032333
CREATED:20250130T203352Z
LAST-MODIFIED:20260220T175000Z
UID:10005697-1842895800-1842901200@swv-sindelfingen.de
SUMMARY:Fitness Workout
DESCRIPTION:
URL:https://swv-sindelfingen.de/event/fitness-workout-2/2028-05-25/
LOCATION:Realschule Klstergarten
END:VEVENT
BEGIN:VEVENT
DTSTART;TZID=Europe/Berlin:20280526T080000
DTEND;TZID=Europe/Berlin:20280526T170000
DTSTAMP:20260423T032333
CREATED:20250130T204210Z
LAST-MODIFIED:20250130T204210Z
UID:10006253-1842940800-1842973200@swv-sindelfingen.de
SUMMARY:Fit werden - fit bleiben
DESCRIPTION:
URL:https://swv-sindelfingen.de/event/fit-werden-fit-bleiben-2/2028-05-26/
END:VEVENT
BEGIN:VEVENT
DTSTART;TZID=Europe/Berlin:20280529T084500
DTEND;TZID=Europe/Berlin:20280529T101500
DTSTAMP:20260423T032333
CREATED:20250221T150206Z
LAST-MODIFIED:20250221T150206Z
UID:10006836-1843202700-1843208100@swv-sindelfingen.de
SUMMARY:Nordic Walking
DESCRIPTION:
URL:https://swv-sindelfingen.de/event/nordic-walking-3/2028-05-29/
LOCATION:SWV – Vereinsheim\, Arthur-Gruber-Strasse 65\, SIndelfingen\, Deutschland\, 71065
END:VEVENT
BEGIN:VEVENT
DTSTART;TZID=Europe/Berlin:20280530T193000
DTEND;TZID=Europe/Berlin:20280530T210000
DTSTAMP:20260423T032333
CREATED:20250130T201106Z
LAST-MODIFIED:20250130T201221Z
UID:10005142-1843327800-1843333200@swv-sindelfingen.de
SUMMARY:Powergymnastik
DESCRIPTION:
URL:https://swv-sindelfingen.de/event/powergymnastikk/2028-05-30/
END:VEVENT
BEGIN:VEVENT
DTSTART;TZID=Europe/Berlin:20280531T184500
DTEND;TZID=Europe/Berlin:20280531T184500
DTSTAMP:20260423T032333
CREATED:20250131T075402Z
LAST-MODIFIED:20250131T075402Z
UID:10006541-1843411500-1843411500@swv-sindelfingen.de
SUMMARY:Trainingsbetrieb
DESCRIPTION:Mittwochabends (im Winterhalbjahr ab 18:45 Uhr)\, im Badezentrum Sindelfingen (außer in den Schulferien\, dann z.T. Ersatztraining).\nInfos: Felix Loroff
URL:https://swv-sindelfingen.de/event/trainingsbetrieb/2028-05-31/
CATEGORIES:Kanusport
END:VEVENT
BEGIN:VEVENT
DTSTART;TZID=Europe/Berlin:20280531T190000
DTEND;TZID=Europe/Berlin:20280531T211500
DTSTAMP:20260423T032333
CREATED:20250130T202848Z
LAST-MODIFIED:20250130T202848Z
UID:10005417-1843412400-1843420500@swv-sindelfingen.de
SUMMARY:Fitness nur für Frauen
DESCRIPTION:
URL:https://swv-sindelfingen.de/event/fitness-nur-fuer-frauen-2/2028-05-31/
END:VEVENT
END:VCALENDAR