BEGIN:VCALENDAR
VERSION:2.0
PRODID:-//Schwarzwaldverein Sindelfingen e. V. - ECPv6.15.20//NONSGML v1.0//EN
CALSCALE:GREGORIAN
METHOD:PUBLISH
X-ORIGINAL-URL:https://swv-sindelfingen.de
X-WR-CALDESC:Veranstaltungen für Schwarzwaldverein Sindelfingen e. V.
REFRESH-INTERVAL;VALUE=DURATION:PT1H
X-Robots-Tag:noindex
X-PUBLISHED-TTL:PT1H
BEGIN:VTIMEZONE
TZID:Europe/Berlin
BEGIN:DAYLIGHT
TZOFFSETFROM:+0100
TZOFFSETTO:+0200
TZNAME:CEST
DTSTART:20270328T010000
END:DAYLIGHT
BEGIN:STANDARD
TZOFFSETFROM:+0200
TZOFFSETTO:+0100
TZNAME:CET
DTSTART:20271031T010000
END:STANDARD
BEGIN:DAYLIGHT
TZOFFSETFROM:+0100
TZOFFSETTO:+0200
TZNAME:CEST
DTSTART:20280326T010000
END:DAYLIGHT
BEGIN:STANDARD
TZOFFSETFROM:+0200
TZOFFSETTO:+0100
TZNAME:CET
DTSTART:20281029T010000
END:STANDARD
BEGIN:DAYLIGHT
TZOFFSETFROM:+0100
TZOFFSETTO:+0200
TZNAME:CEST
DTSTART:20290325T010000
END:DAYLIGHT
BEGIN:STANDARD
TZOFFSETFROM:+0200
TZOFFSETTO:+0100
TZNAME:CET
DTSTART:20291028T010000
END:STANDARD
END:VTIMEZONE
BEGIN:VEVENT
DTSTART;TZID=Europe/Berlin:20280403T084500
DTEND;TZID=Europe/Berlin:20280403T101500
DTSTAMP:20260423T015923
CREATED:20250221T150206Z
LAST-MODIFIED:20250221T150206Z
UID:10006828-1838364300-1838369700@swv-sindelfingen.de
SUMMARY:Nordic Walking
DESCRIPTION:
URL:https://swv-sindelfingen.de/event/nordic-walking-3/2028-04-03/
LOCATION:SWV – Vereinsheim\, Arthur-Gruber-Strasse 65\, SIndelfingen\, Deutschland\, 71065
END:VEVENT
BEGIN:VEVENT
DTSTART;TZID=Europe/Berlin:20280404T193000
DTEND;TZID=Europe/Berlin:20280404T210000
DTSTAMP:20260423T015923
CREATED:20250130T201106Z
LAST-MODIFIED:20250130T201221Z
UID:10005134-1838489400-1838494800@swv-sindelfingen.de
SUMMARY:Powergymnastik
DESCRIPTION:
URL:https://swv-sindelfingen.de/event/powergymnastikk/2028-04-04/
END:VEVENT
BEGIN:VEVENT
DTSTART;TZID=Europe/Berlin:20280405T184500
DTEND;TZID=Europe/Berlin:20280405T184500
DTSTAMP:20260423T015923
CREATED:20250131T075402Z
LAST-MODIFIED:20250131T075402Z
UID:10006533-1838573100-1838573100@swv-sindelfingen.de
SUMMARY:Trainingsbetrieb
DESCRIPTION:Mittwochabends (im Winterhalbjahr ab 18:45 Uhr)\, im Badezentrum Sindelfingen (außer in den Schulferien\, dann z.T. Ersatztraining).\nInfos: Felix Loroff
URL:https://swv-sindelfingen.de/event/trainingsbetrieb/2028-04-05/
CATEGORIES:Kanusport
END:VEVENT
BEGIN:VEVENT
DTSTART;TZID=Europe/Berlin:20280405T190000
DTEND;TZID=Europe/Berlin:20280405T211500
DTSTAMP:20260423T015923
CREATED:20250130T202848Z
LAST-MODIFIED:20250130T202848Z
UID:10005409-1838574000-1838582100@swv-sindelfingen.de
SUMMARY:Fitness nur für Frauen
DESCRIPTION:
URL:https://swv-sindelfingen.de/event/fitness-nur-fuer-frauen-2/2028-04-05/
END:VEVENT
BEGIN:VEVENT
DTSTART;TZID=Europe/Berlin:20280406T193000
DTEND;TZID=Europe/Berlin:20280406T210000
DTSTAMP:20260423T015923
CREATED:20250130T203352Z
LAST-MODIFIED:20260220T175000Z
UID:10005690-1838662200-1838667600@swv-sindelfingen.de
SUMMARY:Fitness Workout
DESCRIPTION:
URL:https://swv-sindelfingen.de/event/fitness-workout-2/2028-04-06/
LOCATION:Realschule Klstergarten
END:VEVENT
BEGIN:VEVENT
DTSTART;TZID=Europe/Berlin:20280407T080000
DTEND;TZID=Europe/Berlin:20280407T170000
DTSTAMP:20260423T015923
CREATED:20250130T204210Z
LAST-MODIFIED:20250130T204210Z
UID:10006246-1838707200-1838739600@swv-sindelfingen.de
SUMMARY:Fit werden - fit bleiben
DESCRIPTION:
URL:https://swv-sindelfingen.de/event/fit-werden-fit-bleiben-2/2028-04-07/
END:VEVENT
BEGIN:VEVENT
DTSTART;TZID=Europe/Berlin:20280410T084500
DTEND;TZID=Europe/Berlin:20280410T101500
DTSTAMP:20260423T015923
CREATED:20250221T150206Z
LAST-MODIFIED:20250221T150206Z
UID:10006829-1838969100-1838974500@swv-sindelfingen.de
SUMMARY:Nordic Walking
DESCRIPTION:
URL:https://swv-sindelfingen.de/event/nordic-walking-3/2028-04-10/
LOCATION:SWV – Vereinsheim\, Arthur-Gruber-Strasse 65\, SIndelfingen\, Deutschland\, 71065
END:VEVENT
BEGIN:VEVENT
DTSTART;TZID=Europe/Berlin:20280411T193000
DTEND;TZID=Europe/Berlin:20280411T210000
DTSTAMP:20260423T015923
CREATED:20250130T201106Z
LAST-MODIFIED:20250130T201221Z
UID:10005135-1839094200-1839099600@swv-sindelfingen.de
SUMMARY:Powergymnastik
DESCRIPTION:
URL:https://swv-sindelfingen.de/event/powergymnastikk/2028-04-11/
END:VEVENT
BEGIN:VEVENT
DTSTART;TZID=Europe/Berlin:20280412T184500
DTEND;TZID=Europe/Berlin:20280412T184500
DTSTAMP:20260423T015923
CREATED:20250131T075402Z
LAST-MODIFIED:20250131T075402Z
UID:10006534-1839177900-1839177900@swv-sindelfingen.de
SUMMARY:Trainingsbetrieb
DESCRIPTION:Mittwochabends (im Winterhalbjahr ab 18:45 Uhr)\, im Badezentrum Sindelfingen (außer in den Schulferien\, dann z.T. Ersatztraining).\nInfos: Felix Loroff
URL:https://swv-sindelfingen.de/event/trainingsbetrieb/2028-04-12/
CATEGORIES:Kanusport
END:VEVENT
BEGIN:VEVENT
DTSTART;TZID=Europe/Berlin:20280412T190000
DTEND;TZID=Europe/Berlin:20280412T211500
DTSTAMP:20260423T015923
CREATED:20250130T202848Z
LAST-MODIFIED:20250130T202848Z
UID:10005410-1839178800-1839186900@swv-sindelfingen.de
SUMMARY:Fitness nur für Frauen
DESCRIPTION:
URL:https://swv-sindelfingen.de/event/fitness-nur-fuer-frauen-2/2028-04-12/
END:VEVENT
BEGIN:VEVENT
DTSTART;TZID=Europe/Berlin:20280413T193000
DTEND;TZID=Europe/Berlin:20280413T210000
DTSTAMP:20260423T015923
CREATED:20250130T203352Z
LAST-MODIFIED:20260220T175000Z
UID:10005691-1839267000-1839272400@swv-sindelfingen.de
SUMMARY:Fitness Workout
DESCRIPTION:
URL:https://swv-sindelfingen.de/event/fitness-workout-2/2028-04-13/
LOCATION:Realschule Klstergarten
END:VEVENT
BEGIN:VEVENT
DTSTART;TZID=Europe/Berlin:20280414T080000
DTEND;TZID=Europe/Berlin:20280414T170000
DTSTAMP:20260423T015923
CREATED:20250130T204210Z
LAST-MODIFIED:20250130T204210Z
UID:10006247-1839312000-1839344400@swv-sindelfingen.de
SUMMARY:Fit werden - fit bleiben
DESCRIPTION:
URL:https://swv-sindelfingen.de/event/fit-werden-fit-bleiben-2/2028-04-14/
END:VEVENT
BEGIN:VEVENT
DTSTART;TZID=Europe/Berlin:20280417T084500
DTEND;TZID=Europe/Berlin:20280417T101500
DTSTAMP:20260423T015923
CREATED:20250221T150206Z
LAST-MODIFIED:20250221T150206Z
UID:10006830-1839573900-1839579300@swv-sindelfingen.de
SUMMARY:Nordic Walking
DESCRIPTION:
URL:https://swv-sindelfingen.de/event/nordic-walking-3/2028-04-17/
LOCATION:SWV – Vereinsheim\, Arthur-Gruber-Strasse 65\, SIndelfingen\, Deutschland\, 71065
END:VEVENT
BEGIN:VEVENT
DTSTART;TZID=Europe/Berlin:20280418T193000
DTEND;TZID=Europe/Berlin:20280418T210000
DTSTAMP:20260423T015923
CREATED:20250130T201106Z
LAST-MODIFIED:20250130T201221Z
UID:10005136-1839699000-1839704400@swv-sindelfingen.de
SUMMARY:Powergymnastik
DESCRIPTION:
URL:https://swv-sindelfingen.de/event/powergymnastikk/2028-04-18/
END:VEVENT
BEGIN:VEVENT
DTSTART;TZID=Europe/Berlin:20280419T184500
DTEND;TZID=Europe/Berlin:20280419T184500
DTSTAMP:20260423T015923
CREATED:20250131T075402Z
LAST-MODIFIED:20250131T075402Z
UID:10006535-1839782700-1839782700@swv-sindelfingen.de
SUMMARY:Trainingsbetrieb
DESCRIPTION:Mittwochabends (im Winterhalbjahr ab 18:45 Uhr)\, im Badezentrum Sindelfingen (außer in den Schulferien\, dann z.T. Ersatztraining).\nInfos: Felix Loroff
URL:https://swv-sindelfingen.de/event/trainingsbetrieb/2028-04-19/
CATEGORIES:Kanusport
END:VEVENT
BEGIN:VEVENT
DTSTART;TZID=Europe/Berlin:20280419T190000
DTEND;TZID=Europe/Berlin:20280419T211500
DTSTAMP:20260423T015923
CREATED:20250130T202848Z
LAST-MODIFIED:20250130T202848Z
UID:10005411-1839783600-1839791700@swv-sindelfingen.de
SUMMARY:Fitness nur für Frauen
DESCRIPTION:
URL:https://swv-sindelfingen.de/event/fitness-nur-fuer-frauen-2/2028-04-19/
END:VEVENT
BEGIN:VEVENT
DTSTART;TZID=Europe/Berlin:20280420T193000
DTEND;TZID=Europe/Berlin:20280420T210000
DTSTAMP:20260423T015923
CREATED:20250130T203352Z
LAST-MODIFIED:20260220T175000Z
UID:10005692-1839871800-1839877200@swv-sindelfingen.de
SUMMARY:Fitness Workout
DESCRIPTION:
URL:https://swv-sindelfingen.de/event/fitness-workout-2/2028-04-20/
LOCATION:Realschule Klstergarten
END:VEVENT
BEGIN:VEVENT
DTSTART;TZID=Europe/Berlin:20280421T080000
DTEND;TZID=Europe/Berlin:20280421T170000
DTSTAMP:20260423T015923
CREATED:20250130T204210Z
LAST-MODIFIED:20250130T204210Z
UID:10006248-1839916800-1839949200@swv-sindelfingen.de
SUMMARY:Fit werden - fit bleiben
DESCRIPTION:
URL:https://swv-sindelfingen.de/event/fit-werden-fit-bleiben-2/2028-04-21/
END:VEVENT
BEGIN:VEVENT
DTSTART;TZID=Europe/Berlin:20280424T084500
DTEND;TZID=Europe/Berlin:20280424T101500
DTSTAMP:20260423T015923
CREATED:20250221T150206Z
LAST-MODIFIED:20250221T150206Z
UID:10006831-1840178700-1840184100@swv-sindelfingen.de
SUMMARY:Nordic Walking
DESCRIPTION:
URL:https://swv-sindelfingen.de/event/nordic-walking-3/2028-04-24/
LOCATION:SWV – Vereinsheim\, Arthur-Gruber-Strasse 65\, SIndelfingen\, Deutschland\, 71065
END:VEVENT
BEGIN:VEVENT
DTSTART;TZID=Europe/Berlin:20280425T193000
DTEND;TZID=Europe/Berlin:20280425T210000
DTSTAMP:20260423T015923
CREATED:20250130T201106Z
LAST-MODIFIED:20250130T201221Z
UID:10005137-1840303800-1840309200@swv-sindelfingen.de
SUMMARY:Powergymnastik
DESCRIPTION:
URL:https://swv-sindelfingen.de/event/powergymnastikk/2028-04-25/
END:VEVENT
BEGIN:VEVENT
DTSTART;TZID=Europe/Berlin:20280426T184500
DTEND;TZID=Europe/Berlin:20280426T184500
DTSTAMP:20260423T015923
CREATED:20250131T075402Z
LAST-MODIFIED:20250131T075402Z
UID:10006536-1840387500-1840387500@swv-sindelfingen.de
SUMMARY:Trainingsbetrieb
DESCRIPTION:Mittwochabends (im Winterhalbjahr ab 18:45 Uhr)\, im Badezentrum Sindelfingen (außer in den Schulferien\, dann z.T. Ersatztraining).\nInfos: Felix Loroff
URL:https://swv-sindelfingen.de/event/trainingsbetrieb/2028-04-26/
CATEGORIES:Kanusport
END:VEVENT
BEGIN:VEVENT
DTSTART;TZID=Europe/Berlin:20280426T190000
DTEND;TZID=Europe/Berlin:20280426T211500
DTSTAMP:20260423T015923
CREATED:20250130T202848Z
LAST-MODIFIED:20250130T202848Z
UID:10005412-1840388400-1840396500@swv-sindelfingen.de
SUMMARY:Fitness nur für Frauen
DESCRIPTION:
URL:https://swv-sindelfingen.de/event/fitness-nur-fuer-frauen-2/2028-04-26/
END:VEVENT
BEGIN:VEVENT
DTSTART;TZID=Europe/Berlin:20280427T193000
DTEND;TZID=Europe/Berlin:20280427T210000
DTSTAMP:20260423T015923
CREATED:20250130T203352Z
LAST-MODIFIED:20260220T175000Z
UID:10005693-1840476600-1840482000@swv-sindelfingen.de
SUMMARY:Fitness Workout
DESCRIPTION:
URL:https://swv-sindelfingen.de/event/fitness-workout-2/2028-04-27/
LOCATION:Realschule Klstergarten
END:VEVENT
BEGIN:VEVENT
DTSTART;TZID=Europe/Berlin:20280428T080000
DTEND;TZID=Europe/Berlin:20280428T170000
DTSTAMP:20260423T015923
CREATED:20250130T204210Z
LAST-MODIFIED:20250130T204210Z
UID:10006249-1840521600-1840554000@swv-sindelfingen.de
SUMMARY:Fit werden - fit bleiben
DESCRIPTION:
URL:https://swv-sindelfingen.de/event/fit-werden-fit-bleiben-2/2028-04-28/
END:VEVENT
END:VCALENDAR