BEGIN:VCALENDAR
VERSION:2.0
PRODID:-//Schwarzwaldverein Sindelfingen e. V. - ECPv6.15.20//NONSGML v1.0//EN
CALSCALE:GREGORIAN
METHOD:PUBLISH
X-ORIGINAL-URL:https://swv-sindelfingen.de
X-WR-CALDESC:Veranstaltungen für Schwarzwaldverein Sindelfingen e. V.
REFRESH-INTERVAL;VALUE=DURATION:PT1H
X-Robots-Tag:noindex
X-PUBLISHED-TTL:PT1H
BEGIN:VTIMEZONE
TZID:Europe/Berlin
BEGIN:DAYLIGHT
TZOFFSETFROM:+0100
TZOFFSETTO:+0200
TZNAME:CEST
DTSTART:20270328T010000
END:DAYLIGHT
BEGIN:STANDARD
TZOFFSETFROM:+0200
TZOFFSETTO:+0100
TZNAME:CET
DTSTART:20271031T010000
END:STANDARD
BEGIN:DAYLIGHT
TZOFFSETFROM:+0100
TZOFFSETTO:+0200
TZNAME:CEST
DTSTART:20280326T010000
END:DAYLIGHT
BEGIN:STANDARD
TZOFFSETFROM:+0200
TZOFFSETTO:+0100
TZNAME:CET
DTSTART:20281029T010000
END:STANDARD
BEGIN:DAYLIGHT
TZOFFSETFROM:+0100
TZOFFSETTO:+0200
TZNAME:CEST
DTSTART:20290325T010000
END:DAYLIGHT
BEGIN:STANDARD
TZOFFSETFROM:+0200
TZOFFSETTO:+0100
TZNAME:CET
DTSTART:20291028T010000
END:STANDARD
END:VTIMEZONE
BEGIN:VEVENT
DTSTART;TZID=Europe/Berlin:20280201T193000
DTEND;TZID=Europe/Berlin:20280201T210000
DTSTAMP:20260422T144253
CREATED:20250130T201106Z
LAST-MODIFIED:20250130T201221Z
UID:10005125-1833046200-1833051600@swv-sindelfingen.de
SUMMARY:Powergymnastik
DESCRIPTION:
URL:https://swv-sindelfingen.de/event/powergymnastikk/2028-02-01/
END:VEVENT
BEGIN:VEVENT
DTSTART;TZID=Europe/Berlin:20280202T184500
DTEND;TZID=Europe/Berlin:20280202T184500
DTSTAMP:20260422T144253
CREATED:20250131T075402Z
LAST-MODIFIED:20250131T075402Z
UID:10006524-1833129900-1833129900@swv-sindelfingen.de
SUMMARY:Trainingsbetrieb
DESCRIPTION:Mittwochabends (im Winterhalbjahr ab 18:45 Uhr)\, im Badezentrum Sindelfingen (außer in den Schulferien\, dann z.T. Ersatztraining).\nInfos: Felix Loroff
URL:https://swv-sindelfingen.de/event/trainingsbetrieb/2028-02-02/
CATEGORIES:Kanusport
END:VEVENT
BEGIN:VEVENT
DTSTART;TZID=Europe/Berlin:20280202T190000
DTEND;TZID=Europe/Berlin:20280202T211500
DTSTAMP:20260422T144253
CREATED:20250130T202848Z
LAST-MODIFIED:20250130T202848Z
UID:10005400-1833130800-1833138900@swv-sindelfingen.de
SUMMARY:Fitness nur für Frauen
DESCRIPTION:
URL:https://swv-sindelfingen.de/event/fitness-nur-fuer-frauen-2/2028-02-02/
END:VEVENT
BEGIN:VEVENT
DTSTART;TZID=Europe/Berlin:20280203T193000
DTEND;TZID=Europe/Berlin:20280203T210000
DTSTAMP:20260422T144253
CREATED:20250130T203352Z
LAST-MODIFIED:20260220T175000Z
UID:10005681-1833219000-1833224400@swv-sindelfingen.de
SUMMARY:Fitness Workout
DESCRIPTION:
URL:https://swv-sindelfingen.de/event/fitness-workout-2/2028-02-03/
LOCATION:Realschule Klstergarten
END:VEVENT
BEGIN:VEVENT
DTSTART;TZID=Europe/Berlin:20280204T080000
DTEND;TZID=Europe/Berlin:20280204T170000
DTSTAMP:20260422T144253
CREATED:20250130T204210Z
LAST-MODIFIED:20250130T204210Z
UID:10006237-1833264000-1833296400@swv-sindelfingen.de
SUMMARY:Fit werden - fit bleiben
DESCRIPTION:
URL:https://swv-sindelfingen.de/event/fit-werden-fit-bleiben-2/2028-02-04/
END:VEVENT
BEGIN:VEVENT
DTSTART;TZID=Europe/Berlin:20280207T084500
DTEND;TZID=Europe/Berlin:20280207T101500
DTSTAMP:20260422T144253
CREATED:20250221T150206Z
LAST-MODIFIED:20250221T150206Z
UID:10006820-1833525900-1833531300@swv-sindelfingen.de
SUMMARY:Nordic Walking
DESCRIPTION:
URL:https://swv-sindelfingen.de/event/nordic-walking-3/2028-02-07/
LOCATION:SWV – Vereinsheim\, Arthur-Gruber-Strasse 65\, SIndelfingen\, Deutschland\, 71065
END:VEVENT
BEGIN:VEVENT
DTSTART;TZID=Europe/Berlin:20280208T193000
DTEND;TZID=Europe/Berlin:20280208T210000
DTSTAMP:20260422T144253
CREATED:20250130T201106Z
LAST-MODIFIED:20250130T201221Z
UID:10005126-1833651000-1833656400@swv-sindelfingen.de
SUMMARY:Powergymnastik
DESCRIPTION:
URL:https://swv-sindelfingen.de/event/powergymnastikk/2028-02-08/
END:VEVENT
BEGIN:VEVENT
DTSTART;TZID=Europe/Berlin:20280209T184500
DTEND;TZID=Europe/Berlin:20280209T184500
DTSTAMP:20260422T144253
CREATED:20250131T075402Z
LAST-MODIFIED:20250131T075402Z
UID:10006525-1833734700-1833734700@swv-sindelfingen.de
SUMMARY:Trainingsbetrieb
DESCRIPTION:Mittwochabends (im Winterhalbjahr ab 18:45 Uhr)\, im Badezentrum Sindelfingen (außer in den Schulferien\, dann z.T. Ersatztraining).\nInfos: Felix Loroff
URL:https://swv-sindelfingen.de/event/trainingsbetrieb/2028-02-09/
CATEGORIES:Kanusport
END:VEVENT
BEGIN:VEVENT
DTSTART;TZID=Europe/Berlin:20280209T190000
DTEND;TZID=Europe/Berlin:20280209T211500
DTSTAMP:20260422T144253
CREATED:20250130T202848Z
LAST-MODIFIED:20250130T202848Z
UID:10005401-1833735600-1833743700@swv-sindelfingen.de
SUMMARY:Fitness nur für Frauen
DESCRIPTION:
URL:https://swv-sindelfingen.de/event/fitness-nur-fuer-frauen-2/2028-02-09/
END:VEVENT
BEGIN:VEVENT
DTSTART;TZID=Europe/Berlin:20280210T193000
DTEND;TZID=Europe/Berlin:20280210T210000
DTSTAMP:20260422T144253
CREATED:20250130T203352Z
LAST-MODIFIED:20260220T175000Z
UID:10005682-1833823800-1833829200@swv-sindelfingen.de
SUMMARY:Fitness Workout
DESCRIPTION:
URL:https://swv-sindelfingen.de/event/fitness-workout-2/2028-02-10/
LOCATION:Realschule Klstergarten
END:VEVENT
BEGIN:VEVENT
DTSTART;TZID=Europe/Berlin:20280211T080000
DTEND;TZID=Europe/Berlin:20280211T170000
DTSTAMP:20260422T144253
CREATED:20250130T204210Z
LAST-MODIFIED:20250130T204210Z
UID:10006238-1833868800-1833901200@swv-sindelfingen.de
SUMMARY:Fit werden - fit bleiben
DESCRIPTION:
URL:https://swv-sindelfingen.de/event/fit-werden-fit-bleiben-2/2028-02-11/
END:VEVENT
BEGIN:VEVENT
DTSTART;TZID=Europe/Berlin:20280214T084500
DTEND;TZID=Europe/Berlin:20280214T101500
DTSTAMP:20260422T144253
CREATED:20250221T150206Z
LAST-MODIFIED:20250221T150206Z
UID:10006821-1834130700-1834136100@swv-sindelfingen.de
SUMMARY:Nordic Walking
DESCRIPTION:
URL:https://swv-sindelfingen.de/event/nordic-walking-3/2028-02-14/
LOCATION:SWV – Vereinsheim\, Arthur-Gruber-Strasse 65\, SIndelfingen\, Deutschland\, 71065
END:VEVENT
BEGIN:VEVENT
DTSTART;TZID=Europe/Berlin:20280215T193000
DTEND;TZID=Europe/Berlin:20280215T210000
DTSTAMP:20260422T144253
CREATED:20250130T201106Z
LAST-MODIFIED:20250130T201221Z
UID:10005127-1834255800-1834261200@swv-sindelfingen.de
SUMMARY:Powergymnastik
DESCRIPTION:
URL:https://swv-sindelfingen.de/event/powergymnastikk/2028-02-15/
END:VEVENT
BEGIN:VEVENT
DTSTART;TZID=Europe/Berlin:20280216T184500
DTEND;TZID=Europe/Berlin:20280216T184500
DTSTAMP:20260422T144253
CREATED:20250131T075402Z
LAST-MODIFIED:20250131T075402Z
UID:10006526-1834339500-1834339500@swv-sindelfingen.de
SUMMARY:Trainingsbetrieb
DESCRIPTION:Mittwochabends (im Winterhalbjahr ab 18:45 Uhr)\, im Badezentrum Sindelfingen (außer in den Schulferien\, dann z.T. Ersatztraining).\nInfos: Felix Loroff
URL:https://swv-sindelfingen.de/event/trainingsbetrieb/2028-02-16/
CATEGORIES:Kanusport
END:VEVENT
BEGIN:VEVENT
DTSTART;TZID=Europe/Berlin:20280216T190000
DTEND;TZID=Europe/Berlin:20280216T211500
DTSTAMP:20260422T144253
CREATED:20250130T202848Z
LAST-MODIFIED:20250130T202848Z
UID:10005402-1834340400-1834348500@swv-sindelfingen.de
SUMMARY:Fitness nur für Frauen
DESCRIPTION:
URL:https://swv-sindelfingen.de/event/fitness-nur-fuer-frauen-2/2028-02-16/
END:VEVENT
BEGIN:VEVENT
DTSTART;TZID=Europe/Berlin:20280217T193000
DTEND;TZID=Europe/Berlin:20280217T210000
DTSTAMP:20260422T144253
CREATED:20250130T203352Z
LAST-MODIFIED:20260220T175000Z
UID:10005683-1834428600-1834434000@swv-sindelfingen.de
SUMMARY:Fitness Workout
DESCRIPTION:
URL:https://swv-sindelfingen.de/event/fitness-workout-2/2028-02-17/
LOCATION:Realschule Klstergarten
END:VEVENT
BEGIN:VEVENT
DTSTART;TZID=Europe/Berlin:20280218T080000
DTEND;TZID=Europe/Berlin:20280218T170000
DTSTAMP:20260422T144253
CREATED:20250130T204210Z
LAST-MODIFIED:20250130T204210Z
UID:10006239-1834473600-1834506000@swv-sindelfingen.de
SUMMARY:Fit werden - fit bleiben
DESCRIPTION:
URL:https://swv-sindelfingen.de/event/fit-werden-fit-bleiben-2/2028-02-18/
END:VEVENT
BEGIN:VEVENT
DTSTART;TZID=Europe/Berlin:20280221T084500
DTEND;TZID=Europe/Berlin:20280221T101500
DTSTAMP:20260422T144253
CREATED:20250221T150206Z
LAST-MODIFIED:20250221T150206Z
UID:10006822-1834735500-1834740900@swv-sindelfingen.de
SUMMARY:Nordic Walking
DESCRIPTION:
URL:https://swv-sindelfingen.de/event/nordic-walking-3/2028-02-21/
LOCATION:SWV – Vereinsheim\, Arthur-Gruber-Strasse 65\, SIndelfingen\, Deutschland\, 71065
END:VEVENT
BEGIN:VEVENT
DTSTART;TZID=Europe/Berlin:20280222T193000
DTEND;TZID=Europe/Berlin:20280222T210000
DTSTAMP:20260422T144253
CREATED:20250130T201106Z
LAST-MODIFIED:20250130T201221Z
UID:10005128-1834860600-1834866000@swv-sindelfingen.de
SUMMARY:Powergymnastik
DESCRIPTION:
URL:https://swv-sindelfingen.de/event/powergymnastikk/2028-02-22/
END:VEVENT
BEGIN:VEVENT
DTSTART;TZID=Europe/Berlin:20280223T184500
DTEND;TZID=Europe/Berlin:20280223T184500
DTSTAMP:20260422T144253
CREATED:20250131T075402Z
LAST-MODIFIED:20250131T075402Z
UID:10006527-1834944300-1834944300@swv-sindelfingen.de
SUMMARY:Trainingsbetrieb
DESCRIPTION:Mittwochabends (im Winterhalbjahr ab 18:45 Uhr)\, im Badezentrum Sindelfingen (außer in den Schulferien\, dann z.T. Ersatztraining).\nInfos: Felix Loroff
URL:https://swv-sindelfingen.de/event/trainingsbetrieb/2028-02-23/
CATEGORIES:Kanusport
END:VEVENT
BEGIN:VEVENT
DTSTART;TZID=Europe/Berlin:20280223T190000
DTEND;TZID=Europe/Berlin:20280223T211500
DTSTAMP:20260422T144253
CREATED:20250130T202848Z
LAST-MODIFIED:20250130T202848Z
UID:10005403-1834945200-1834953300@swv-sindelfingen.de
SUMMARY:Fitness nur für Frauen
DESCRIPTION:
URL:https://swv-sindelfingen.de/event/fitness-nur-fuer-frauen-2/2028-02-23/
END:VEVENT
BEGIN:VEVENT
DTSTART;TZID=Europe/Berlin:20280224T193000
DTEND;TZID=Europe/Berlin:20280224T210000
DTSTAMP:20260422T144253
CREATED:20250130T203352Z
LAST-MODIFIED:20260220T175000Z
UID:10005684-1835033400-1835038800@swv-sindelfingen.de
SUMMARY:Fitness Workout
DESCRIPTION:
URL:https://swv-sindelfingen.de/event/fitness-workout-2/2028-02-24/
LOCATION:Realschule Klstergarten
END:VEVENT
BEGIN:VEVENT
DTSTART;TZID=Europe/Berlin:20280225T080000
DTEND;TZID=Europe/Berlin:20280225T170000
DTSTAMP:20260422T144253
CREATED:20250130T204210Z
LAST-MODIFIED:20250130T204210Z
UID:10006240-1835078400-1835110800@swv-sindelfingen.de
SUMMARY:Fit werden - fit bleiben
DESCRIPTION:
URL:https://swv-sindelfingen.de/event/fit-werden-fit-bleiben-2/2028-02-25/
END:VEVENT
BEGIN:VEVENT
DTSTART;TZID=Europe/Berlin:20280228T084500
DTEND;TZID=Europe/Berlin:20280228T101500
DTSTAMP:20260422T144253
CREATED:20250221T150206Z
LAST-MODIFIED:20250221T150206Z
UID:10006823-1835340300-1835345700@swv-sindelfingen.de
SUMMARY:Nordic Walking
DESCRIPTION:
URL:https://swv-sindelfingen.de/event/nordic-walking-3/2028-02-28/
LOCATION:SWV – Vereinsheim\, Arthur-Gruber-Strasse 65\, SIndelfingen\, Deutschland\, 71065
END:VEVENT
BEGIN:VEVENT
DTSTART;TZID=Europe/Berlin:20280229T193000
DTEND;TZID=Europe/Berlin:20280229T210000
DTSTAMP:20260422T144253
CREATED:20250130T201106Z
LAST-MODIFIED:20250130T201221Z
UID:10005129-1835465400-1835470800@swv-sindelfingen.de
SUMMARY:Powergymnastik
DESCRIPTION:
URL:https://swv-sindelfingen.de/event/powergymnastikk/2028-02-29/
END:VEVENT
END:VCALENDAR