BEGIN:VCALENDAR
VERSION:2.0
PRODID:-//Schwarzwaldverein Sindelfingen e. V. - ECPv6.15.20//NONSGML v1.0//EN
CALSCALE:GREGORIAN
METHOD:PUBLISH
X-WR-CALNAME:Schwarzwaldverein Sindelfingen e. V.
X-ORIGINAL-URL:https://swv-sindelfingen.de
X-WR-CALDESC:Veranstaltungen für Schwarzwaldverein Sindelfingen e. V.
REFRESH-INTERVAL;VALUE=DURATION:PT1H
X-Robots-Tag:noindex
X-PUBLISHED-TTL:PT1H
BEGIN:VTIMEZONE
TZID:Europe/Berlin
BEGIN:DAYLIGHT
TZOFFSETFROM:+0100
TZOFFSETTO:+0200
TZNAME:CEST
DTSTART:20260329T010000
END:DAYLIGHT
BEGIN:STANDARD
TZOFFSETFROM:+0200
TZOFFSETTO:+0100
TZNAME:CET
DTSTART:20261025T010000
END:STANDARD
BEGIN:DAYLIGHT
TZOFFSETFROM:+0100
TZOFFSETTO:+0200
TZNAME:CEST
DTSTART:20270328T010000
END:DAYLIGHT
BEGIN:STANDARD
TZOFFSETFROM:+0200
TZOFFSETTO:+0100
TZNAME:CET
DTSTART:20271031T010000
END:STANDARD
BEGIN:DAYLIGHT
TZOFFSETFROM:+0100
TZOFFSETTO:+0200
TZNAME:CEST
DTSTART:20280326T010000
END:DAYLIGHT
BEGIN:STANDARD
TZOFFSETFROM:+0200
TZOFFSETTO:+0100
TZNAME:CET
DTSTART:20281029T010000
END:STANDARD
END:VTIMEZONE
BEGIN:VEVENT
DTSTART;TZID=Europe/Berlin:20271001T080000
DTEND;TZID=Europe/Berlin:20271001T170000
DTSTAMP:20260420T095136
CREATED:20250130T204210Z
LAST-MODIFIED:20250130T204210Z
UID:10006219-1822377600-1822410000@swv-sindelfingen.de
SUMMARY:Fit werden - fit bleiben
DESCRIPTION:
URL:https://swv-sindelfingen.de/event/fit-werden-fit-bleiben-2/2027-10-01/
END:VEVENT
BEGIN:VEVENT
DTSTART;TZID=Europe/Berlin:20271004T084500
DTEND;TZID=Europe/Berlin:20271004T101500
DTSTAMP:20260420T095136
CREATED:20250221T150206Z
LAST-MODIFIED:20250221T150206Z
UID:10006802-1822639500-1822644900@swv-sindelfingen.de
SUMMARY:Nordic Walking
DESCRIPTION:
URL:https://swv-sindelfingen.de/event/nordic-walking-3/2027-10-04/
LOCATION:SWV – Vereinsheim\, Arthur-Gruber-Strasse 65\, SIndelfingen\, Deutschland\, 71065
END:VEVENT
BEGIN:VEVENT
DTSTART;TZID=Europe/Berlin:20271005T193000
DTEND;TZID=Europe/Berlin:20271005T210000
DTSTAMP:20260420T095136
CREATED:20250130T201106Z
LAST-MODIFIED:20250130T201221Z
UID:10005108-1822764600-1822770000@swv-sindelfingen.de
SUMMARY:Powergymnastik
DESCRIPTION:
URL:https://swv-sindelfingen.de/event/powergymnastikk/2027-10-05/
END:VEVENT
BEGIN:VEVENT
DTSTART;TZID=Europe/Berlin:20271006T184500
DTEND;TZID=Europe/Berlin:20271006T184500
DTSTAMP:20260420T095136
CREATED:20250131T075402Z
LAST-MODIFIED:20250131T075402Z
UID:10006507-1822848300-1822848300@swv-sindelfingen.de
SUMMARY:Trainingsbetrieb
DESCRIPTION:Mittwochabends (im Winterhalbjahr ab 18:45 Uhr)\, im Badezentrum Sindelfingen (außer in den Schulferien\, dann z.T. Ersatztraining).\nInfos: Felix Loroff
URL:https://swv-sindelfingen.de/event/trainingsbetrieb/2027-10-06/
CATEGORIES:Kanusport
END:VEVENT
BEGIN:VEVENT
DTSTART;TZID=Europe/Berlin:20271006T190000
DTEND;TZID=Europe/Berlin:20271006T211500
DTSTAMP:20260420T095136
CREATED:20250130T202848Z
LAST-MODIFIED:20250130T202848Z
UID:10005383-1822849200-1822857300@swv-sindelfingen.de
SUMMARY:Fitness nur für Frauen
DESCRIPTION:
URL:https://swv-sindelfingen.de/event/fitness-nur-fuer-frauen-2/2027-10-06/
END:VEVENT
BEGIN:VEVENT
DTSTART;TZID=Europe/Berlin:20271007T193000
DTEND;TZID=Europe/Berlin:20271007T210000
DTSTAMP:20260420T095136
CREATED:20250130T203352Z
LAST-MODIFIED:20260220T175000Z
UID:10005664-1822937400-1822942800@swv-sindelfingen.de
SUMMARY:Fitness Workout
DESCRIPTION:
URL:https://swv-sindelfingen.de/event/fitness-workout-2/2027-10-07/
LOCATION:Realschule Klstergarten
END:VEVENT
BEGIN:VEVENT
DTSTART;TZID=Europe/Berlin:20271008T080000
DTEND;TZID=Europe/Berlin:20271008T170000
DTSTAMP:20260420T095136
CREATED:20250130T204210Z
LAST-MODIFIED:20250130T204210Z
UID:10006220-1822982400-1823014800@swv-sindelfingen.de
SUMMARY:Fit werden - fit bleiben
DESCRIPTION:
URL:https://swv-sindelfingen.de/event/fit-werden-fit-bleiben-2/2027-10-08/
END:VEVENT
BEGIN:VEVENT
DTSTART;TZID=Europe/Berlin:20271011T084500
DTEND;TZID=Europe/Berlin:20271011T101500
DTSTAMP:20260420T095136
CREATED:20250221T150206Z
LAST-MODIFIED:20250221T150206Z
UID:10006803-1823244300-1823249700@swv-sindelfingen.de
SUMMARY:Nordic Walking
DESCRIPTION:
URL:https://swv-sindelfingen.de/event/nordic-walking-3/2027-10-11/
LOCATION:SWV – Vereinsheim\, Arthur-Gruber-Strasse 65\, SIndelfingen\, Deutschland\, 71065
END:VEVENT
BEGIN:VEVENT
DTSTART;TZID=Europe/Berlin:20271012T193000
DTEND;TZID=Europe/Berlin:20271012T210000
DTSTAMP:20260420T095136
CREATED:20250130T201106Z
LAST-MODIFIED:20250130T201221Z
UID:10005109-1823369400-1823374800@swv-sindelfingen.de
SUMMARY:Powergymnastik
DESCRIPTION:
URL:https://swv-sindelfingen.de/event/powergymnastikk/2027-10-12/
END:VEVENT
BEGIN:VEVENT
DTSTART;TZID=Europe/Berlin:20271013T184500
DTEND;TZID=Europe/Berlin:20271013T184500
DTSTAMP:20260420T095136
CREATED:20250131T075402Z
LAST-MODIFIED:20250131T075402Z
UID:10006508-1823453100-1823453100@swv-sindelfingen.de
SUMMARY:Trainingsbetrieb
DESCRIPTION:Mittwochabends (im Winterhalbjahr ab 18:45 Uhr)\, im Badezentrum Sindelfingen (außer in den Schulferien\, dann z.T. Ersatztraining).\nInfos: Felix Loroff
URL:https://swv-sindelfingen.de/event/trainingsbetrieb/2027-10-13/
CATEGORIES:Kanusport
END:VEVENT
BEGIN:VEVENT
DTSTART;TZID=Europe/Berlin:20271013T190000
DTEND;TZID=Europe/Berlin:20271013T211500
DTSTAMP:20260420T095136
CREATED:20250130T202848Z
LAST-MODIFIED:20250130T202848Z
UID:10005384-1823454000-1823462100@swv-sindelfingen.de
SUMMARY:Fitness nur für Frauen
DESCRIPTION:
URL:https://swv-sindelfingen.de/event/fitness-nur-fuer-frauen-2/2027-10-13/
END:VEVENT
BEGIN:VEVENT
DTSTART;TZID=Europe/Berlin:20271014T193000
DTEND;TZID=Europe/Berlin:20271014T210000
DTSTAMP:20260420T095136
CREATED:20250130T203352Z
LAST-MODIFIED:20260220T175000Z
UID:10005665-1823542200-1823547600@swv-sindelfingen.de
SUMMARY:Fitness Workout
DESCRIPTION:
URL:https://swv-sindelfingen.de/event/fitness-workout-2/2027-10-14/
LOCATION:Realschule Klstergarten
END:VEVENT
BEGIN:VEVENT
DTSTART;TZID=Europe/Berlin:20271015T080000
DTEND;TZID=Europe/Berlin:20271015T170000
DTSTAMP:20260420T095136
CREATED:20250130T204210Z
LAST-MODIFIED:20250130T204210Z
UID:10006221-1823587200-1823619600@swv-sindelfingen.de
SUMMARY:Fit werden - fit bleiben
DESCRIPTION:
URL:https://swv-sindelfingen.de/event/fit-werden-fit-bleiben-2/2027-10-15/
END:VEVENT
BEGIN:VEVENT
DTSTART;TZID=Europe/Berlin:20271018T084500
DTEND;TZID=Europe/Berlin:20271018T101500
DTSTAMP:20260420T095136
CREATED:20250221T150206Z
LAST-MODIFIED:20250221T150206Z
UID:10006804-1823849100-1823854500@swv-sindelfingen.de
SUMMARY:Nordic Walking
DESCRIPTION:
URL:https://swv-sindelfingen.de/event/nordic-walking-3/2027-10-18/
LOCATION:SWV – Vereinsheim\, Arthur-Gruber-Strasse 65\, SIndelfingen\, Deutschland\, 71065
END:VEVENT
BEGIN:VEVENT
DTSTART;TZID=Europe/Berlin:20271019T193000
DTEND;TZID=Europe/Berlin:20271019T210000
DTSTAMP:20260420T095136
CREATED:20250130T201106Z
LAST-MODIFIED:20250130T201221Z
UID:10005110-1823974200-1823979600@swv-sindelfingen.de
SUMMARY:Powergymnastik
DESCRIPTION:
URL:https://swv-sindelfingen.de/event/powergymnastikk/2027-10-19/
END:VEVENT
BEGIN:VEVENT
DTSTART;TZID=Europe/Berlin:20271020T184500
DTEND;TZID=Europe/Berlin:20271020T184500
DTSTAMP:20260420T095136
CREATED:20250131T075402Z
LAST-MODIFIED:20250131T075402Z
UID:10006509-1824057900-1824057900@swv-sindelfingen.de
SUMMARY:Trainingsbetrieb
DESCRIPTION:Mittwochabends (im Winterhalbjahr ab 18:45 Uhr)\, im Badezentrum Sindelfingen (außer in den Schulferien\, dann z.T. Ersatztraining).\nInfos: Felix Loroff
URL:https://swv-sindelfingen.de/event/trainingsbetrieb/2027-10-20/
CATEGORIES:Kanusport
END:VEVENT
BEGIN:VEVENT
DTSTART;TZID=Europe/Berlin:20271020T190000
DTEND;TZID=Europe/Berlin:20271020T211500
DTSTAMP:20260420T095136
CREATED:20250130T202848Z
LAST-MODIFIED:20250130T202848Z
UID:10005385-1824058800-1824066900@swv-sindelfingen.de
SUMMARY:Fitness nur für Frauen
DESCRIPTION:
URL:https://swv-sindelfingen.de/event/fitness-nur-fuer-frauen-2/2027-10-20/
END:VEVENT
BEGIN:VEVENT
DTSTART;TZID=Europe/Berlin:20271021T193000
DTEND;TZID=Europe/Berlin:20271021T210000
DTSTAMP:20260420T095136
CREATED:20250130T203352Z
LAST-MODIFIED:20260220T175000Z
UID:10005666-1824147000-1824152400@swv-sindelfingen.de
SUMMARY:Fitness Workout
DESCRIPTION:
URL:https://swv-sindelfingen.de/event/fitness-workout-2/2027-10-21/
LOCATION:Realschule Klstergarten
END:VEVENT
BEGIN:VEVENT
DTSTART;TZID=Europe/Berlin:20271022T080000
DTEND;TZID=Europe/Berlin:20271022T170000
DTSTAMP:20260420T095136
CREATED:20250130T204210Z
LAST-MODIFIED:20250130T204210Z
UID:10006222-1824192000-1824224400@swv-sindelfingen.de
SUMMARY:Fit werden - fit bleiben
DESCRIPTION:
URL:https://swv-sindelfingen.de/event/fit-werden-fit-bleiben-2/2027-10-22/
END:VEVENT
BEGIN:VEVENT
DTSTART;TZID=Europe/Berlin:20271025T084500
DTEND;TZID=Europe/Berlin:20271025T101500
DTSTAMP:20260420T095136
CREATED:20250221T150206Z
LAST-MODIFIED:20250221T150206Z
UID:10006805-1824453900-1824459300@swv-sindelfingen.de
SUMMARY:Nordic Walking
DESCRIPTION:
URL:https://swv-sindelfingen.de/event/nordic-walking-3/2027-10-25/
LOCATION:SWV – Vereinsheim\, Arthur-Gruber-Strasse 65\, SIndelfingen\, Deutschland\, 71065
END:VEVENT
BEGIN:VEVENT
DTSTART;TZID=Europe/Berlin:20271026T193000
DTEND;TZID=Europe/Berlin:20271026T210000
DTSTAMP:20260420T095136
CREATED:20250130T201106Z
LAST-MODIFIED:20250130T201221Z
UID:10005111-1824579000-1824584400@swv-sindelfingen.de
SUMMARY:Powergymnastik
DESCRIPTION:
URL:https://swv-sindelfingen.de/event/powergymnastikk/2027-10-26/
END:VEVENT
BEGIN:VEVENT
DTSTART;TZID=Europe/Berlin:20271027T184500
DTEND;TZID=Europe/Berlin:20271027T184500
DTSTAMP:20260420T095136
CREATED:20250131T075402Z
LAST-MODIFIED:20250131T075402Z
UID:10006510-1824662700-1824662700@swv-sindelfingen.de
SUMMARY:Trainingsbetrieb
DESCRIPTION:Mittwochabends (im Winterhalbjahr ab 18:45 Uhr)\, im Badezentrum Sindelfingen (außer in den Schulferien\, dann z.T. Ersatztraining).\nInfos: Felix Loroff
URL:https://swv-sindelfingen.de/event/trainingsbetrieb/2027-10-27/
CATEGORIES:Kanusport
END:VEVENT
BEGIN:VEVENT
DTSTART;TZID=Europe/Berlin:20271027T190000
DTEND;TZID=Europe/Berlin:20271027T211500
DTSTAMP:20260420T095136
CREATED:20250130T202848Z
LAST-MODIFIED:20250130T202848Z
UID:10005386-1824663600-1824671700@swv-sindelfingen.de
SUMMARY:Fitness nur für Frauen
DESCRIPTION:
URL:https://swv-sindelfingen.de/event/fitness-nur-fuer-frauen-2/2027-10-27/
END:VEVENT
BEGIN:VEVENT
DTSTART;TZID=Europe/Berlin:20271028T193000
DTEND;TZID=Europe/Berlin:20271028T210000
DTSTAMP:20260420T095136
CREATED:20250130T203352Z
LAST-MODIFIED:20260220T175000Z
UID:10005667-1824751800-1824757200@swv-sindelfingen.de
SUMMARY:Fitness Workout
DESCRIPTION:
URL:https://swv-sindelfingen.de/event/fitness-workout-2/2027-10-28/
LOCATION:Realschule Klstergarten
END:VEVENT
BEGIN:VEVENT
DTSTART;TZID=Europe/Berlin:20271029T080000
DTEND;TZID=Europe/Berlin:20271029T170000
DTSTAMP:20260420T095136
CREATED:20250130T204210Z
LAST-MODIFIED:20250130T204210Z
UID:10006223-1824796800-1824829200@swv-sindelfingen.de
SUMMARY:Fit werden - fit bleiben
DESCRIPTION:
URL:https://swv-sindelfingen.de/event/fit-werden-fit-bleiben-2/2027-10-29/
END:VEVENT
END:VCALENDAR