BEGIN:VCALENDAR
VERSION:2.0
PRODID:-//Schwarzwaldverein Sindelfingen e. V. - ECPv6.15.20//NONSGML v1.0//EN
CALSCALE:GREGORIAN
METHOD:PUBLISH
X-ORIGINAL-URL:https://swv-sindelfingen.de
X-WR-CALDESC:Veranstaltungen für Schwarzwaldverein Sindelfingen e. V.
REFRESH-INTERVAL;VALUE=DURATION:PT1H
X-Robots-Tag:noindex
X-PUBLISHED-TTL:PT1H
BEGIN:VTIMEZONE
TZID:Europe/Berlin
BEGIN:DAYLIGHT
TZOFFSETFROM:+0100
TZOFFSETTO:+0200
TZNAME:CEST
DTSTART:20260329T010000
END:DAYLIGHT
BEGIN:STANDARD
TZOFFSETFROM:+0200
TZOFFSETTO:+0100
TZNAME:CET
DTSTART:20261025T010000
END:STANDARD
BEGIN:DAYLIGHT
TZOFFSETFROM:+0100
TZOFFSETTO:+0200
TZNAME:CEST
DTSTART:20270328T010000
END:DAYLIGHT
BEGIN:STANDARD
TZOFFSETFROM:+0200
TZOFFSETTO:+0100
TZNAME:CET
DTSTART:20271031T010000
END:STANDARD
BEGIN:DAYLIGHT
TZOFFSETFROM:+0100
TZOFFSETTO:+0200
TZNAME:CEST
DTSTART:20280326T010000
END:DAYLIGHT
BEGIN:STANDARD
TZOFFSETFROM:+0200
TZOFFSETTO:+0100
TZNAME:CET
DTSTART:20281029T010000
END:STANDARD
END:VTIMEZONE
BEGIN:VEVENT
DTSTART;TZID=Europe/Berlin:20270901T184500
DTEND;TZID=Europe/Berlin:20270901T184500
DTSTAMP:20260420T065626
CREATED:20250131T075402Z
LAST-MODIFIED:20250131T075402Z
UID:10006502-1819824300-1819824300@swv-sindelfingen.de
SUMMARY:Trainingsbetrieb
DESCRIPTION:Mittwochabends (im Winterhalbjahr ab 18:45 Uhr)\, im Badezentrum Sindelfingen (außer in den Schulferien\, dann z.T. Ersatztraining).\nInfos: Felix Loroff
URL:https://swv-sindelfingen.de/event/trainingsbetrieb/2027-09-01/
CATEGORIES:Kanusport
END:VEVENT
BEGIN:VEVENT
DTSTART;TZID=Europe/Berlin:20270901T190000
DTEND;TZID=Europe/Berlin:20270901T211500
DTSTAMP:20260420T065626
CREATED:20250130T202848Z
LAST-MODIFIED:20250130T202848Z
UID:10005378-1819825200-1819833300@swv-sindelfingen.de
SUMMARY:Fitness nur für Frauen
DESCRIPTION:
URL:https://swv-sindelfingen.de/event/fitness-nur-fuer-frauen-2/2027-09-01/
END:VEVENT
BEGIN:VEVENT
DTSTART;TZID=Europe/Berlin:20270902T193000
DTEND;TZID=Europe/Berlin:20270902T210000
DTSTAMP:20260420T065626
CREATED:20250130T203352Z
LAST-MODIFIED:20260220T175000Z
UID:10005659-1819913400-1819918800@swv-sindelfingen.de
SUMMARY:Fitness Workout
DESCRIPTION:
URL:https://swv-sindelfingen.de/event/fitness-workout-2/2027-09-02/
LOCATION:Realschule Klstergarten
END:VEVENT
BEGIN:VEVENT
DTSTART;TZID=Europe/Berlin:20270903T080000
DTEND;TZID=Europe/Berlin:20270903T170000
DTSTAMP:20260420T065626
CREATED:20250130T204210Z
LAST-MODIFIED:20250130T204210Z
UID:10006215-1819958400-1819990800@swv-sindelfingen.de
SUMMARY:Fit werden - fit bleiben
DESCRIPTION:
URL:https://swv-sindelfingen.de/event/fit-werden-fit-bleiben-2/2027-09-03/
END:VEVENT
BEGIN:VEVENT
DTSTART;TZID=Europe/Berlin:20270906T084500
DTEND;TZID=Europe/Berlin:20270906T101500
DTSTAMP:20260420T065626
CREATED:20250221T150206Z
LAST-MODIFIED:20250221T150206Z
UID:10006798-1820220300-1820225700@swv-sindelfingen.de
SUMMARY:Nordic Walking
DESCRIPTION:
URL:https://swv-sindelfingen.de/event/nordic-walking-3/2027-09-06/
LOCATION:SWV – Vereinsheim\, Arthur-Gruber-Strasse 65\, SIndelfingen\, Deutschland\, 71065
END:VEVENT
BEGIN:VEVENT
DTSTART;TZID=Europe/Berlin:20270907T193000
DTEND;TZID=Europe/Berlin:20270907T210000
DTSTAMP:20260420T065626
CREATED:20250130T201106Z
LAST-MODIFIED:20250130T201221Z
UID:10005104-1820345400-1820350800@swv-sindelfingen.de
SUMMARY:Powergymnastik
DESCRIPTION:
URL:https://swv-sindelfingen.de/event/powergymnastikk/2027-09-07/
END:VEVENT
BEGIN:VEVENT
DTSTART;TZID=Europe/Berlin:20270908T184500
DTEND;TZID=Europe/Berlin:20270908T184500
DTSTAMP:20260420T065626
CREATED:20250131T075402Z
LAST-MODIFIED:20250131T075402Z
UID:10006503-1820429100-1820429100@swv-sindelfingen.de
SUMMARY:Trainingsbetrieb
DESCRIPTION:Mittwochabends (im Winterhalbjahr ab 18:45 Uhr)\, im Badezentrum Sindelfingen (außer in den Schulferien\, dann z.T. Ersatztraining).\nInfos: Felix Loroff
URL:https://swv-sindelfingen.de/event/trainingsbetrieb/2027-09-08/
CATEGORIES:Kanusport
END:VEVENT
BEGIN:VEVENT
DTSTART;TZID=Europe/Berlin:20270908T190000
DTEND;TZID=Europe/Berlin:20270908T211500
DTSTAMP:20260420T065626
CREATED:20250130T202848Z
LAST-MODIFIED:20250130T202848Z
UID:10005379-1820430000-1820438100@swv-sindelfingen.de
SUMMARY:Fitness nur für Frauen
DESCRIPTION:
URL:https://swv-sindelfingen.de/event/fitness-nur-fuer-frauen-2/2027-09-08/
END:VEVENT
BEGIN:VEVENT
DTSTART;TZID=Europe/Berlin:20270909T193000
DTEND;TZID=Europe/Berlin:20270909T210000
DTSTAMP:20260420T065626
CREATED:20250130T203352Z
LAST-MODIFIED:20260220T175000Z
UID:10005660-1820518200-1820523600@swv-sindelfingen.de
SUMMARY:Fitness Workout
DESCRIPTION:
URL:https://swv-sindelfingen.de/event/fitness-workout-2/2027-09-09/
LOCATION:Realschule Klstergarten
END:VEVENT
BEGIN:VEVENT
DTSTART;TZID=Europe/Berlin:20270910T080000
DTEND;TZID=Europe/Berlin:20270910T170000
DTSTAMP:20260420T065626
CREATED:20250130T204210Z
LAST-MODIFIED:20250130T204210Z
UID:10006216-1820563200-1820595600@swv-sindelfingen.de
SUMMARY:Fit werden - fit bleiben
DESCRIPTION:
URL:https://swv-sindelfingen.de/event/fit-werden-fit-bleiben-2/2027-09-10/
END:VEVENT
BEGIN:VEVENT
DTSTART;TZID=Europe/Berlin:20270913T084500
DTEND;TZID=Europe/Berlin:20270913T101500
DTSTAMP:20260420T065626
CREATED:20250221T150206Z
LAST-MODIFIED:20250221T150206Z
UID:10006799-1820825100-1820830500@swv-sindelfingen.de
SUMMARY:Nordic Walking
DESCRIPTION:
URL:https://swv-sindelfingen.de/event/nordic-walking-3/2027-09-13/
LOCATION:SWV – Vereinsheim\, Arthur-Gruber-Strasse 65\, SIndelfingen\, Deutschland\, 71065
END:VEVENT
BEGIN:VEVENT
DTSTART;TZID=Europe/Berlin:20270914T193000
DTEND;TZID=Europe/Berlin:20270914T210000
DTSTAMP:20260420T065626
CREATED:20250130T201106Z
LAST-MODIFIED:20250130T201221Z
UID:10005105-1820950200-1820955600@swv-sindelfingen.de
SUMMARY:Powergymnastik
DESCRIPTION:
URL:https://swv-sindelfingen.de/event/powergymnastikk/2027-09-14/
END:VEVENT
BEGIN:VEVENT
DTSTART;TZID=Europe/Berlin:20270915T184500
DTEND;TZID=Europe/Berlin:20270915T184500
DTSTAMP:20260420T065626
CREATED:20250131T075402Z
LAST-MODIFIED:20250131T075402Z
UID:10006504-1821033900-1821033900@swv-sindelfingen.de
SUMMARY:Trainingsbetrieb
DESCRIPTION:Mittwochabends (im Winterhalbjahr ab 18:45 Uhr)\, im Badezentrum Sindelfingen (außer in den Schulferien\, dann z.T. Ersatztraining).\nInfos: Felix Loroff
URL:https://swv-sindelfingen.de/event/trainingsbetrieb/2027-09-15/
CATEGORIES:Kanusport
END:VEVENT
BEGIN:VEVENT
DTSTART;TZID=Europe/Berlin:20270915T190000
DTEND;TZID=Europe/Berlin:20270915T211500
DTSTAMP:20260420T065626
CREATED:20250130T202848Z
LAST-MODIFIED:20250130T202848Z
UID:10005380-1821034800-1821042900@swv-sindelfingen.de
SUMMARY:Fitness nur für Frauen
DESCRIPTION:
URL:https://swv-sindelfingen.de/event/fitness-nur-fuer-frauen-2/2027-09-15/
END:VEVENT
BEGIN:VEVENT
DTSTART;TZID=Europe/Berlin:20270916T193000
DTEND;TZID=Europe/Berlin:20270916T210000
DTSTAMP:20260420T065626
CREATED:20250130T203352Z
LAST-MODIFIED:20260220T175000Z
UID:10005661-1821123000-1821128400@swv-sindelfingen.de
SUMMARY:Fitness Workout
DESCRIPTION:
URL:https://swv-sindelfingen.de/event/fitness-workout-2/2027-09-16/
LOCATION:Realschule Klstergarten
END:VEVENT
BEGIN:VEVENT
DTSTART;TZID=Europe/Berlin:20270917T080000
DTEND;TZID=Europe/Berlin:20270917T170000
DTSTAMP:20260420T065626
CREATED:20250130T204210Z
LAST-MODIFIED:20250130T204210Z
UID:10006217-1821168000-1821200400@swv-sindelfingen.de
SUMMARY:Fit werden - fit bleiben
DESCRIPTION:
URL:https://swv-sindelfingen.de/event/fit-werden-fit-bleiben-2/2027-09-17/
END:VEVENT
BEGIN:VEVENT
DTSTART;TZID=Europe/Berlin:20270920T084500
DTEND;TZID=Europe/Berlin:20270920T101500
DTSTAMP:20260420T065626
CREATED:20250221T150206Z
LAST-MODIFIED:20250221T150206Z
UID:10006800-1821429900-1821435300@swv-sindelfingen.de
SUMMARY:Nordic Walking
DESCRIPTION:
URL:https://swv-sindelfingen.de/event/nordic-walking-3/2027-09-20/
LOCATION:SWV – Vereinsheim\, Arthur-Gruber-Strasse 65\, SIndelfingen\, Deutschland\, 71065
END:VEVENT
BEGIN:VEVENT
DTSTART;TZID=Europe/Berlin:20270921T193000
DTEND;TZID=Europe/Berlin:20270921T210000
DTSTAMP:20260420T065626
CREATED:20250130T201106Z
LAST-MODIFIED:20250130T201221Z
UID:10005106-1821555000-1821560400@swv-sindelfingen.de
SUMMARY:Powergymnastik
DESCRIPTION:
URL:https://swv-sindelfingen.de/event/powergymnastikk/2027-09-21/
END:VEVENT
BEGIN:VEVENT
DTSTART;TZID=Europe/Berlin:20270922T184500
DTEND;TZID=Europe/Berlin:20270922T184500
DTSTAMP:20260420T065626
CREATED:20250131T075402Z
LAST-MODIFIED:20250131T075402Z
UID:10006505-1821638700-1821638700@swv-sindelfingen.de
SUMMARY:Trainingsbetrieb
DESCRIPTION:Mittwochabends (im Winterhalbjahr ab 18:45 Uhr)\, im Badezentrum Sindelfingen (außer in den Schulferien\, dann z.T. Ersatztraining).\nInfos: Felix Loroff
URL:https://swv-sindelfingen.de/event/trainingsbetrieb/2027-09-22/
CATEGORIES:Kanusport
END:VEVENT
BEGIN:VEVENT
DTSTART;TZID=Europe/Berlin:20270922T190000
DTEND;TZID=Europe/Berlin:20270922T211500
DTSTAMP:20260420T065626
CREATED:20250130T202848Z
LAST-MODIFIED:20250130T202848Z
UID:10005381-1821639600-1821647700@swv-sindelfingen.de
SUMMARY:Fitness nur für Frauen
DESCRIPTION:
URL:https://swv-sindelfingen.de/event/fitness-nur-fuer-frauen-2/2027-09-22/
END:VEVENT
BEGIN:VEVENT
DTSTART;TZID=Europe/Berlin:20270923T193000
DTEND;TZID=Europe/Berlin:20270923T210000
DTSTAMP:20260420T065626
CREATED:20250130T203352Z
LAST-MODIFIED:20260220T175000Z
UID:10005662-1821727800-1821733200@swv-sindelfingen.de
SUMMARY:Fitness Workout
DESCRIPTION:
URL:https://swv-sindelfingen.de/event/fitness-workout-2/2027-09-23/
LOCATION:Realschule Klstergarten
END:VEVENT
BEGIN:VEVENT
DTSTART;TZID=Europe/Berlin:20270924T080000
DTEND;TZID=Europe/Berlin:20270924T170000
DTSTAMP:20260420T065626
CREATED:20250130T204210Z
LAST-MODIFIED:20250130T204210Z
UID:10006218-1821772800-1821805200@swv-sindelfingen.de
SUMMARY:Fit werden - fit bleiben
DESCRIPTION:
URL:https://swv-sindelfingen.de/event/fit-werden-fit-bleiben-2/2027-09-24/
END:VEVENT
BEGIN:VEVENT
DTSTART;TZID=Europe/Berlin:20270927T084500
DTEND;TZID=Europe/Berlin:20270927T101500
DTSTAMP:20260420T065626
CREATED:20250221T150206Z
LAST-MODIFIED:20250221T150206Z
UID:10006801-1822034700-1822040100@swv-sindelfingen.de
SUMMARY:Nordic Walking
DESCRIPTION:
URL:https://swv-sindelfingen.de/event/nordic-walking-3/2027-09-27/
LOCATION:SWV – Vereinsheim\, Arthur-Gruber-Strasse 65\, SIndelfingen\, Deutschland\, 71065
END:VEVENT
BEGIN:VEVENT
DTSTART;TZID=Europe/Berlin:20270928T193000
DTEND;TZID=Europe/Berlin:20270928T210000
DTSTAMP:20260420T065626
CREATED:20250130T201106Z
LAST-MODIFIED:20250130T201221Z
UID:10005107-1822159800-1822165200@swv-sindelfingen.de
SUMMARY:Powergymnastik
DESCRIPTION:
URL:https://swv-sindelfingen.de/event/powergymnastikk/2027-09-28/
END:VEVENT
BEGIN:VEVENT
DTSTART;TZID=Europe/Berlin:20270929T184500
DTEND;TZID=Europe/Berlin:20270929T184500
DTSTAMP:20260420T065626
CREATED:20250131T075402Z
LAST-MODIFIED:20250131T075402Z
UID:10006506-1822243500-1822243500@swv-sindelfingen.de
SUMMARY:Trainingsbetrieb
DESCRIPTION:Mittwochabends (im Winterhalbjahr ab 18:45 Uhr)\, im Badezentrum Sindelfingen (außer in den Schulferien\, dann z.T. Ersatztraining).\nInfos: Felix Loroff
URL:https://swv-sindelfingen.de/event/trainingsbetrieb/2027-09-29/
CATEGORIES:Kanusport
END:VEVENT
BEGIN:VEVENT
DTSTART;TZID=Europe/Berlin:20270929T190000
DTEND;TZID=Europe/Berlin:20270929T211500
DTSTAMP:20260420T065626
CREATED:20250130T202848Z
LAST-MODIFIED:20250130T202848Z
UID:10005382-1822244400-1822252500@swv-sindelfingen.de
SUMMARY:Fitness nur für Frauen
DESCRIPTION:
URL:https://swv-sindelfingen.de/event/fitness-nur-fuer-frauen-2/2027-09-29/
END:VEVENT
BEGIN:VEVENT
DTSTART;TZID=Europe/Berlin:20270930T193000
DTEND;TZID=Europe/Berlin:20270930T210000
DTSTAMP:20260420T065627
CREATED:20250130T203352Z
LAST-MODIFIED:20260220T175000Z
UID:10005663-1822332600-1822338000@swv-sindelfingen.de
SUMMARY:Fitness Workout
DESCRIPTION:
URL:https://swv-sindelfingen.de/event/fitness-workout-2/2027-09-30/
LOCATION:Realschule Klstergarten
END:VEVENT
END:VCALENDAR