BEGIN:VCALENDAR
VERSION:2.0
PRODID:-//Schwarzwaldverein Sindelfingen e. V. - ECPv6.15.20//NONSGML v1.0//EN
CALSCALE:GREGORIAN
METHOD:PUBLISH
X-ORIGINAL-URL:https://swv-sindelfingen.de
X-WR-CALDESC:Veranstaltungen für Schwarzwaldverein Sindelfingen e. V.
REFRESH-INTERVAL;VALUE=DURATION:PT1H
X-Robots-Tag:noindex
X-PUBLISHED-TTL:PT1H
BEGIN:VTIMEZONE
TZID:Europe/Berlin
BEGIN:DAYLIGHT
TZOFFSETFROM:+0100
TZOFFSETTO:+0200
TZNAME:CEST
DTSTART:20260329T010000
END:DAYLIGHT
BEGIN:STANDARD
TZOFFSETFROM:+0200
TZOFFSETTO:+0100
TZNAME:CET
DTSTART:20261025T010000
END:STANDARD
BEGIN:DAYLIGHT
TZOFFSETFROM:+0100
TZOFFSETTO:+0200
TZNAME:CEST
DTSTART:20270328T010000
END:DAYLIGHT
BEGIN:STANDARD
TZOFFSETFROM:+0200
TZOFFSETTO:+0100
TZNAME:CET
DTSTART:20271031T010000
END:STANDARD
BEGIN:DAYLIGHT
TZOFFSETFROM:+0100
TZOFFSETTO:+0200
TZNAME:CEST
DTSTART:20280326T010000
END:DAYLIGHT
BEGIN:STANDARD
TZOFFSETFROM:+0200
TZOFFSETTO:+0100
TZNAME:CET
DTSTART:20281029T010000
END:STANDARD
END:VTIMEZONE
BEGIN:VEVENT
DTSTART;TZID=Europe/Berlin:20270802T084500
DTEND;TZID=Europe/Berlin:20270802T101500
DTSTAMP:20260420T050947
CREATED:20250221T150206Z
LAST-MODIFIED:20250221T150206Z
UID:10006793-1817196300-1817201700@swv-sindelfingen.de
SUMMARY:Nordic Walking
DESCRIPTION:
URL:https://swv-sindelfingen.de/event/nordic-walking-3/2027-08-02/
LOCATION:SWV – Vereinsheim\, Arthur-Gruber-Strasse 65\, SIndelfingen\, Deutschland\, 71065
END:VEVENT
BEGIN:VEVENT
DTSTART;TZID=Europe/Berlin:20270803T193000
DTEND;TZID=Europe/Berlin:20270803T210000
DTSTAMP:20260420T050947
CREATED:20250130T201106Z
LAST-MODIFIED:20250130T201221Z
UID:10005099-1817321400-1817326800@swv-sindelfingen.de
SUMMARY:Powergymnastik
DESCRIPTION:
URL:https://swv-sindelfingen.de/event/powergymnastikk/2027-08-03/
END:VEVENT
BEGIN:VEVENT
DTSTART;TZID=Europe/Berlin:20270804T184500
DTEND;TZID=Europe/Berlin:20270804T184500
DTSTAMP:20260420T050947
CREATED:20250131T075402Z
LAST-MODIFIED:20250131T075402Z
UID:10006498-1817405100-1817405100@swv-sindelfingen.de
SUMMARY:Trainingsbetrieb
DESCRIPTION:Mittwochabends (im Winterhalbjahr ab 18:45 Uhr)\, im Badezentrum Sindelfingen (außer in den Schulferien\, dann z.T. Ersatztraining).\nInfos: Felix Loroff
URL:https://swv-sindelfingen.de/event/trainingsbetrieb/2027-08-04/
CATEGORIES:Kanusport
END:VEVENT
BEGIN:VEVENT
DTSTART;TZID=Europe/Berlin:20270804T190000
DTEND;TZID=Europe/Berlin:20270804T211500
DTSTAMP:20260420T050947
CREATED:20250130T202848Z
LAST-MODIFIED:20250130T202848Z
UID:10005374-1817406000-1817414100@swv-sindelfingen.de
SUMMARY:Fitness nur für Frauen
DESCRIPTION:
URL:https://swv-sindelfingen.de/event/fitness-nur-fuer-frauen-2/2027-08-04/
END:VEVENT
BEGIN:VEVENT
DTSTART;TZID=Europe/Berlin:20270805T193000
DTEND;TZID=Europe/Berlin:20270805T210000
DTSTAMP:20260420T050947
CREATED:20250130T203352Z
LAST-MODIFIED:20260220T175000Z
UID:10005655-1817494200-1817499600@swv-sindelfingen.de
SUMMARY:Fitness Workout
DESCRIPTION:
URL:https://swv-sindelfingen.de/event/fitness-workout-2/2027-08-05/
LOCATION:Realschule Klstergarten
END:VEVENT
BEGIN:VEVENT
DTSTART;TZID=Europe/Berlin:20270806T080000
DTEND;TZID=Europe/Berlin:20270806T170000
DTSTAMP:20260420T050947
CREATED:20250130T204210Z
LAST-MODIFIED:20250130T204210Z
UID:10006211-1817539200-1817571600@swv-sindelfingen.de
SUMMARY:Fit werden - fit bleiben
DESCRIPTION:
URL:https://swv-sindelfingen.de/event/fit-werden-fit-bleiben-2/2027-08-06/
END:VEVENT
BEGIN:VEVENT
DTSTART;TZID=Europe/Berlin:20270809T084500
DTEND;TZID=Europe/Berlin:20270809T101500
DTSTAMP:20260420T050947
CREATED:20250221T150206Z
LAST-MODIFIED:20250221T150206Z
UID:10006794-1817801100-1817806500@swv-sindelfingen.de
SUMMARY:Nordic Walking
DESCRIPTION:
URL:https://swv-sindelfingen.de/event/nordic-walking-3/2027-08-09/
LOCATION:SWV – Vereinsheim\, Arthur-Gruber-Strasse 65\, SIndelfingen\, Deutschland\, 71065
END:VEVENT
BEGIN:VEVENT
DTSTART;TZID=Europe/Berlin:20270810T193000
DTEND;TZID=Europe/Berlin:20270810T210000
DTSTAMP:20260420T050947
CREATED:20250130T201106Z
LAST-MODIFIED:20250130T201221Z
UID:10005100-1817926200-1817931600@swv-sindelfingen.de
SUMMARY:Powergymnastik
DESCRIPTION:
URL:https://swv-sindelfingen.de/event/powergymnastikk/2027-08-10/
END:VEVENT
BEGIN:VEVENT
DTSTART;TZID=Europe/Berlin:20270811T184500
DTEND;TZID=Europe/Berlin:20270811T184500
DTSTAMP:20260420T050947
CREATED:20250131T075402Z
LAST-MODIFIED:20250131T075402Z
UID:10006499-1818009900-1818009900@swv-sindelfingen.de
SUMMARY:Trainingsbetrieb
DESCRIPTION:Mittwochabends (im Winterhalbjahr ab 18:45 Uhr)\, im Badezentrum Sindelfingen (außer in den Schulferien\, dann z.T. Ersatztraining).\nInfos: Felix Loroff
URL:https://swv-sindelfingen.de/event/trainingsbetrieb/2027-08-11/
CATEGORIES:Kanusport
END:VEVENT
BEGIN:VEVENT
DTSTART;TZID=Europe/Berlin:20270811T190000
DTEND;TZID=Europe/Berlin:20270811T211500
DTSTAMP:20260420T050947
CREATED:20250130T202848Z
LAST-MODIFIED:20250130T202848Z
UID:10005375-1818010800-1818018900@swv-sindelfingen.de
SUMMARY:Fitness nur für Frauen
DESCRIPTION:
URL:https://swv-sindelfingen.de/event/fitness-nur-fuer-frauen-2/2027-08-11/
END:VEVENT
BEGIN:VEVENT
DTSTART;TZID=Europe/Berlin:20270812T193000
DTEND;TZID=Europe/Berlin:20270812T210000
DTSTAMP:20260420T050947
CREATED:20250130T203352Z
LAST-MODIFIED:20260220T175000Z
UID:10005656-1818099000-1818104400@swv-sindelfingen.de
SUMMARY:Fitness Workout
DESCRIPTION:
URL:https://swv-sindelfingen.de/event/fitness-workout-2/2027-08-12/
LOCATION:Realschule Klstergarten
END:VEVENT
BEGIN:VEVENT
DTSTART;TZID=Europe/Berlin:20270813T080000
DTEND;TZID=Europe/Berlin:20270813T170000
DTSTAMP:20260420T050947
CREATED:20250130T204210Z
LAST-MODIFIED:20250130T204210Z
UID:10006212-1818144000-1818176400@swv-sindelfingen.de
SUMMARY:Fit werden - fit bleiben
DESCRIPTION:
URL:https://swv-sindelfingen.de/event/fit-werden-fit-bleiben-2/2027-08-13/
END:VEVENT
BEGIN:VEVENT
DTSTART;TZID=Europe/Berlin:20270816T084500
DTEND;TZID=Europe/Berlin:20270816T101500
DTSTAMP:20260420T050947
CREATED:20250221T150206Z
LAST-MODIFIED:20250221T150206Z
UID:10006795-1818405900-1818411300@swv-sindelfingen.de
SUMMARY:Nordic Walking
DESCRIPTION:
URL:https://swv-sindelfingen.de/event/nordic-walking-3/2027-08-16/
LOCATION:SWV – Vereinsheim\, Arthur-Gruber-Strasse 65\, SIndelfingen\, Deutschland\, 71065
END:VEVENT
BEGIN:VEVENT
DTSTART;TZID=Europe/Berlin:20270817T193000
DTEND;TZID=Europe/Berlin:20270817T210000
DTSTAMP:20260420T050947
CREATED:20250130T201106Z
LAST-MODIFIED:20250130T201221Z
UID:10005101-1818531000-1818536400@swv-sindelfingen.de
SUMMARY:Powergymnastik
DESCRIPTION:
URL:https://swv-sindelfingen.de/event/powergymnastikk/2027-08-17/
END:VEVENT
BEGIN:VEVENT
DTSTART;TZID=Europe/Berlin:20270818T184500
DTEND;TZID=Europe/Berlin:20270818T184500
DTSTAMP:20260420T050947
CREATED:20250131T075402Z
LAST-MODIFIED:20250131T075402Z
UID:10006500-1818614700-1818614700@swv-sindelfingen.de
SUMMARY:Trainingsbetrieb
DESCRIPTION:Mittwochabends (im Winterhalbjahr ab 18:45 Uhr)\, im Badezentrum Sindelfingen (außer in den Schulferien\, dann z.T. Ersatztraining).\nInfos: Felix Loroff
URL:https://swv-sindelfingen.de/event/trainingsbetrieb/2027-08-18/
CATEGORIES:Kanusport
END:VEVENT
BEGIN:VEVENT
DTSTART;TZID=Europe/Berlin:20270818T190000
DTEND;TZID=Europe/Berlin:20270818T211500
DTSTAMP:20260420T050947
CREATED:20250130T202848Z
LAST-MODIFIED:20250130T202848Z
UID:10005376-1818615600-1818623700@swv-sindelfingen.de
SUMMARY:Fitness nur für Frauen
DESCRIPTION:
URL:https://swv-sindelfingen.de/event/fitness-nur-fuer-frauen-2/2027-08-18/
END:VEVENT
BEGIN:VEVENT
DTSTART;TZID=Europe/Berlin:20270819T193000
DTEND;TZID=Europe/Berlin:20270819T210000
DTSTAMP:20260420T050947
CREATED:20250130T203352Z
LAST-MODIFIED:20260220T175000Z
UID:10005657-1818703800-1818709200@swv-sindelfingen.de
SUMMARY:Fitness Workout
DESCRIPTION:
URL:https://swv-sindelfingen.de/event/fitness-workout-2/2027-08-19/
LOCATION:Realschule Klstergarten
END:VEVENT
BEGIN:VEVENT
DTSTART;TZID=Europe/Berlin:20270820T080000
DTEND;TZID=Europe/Berlin:20270820T170000
DTSTAMP:20260420T050947
CREATED:20250130T204210Z
LAST-MODIFIED:20250130T204210Z
UID:10006213-1818748800-1818781200@swv-sindelfingen.de
SUMMARY:Fit werden - fit bleiben
DESCRIPTION:
URL:https://swv-sindelfingen.de/event/fit-werden-fit-bleiben-2/2027-08-20/
END:VEVENT
BEGIN:VEVENT
DTSTART;TZID=Europe/Berlin:20270823T084500
DTEND;TZID=Europe/Berlin:20270823T101500
DTSTAMP:20260420T050947
CREATED:20250221T150206Z
LAST-MODIFIED:20250221T150206Z
UID:10006796-1819010700-1819016100@swv-sindelfingen.de
SUMMARY:Nordic Walking
DESCRIPTION:
URL:https://swv-sindelfingen.de/event/nordic-walking-3/2027-08-23/
LOCATION:SWV – Vereinsheim\, Arthur-Gruber-Strasse 65\, SIndelfingen\, Deutschland\, 71065
END:VEVENT
BEGIN:VEVENT
DTSTART;TZID=Europe/Berlin:20270824T193000
DTEND;TZID=Europe/Berlin:20270824T210000
DTSTAMP:20260420T050947
CREATED:20250130T201106Z
LAST-MODIFIED:20250130T201221Z
UID:10005102-1819135800-1819141200@swv-sindelfingen.de
SUMMARY:Powergymnastik
DESCRIPTION:
URL:https://swv-sindelfingen.de/event/powergymnastikk/2027-08-24/
END:VEVENT
BEGIN:VEVENT
DTSTART;TZID=Europe/Berlin:20270825T184500
DTEND;TZID=Europe/Berlin:20270825T184500
DTSTAMP:20260420T050947
CREATED:20250131T075402Z
LAST-MODIFIED:20250131T075402Z
UID:10006501-1819219500-1819219500@swv-sindelfingen.de
SUMMARY:Trainingsbetrieb
DESCRIPTION:Mittwochabends (im Winterhalbjahr ab 18:45 Uhr)\, im Badezentrum Sindelfingen (außer in den Schulferien\, dann z.T. Ersatztraining).\nInfos: Felix Loroff
URL:https://swv-sindelfingen.de/event/trainingsbetrieb/2027-08-25/
CATEGORIES:Kanusport
END:VEVENT
BEGIN:VEVENT
DTSTART;TZID=Europe/Berlin:20270825T190000
DTEND;TZID=Europe/Berlin:20270825T211500
DTSTAMP:20260420T050947
CREATED:20250130T202848Z
LAST-MODIFIED:20250130T202848Z
UID:10005377-1819220400-1819228500@swv-sindelfingen.de
SUMMARY:Fitness nur für Frauen
DESCRIPTION:
URL:https://swv-sindelfingen.de/event/fitness-nur-fuer-frauen-2/2027-08-25/
END:VEVENT
BEGIN:VEVENT
DTSTART;TZID=Europe/Berlin:20270826T193000
DTEND;TZID=Europe/Berlin:20270826T210000
DTSTAMP:20260420T050947
CREATED:20250130T203352Z
LAST-MODIFIED:20260220T175000Z
UID:10005658-1819308600-1819314000@swv-sindelfingen.de
SUMMARY:Fitness Workout
DESCRIPTION:
URL:https://swv-sindelfingen.de/event/fitness-workout-2/2027-08-26/
LOCATION:Realschule Klstergarten
END:VEVENT
BEGIN:VEVENT
DTSTART;TZID=Europe/Berlin:20270827T080000
DTEND;TZID=Europe/Berlin:20270827T170000
DTSTAMP:20260420T050947
CREATED:20250130T204210Z
LAST-MODIFIED:20250130T204210Z
UID:10006214-1819353600-1819386000@swv-sindelfingen.de
SUMMARY:Fit werden - fit bleiben
DESCRIPTION:
URL:https://swv-sindelfingen.de/event/fit-werden-fit-bleiben-2/2027-08-27/
END:VEVENT
BEGIN:VEVENT
DTSTART;TZID=Europe/Berlin:20270830T084500
DTEND;TZID=Europe/Berlin:20270830T101500
DTSTAMP:20260420T050947
CREATED:20250221T150206Z
LAST-MODIFIED:20250221T150206Z
UID:10006797-1819615500-1819620900@swv-sindelfingen.de
SUMMARY:Nordic Walking
DESCRIPTION:
URL:https://swv-sindelfingen.de/event/nordic-walking-3/2027-08-30/
LOCATION:SWV – Vereinsheim\, Arthur-Gruber-Strasse 65\, SIndelfingen\, Deutschland\, 71065
END:VEVENT
BEGIN:VEVENT
DTSTART;TZID=Europe/Berlin:20270831T193000
DTEND;TZID=Europe/Berlin:20270831T210000
DTSTAMP:20260420T050947
CREATED:20250130T201106Z
LAST-MODIFIED:20250130T201221Z
UID:10005103-1819740600-1819746000@swv-sindelfingen.de
SUMMARY:Powergymnastik
DESCRIPTION:
URL:https://swv-sindelfingen.de/event/powergymnastikk/2027-08-31/
END:VEVENT
END:VCALENDAR