BEGIN:VCALENDAR
VERSION:2.0
PRODID:-//Schwarzwaldverein Sindelfingen e. V. - ECPv6.15.20//NONSGML v1.0//EN
CALSCALE:GREGORIAN
METHOD:PUBLISH
X-ORIGINAL-URL:https://swv-sindelfingen.de
X-WR-CALDESC:Veranstaltungen für Schwarzwaldverein Sindelfingen e. V.
REFRESH-INTERVAL;VALUE=DURATION:PT1H
X-Robots-Tag:noindex
X-PUBLISHED-TTL:PT1H
BEGIN:VTIMEZONE
TZID:Europe/Berlin
BEGIN:DAYLIGHT
TZOFFSETFROM:+0100
TZOFFSETTO:+0200
TZNAME:CEST
DTSTART:20260329T010000
END:DAYLIGHT
BEGIN:STANDARD
TZOFFSETFROM:+0200
TZOFFSETTO:+0100
TZNAME:CET
DTSTART:20261025T010000
END:STANDARD
BEGIN:DAYLIGHT
TZOFFSETFROM:+0100
TZOFFSETTO:+0200
TZNAME:CEST
DTSTART:20270328T010000
END:DAYLIGHT
BEGIN:STANDARD
TZOFFSETFROM:+0200
TZOFFSETTO:+0100
TZNAME:CET
DTSTART:20271031T010000
END:STANDARD
BEGIN:DAYLIGHT
TZOFFSETFROM:+0100
TZOFFSETTO:+0200
TZNAME:CEST
DTSTART:20280326T010000
END:DAYLIGHT
BEGIN:STANDARD
TZOFFSETFROM:+0200
TZOFFSETTO:+0100
TZNAME:CET
DTSTART:20281029T010000
END:STANDARD
END:VTIMEZONE
BEGIN:VEVENT
DTSTART;TZID=Europe/Berlin:20270701T193000
DTEND;TZID=Europe/Berlin:20270701T210000
DTSTAMP:20260420T034015
CREATED:20250130T203352Z
LAST-MODIFIED:20260220T175000Z
UID:10005650-1814470200-1814475600@swv-sindelfingen.de
SUMMARY:Fitness Workout
DESCRIPTION:
URL:https://swv-sindelfingen.de/event/fitness-workout-2/2027-07-01/
LOCATION:Realschule Klstergarten
END:VEVENT
BEGIN:VEVENT
DTSTART;TZID=Europe/Berlin:20270702T080000
DTEND;TZID=Europe/Berlin:20270702T170000
DTSTAMP:20260420T034015
CREATED:20250130T204210Z
LAST-MODIFIED:20250130T204210Z
UID:10006206-1814515200-1814547600@swv-sindelfingen.de
SUMMARY:Fit werden - fit bleiben
DESCRIPTION:
URL:https://swv-sindelfingen.de/event/fit-werden-fit-bleiben-2/2027-07-02/
END:VEVENT
BEGIN:VEVENT
DTSTART;TZID=Europe/Berlin:20270705T084500
DTEND;TZID=Europe/Berlin:20270705T101500
DTSTAMP:20260420T034015
CREATED:20250221T150206Z
LAST-MODIFIED:20250221T150206Z
UID:10006789-1814777100-1814782500@swv-sindelfingen.de
SUMMARY:Nordic Walking
DESCRIPTION:
URL:https://swv-sindelfingen.de/event/nordic-walking-3/2027-07-05/
LOCATION:SWV – Vereinsheim\, Arthur-Gruber-Strasse 65\, SIndelfingen\, Deutschland\, 71065
END:VEVENT
BEGIN:VEVENT
DTSTART;TZID=Europe/Berlin:20270706T193000
DTEND;TZID=Europe/Berlin:20270706T210000
DTSTAMP:20260420T034015
CREATED:20250130T201106Z
LAST-MODIFIED:20250130T201221Z
UID:10005095-1814902200-1814907600@swv-sindelfingen.de
SUMMARY:Powergymnastik
DESCRIPTION:
URL:https://swv-sindelfingen.de/event/powergymnastikk/2027-07-06/
END:VEVENT
BEGIN:VEVENT
DTSTART;TZID=Europe/Berlin:20270707T184500
DTEND;TZID=Europe/Berlin:20270707T184500
DTSTAMP:20260420T034015
CREATED:20250131T075402Z
LAST-MODIFIED:20250131T075402Z
UID:10006494-1814985900-1814985900@swv-sindelfingen.de
SUMMARY:Trainingsbetrieb
DESCRIPTION:Mittwochabends (im Winterhalbjahr ab 18:45 Uhr)\, im Badezentrum Sindelfingen (außer in den Schulferien\, dann z.T. Ersatztraining).\nInfos: Felix Loroff
URL:https://swv-sindelfingen.de/event/trainingsbetrieb/2027-07-07/
CATEGORIES:Kanusport
END:VEVENT
BEGIN:VEVENT
DTSTART;TZID=Europe/Berlin:20270707T190000
DTEND;TZID=Europe/Berlin:20270707T211500
DTSTAMP:20260420T034015
CREATED:20250130T202848Z
LAST-MODIFIED:20250130T202848Z
UID:10005370-1814986800-1814994900@swv-sindelfingen.de
SUMMARY:Fitness nur für Frauen
DESCRIPTION:
URL:https://swv-sindelfingen.de/event/fitness-nur-fuer-frauen-2/2027-07-07/
END:VEVENT
BEGIN:VEVENT
DTSTART;TZID=Europe/Berlin:20270708T193000
DTEND;TZID=Europe/Berlin:20270708T210000
DTSTAMP:20260420T034015
CREATED:20250130T203352Z
LAST-MODIFIED:20260220T175000Z
UID:10005651-1815075000-1815080400@swv-sindelfingen.de
SUMMARY:Fitness Workout
DESCRIPTION:
URL:https://swv-sindelfingen.de/event/fitness-workout-2/2027-07-08/
LOCATION:Realschule Klstergarten
END:VEVENT
BEGIN:VEVENT
DTSTART;TZID=Europe/Berlin:20270709T080000
DTEND;TZID=Europe/Berlin:20270709T170000
DTSTAMP:20260420T034015
CREATED:20250130T204210Z
LAST-MODIFIED:20250130T204210Z
UID:10006207-1815120000-1815152400@swv-sindelfingen.de
SUMMARY:Fit werden - fit bleiben
DESCRIPTION:
URL:https://swv-sindelfingen.de/event/fit-werden-fit-bleiben-2/2027-07-09/
END:VEVENT
BEGIN:VEVENT
DTSTART;TZID=Europe/Berlin:20270712T084500
DTEND;TZID=Europe/Berlin:20270712T101500
DTSTAMP:20260420T034015
CREATED:20250221T150206Z
LAST-MODIFIED:20250221T150206Z
UID:10006790-1815381900-1815387300@swv-sindelfingen.de
SUMMARY:Nordic Walking
DESCRIPTION:
URL:https://swv-sindelfingen.de/event/nordic-walking-3/2027-07-12/
LOCATION:SWV – Vereinsheim\, Arthur-Gruber-Strasse 65\, SIndelfingen\, Deutschland\, 71065
END:VEVENT
BEGIN:VEVENT
DTSTART;TZID=Europe/Berlin:20270713T193000
DTEND;TZID=Europe/Berlin:20270713T210000
DTSTAMP:20260420T034015
CREATED:20250130T201106Z
LAST-MODIFIED:20250130T201221Z
UID:10005096-1815507000-1815512400@swv-sindelfingen.de
SUMMARY:Powergymnastik
DESCRIPTION:
URL:https://swv-sindelfingen.de/event/powergymnastikk/2027-07-13/
END:VEVENT
BEGIN:VEVENT
DTSTART;TZID=Europe/Berlin:20270714T184500
DTEND;TZID=Europe/Berlin:20270714T184500
DTSTAMP:20260420T034015
CREATED:20250131T075402Z
LAST-MODIFIED:20250131T075402Z
UID:10006495-1815590700-1815590700@swv-sindelfingen.de
SUMMARY:Trainingsbetrieb
DESCRIPTION:Mittwochabends (im Winterhalbjahr ab 18:45 Uhr)\, im Badezentrum Sindelfingen (außer in den Schulferien\, dann z.T. Ersatztraining).\nInfos: Felix Loroff
URL:https://swv-sindelfingen.de/event/trainingsbetrieb/2027-07-14/
CATEGORIES:Kanusport
END:VEVENT
BEGIN:VEVENT
DTSTART;TZID=Europe/Berlin:20270714T190000
DTEND;TZID=Europe/Berlin:20270714T211500
DTSTAMP:20260420T034015
CREATED:20250130T202848Z
LAST-MODIFIED:20250130T202848Z
UID:10005371-1815591600-1815599700@swv-sindelfingen.de
SUMMARY:Fitness nur für Frauen
DESCRIPTION:
URL:https://swv-sindelfingen.de/event/fitness-nur-fuer-frauen-2/2027-07-14/
END:VEVENT
BEGIN:VEVENT
DTSTART;TZID=Europe/Berlin:20270715T193000
DTEND;TZID=Europe/Berlin:20270715T210000
DTSTAMP:20260420T034015
CREATED:20250130T203352Z
LAST-MODIFIED:20260220T175000Z
UID:10005652-1815679800-1815685200@swv-sindelfingen.de
SUMMARY:Fitness Workout
DESCRIPTION:
URL:https://swv-sindelfingen.de/event/fitness-workout-2/2027-07-15/
LOCATION:Realschule Klstergarten
END:VEVENT
BEGIN:VEVENT
DTSTART;TZID=Europe/Berlin:20270716T080000
DTEND;TZID=Europe/Berlin:20270716T170000
DTSTAMP:20260420T034015
CREATED:20250130T204210Z
LAST-MODIFIED:20250130T204210Z
UID:10006208-1815724800-1815757200@swv-sindelfingen.de
SUMMARY:Fit werden - fit bleiben
DESCRIPTION:
URL:https://swv-sindelfingen.de/event/fit-werden-fit-bleiben-2/2027-07-16/
END:VEVENT
BEGIN:VEVENT
DTSTART;TZID=Europe/Berlin:20270719T084500
DTEND;TZID=Europe/Berlin:20270719T101500
DTSTAMP:20260420T034015
CREATED:20250221T150206Z
LAST-MODIFIED:20250221T150206Z
UID:10006791-1815986700-1815992100@swv-sindelfingen.de
SUMMARY:Nordic Walking
DESCRIPTION:
URL:https://swv-sindelfingen.de/event/nordic-walking-3/2027-07-19/
LOCATION:SWV – Vereinsheim\, Arthur-Gruber-Strasse 65\, SIndelfingen\, Deutschland\, 71065
END:VEVENT
BEGIN:VEVENT
DTSTART;TZID=Europe/Berlin:20270720T193000
DTEND;TZID=Europe/Berlin:20270720T210000
DTSTAMP:20260420T034015
CREATED:20250130T201106Z
LAST-MODIFIED:20250130T201221Z
UID:10005097-1816111800-1816117200@swv-sindelfingen.de
SUMMARY:Powergymnastik
DESCRIPTION:
URL:https://swv-sindelfingen.de/event/powergymnastikk/2027-07-20/
END:VEVENT
BEGIN:VEVENT
DTSTART;TZID=Europe/Berlin:20270721T184500
DTEND;TZID=Europe/Berlin:20270721T184500
DTSTAMP:20260420T034015
CREATED:20250131T075402Z
LAST-MODIFIED:20250131T075402Z
UID:10006496-1816195500-1816195500@swv-sindelfingen.de
SUMMARY:Trainingsbetrieb
DESCRIPTION:Mittwochabends (im Winterhalbjahr ab 18:45 Uhr)\, im Badezentrum Sindelfingen (außer in den Schulferien\, dann z.T. Ersatztraining).\nInfos: Felix Loroff
URL:https://swv-sindelfingen.de/event/trainingsbetrieb/2027-07-21/
CATEGORIES:Kanusport
END:VEVENT
BEGIN:VEVENT
DTSTART;TZID=Europe/Berlin:20270721T190000
DTEND;TZID=Europe/Berlin:20270721T211500
DTSTAMP:20260420T034015
CREATED:20250130T202848Z
LAST-MODIFIED:20250130T202848Z
UID:10005372-1816196400-1816204500@swv-sindelfingen.de
SUMMARY:Fitness nur für Frauen
DESCRIPTION:
URL:https://swv-sindelfingen.de/event/fitness-nur-fuer-frauen-2/2027-07-21/
END:VEVENT
BEGIN:VEVENT
DTSTART;TZID=Europe/Berlin:20270722T193000
DTEND;TZID=Europe/Berlin:20270722T210000
DTSTAMP:20260420T034015
CREATED:20250130T203352Z
LAST-MODIFIED:20260220T175000Z
UID:10005653-1816284600-1816290000@swv-sindelfingen.de
SUMMARY:Fitness Workout
DESCRIPTION:
URL:https://swv-sindelfingen.de/event/fitness-workout-2/2027-07-22/
LOCATION:Realschule Klstergarten
END:VEVENT
BEGIN:VEVENT
DTSTART;TZID=Europe/Berlin:20270723T080000
DTEND;TZID=Europe/Berlin:20270723T170000
DTSTAMP:20260420T034015
CREATED:20250130T204210Z
LAST-MODIFIED:20250130T204210Z
UID:10006209-1816329600-1816362000@swv-sindelfingen.de
SUMMARY:Fit werden - fit bleiben
DESCRIPTION:
URL:https://swv-sindelfingen.de/event/fit-werden-fit-bleiben-2/2027-07-23/
END:VEVENT
BEGIN:VEVENT
DTSTART;TZID=Europe/Berlin:20270726T084500
DTEND;TZID=Europe/Berlin:20270726T101500
DTSTAMP:20260420T034015
CREATED:20250221T150206Z
LAST-MODIFIED:20250221T150206Z
UID:10006792-1816591500-1816596900@swv-sindelfingen.de
SUMMARY:Nordic Walking
DESCRIPTION:
URL:https://swv-sindelfingen.de/event/nordic-walking-3/2027-07-26/
LOCATION:SWV – Vereinsheim\, Arthur-Gruber-Strasse 65\, SIndelfingen\, Deutschland\, 71065
END:VEVENT
BEGIN:VEVENT
DTSTART;TZID=Europe/Berlin:20270727T193000
DTEND;TZID=Europe/Berlin:20270727T210000
DTSTAMP:20260420T034015
CREATED:20250130T201106Z
LAST-MODIFIED:20250130T201221Z
UID:10005098-1816716600-1816722000@swv-sindelfingen.de
SUMMARY:Powergymnastik
DESCRIPTION:
URL:https://swv-sindelfingen.de/event/powergymnastikk/2027-07-27/
END:VEVENT
BEGIN:VEVENT
DTSTART;TZID=Europe/Berlin:20270728T184500
DTEND;TZID=Europe/Berlin:20270728T184500
DTSTAMP:20260420T034015
CREATED:20250131T075402Z
LAST-MODIFIED:20250131T075402Z
UID:10006497-1816800300-1816800300@swv-sindelfingen.de
SUMMARY:Trainingsbetrieb
DESCRIPTION:Mittwochabends (im Winterhalbjahr ab 18:45 Uhr)\, im Badezentrum Sindelfingen (außer in den Schulferien\, dann z.T. Ersatztraining).\nInfos: Felix Loroff
URL:https://swv-sindelfingen.de/event/trainingsbetrieb/2027-07-28/
CATEGORIES:Kanusport
END:VEVENT
BEGIN:VEVENT
DTSTART;TZID=Europe/Berlin:20270728T190000
DTEND;TZID=Europe/Berlin:20270728T211500
DTSTAMP:20260420T034015
CREATED:20250130T202848Z
LAST-MODIFIED:20250130T202848Z
UID:10005373-1816801200-1816809300@swv-sindelfingen.de
SUMMARY:Fitness nur für Frauen
DESCRIPTION:
URL:https://swv-sindelfingen.de/event/fitness-nur-fuer-frauen-2/2027-07-28/
END:VEVENT
BEGIN:VEVENT
DTSTART;TZID=Europe/Berlin:20270729T193000
DTEND;TZID=Europe/Berlin:20270729T210000
DTSTAMP:20260420T034015
CREATED:20250130T203352Z
LAST-MODIFIED:20260220T175000Z
UID:10005654-1816889400-1816894800@swv-sindelfingen.de
SUMMARY:Fitness Workout
DESCRIPTION:
URL:https://swv-sindelfingen.de/event/fitness-workout-2/2027-07-29/
LOCATION:Realschule Klstergarten
END:VEVENT
BEGIN:VEVENT
DTSTART;TZID=Europe/Berlin:20270730T080000
DTEND;TZID=Europe/Berlin:20270730T170000
DTSTAMP:20260420T034015
CREATED:20250130T204210Z
LAST-MODIFIED:20250130T204210Z
UID:10006210-1816934400-1816966800@swv-sindelfingen.de
SUMMARY:Fit werden - fit bleiben
DESCRIPTION:
URL:https://swv-sindelfingen.de/event/fit-werden-fit-bleiben-2/2027-07-30/
END:VEVENT
END:VCALENDAR