BEGIN:VCALENDAR
VERSION:2.0
PRODID:-//Schwarzwaldverein Sindelfingen e. V. - ECPv6.15.20//NONSGML v1.0//EN
CALSCALE:GREGORIAN
METHOD:PUBLISH
X-WR-CALNAME:Schwarzwaldverein Sindelfingen e. V.
X-ORIGINAL-URL:https://swv-sindelfingen.de
X-WR-CALDESC:Veranstaltungen für Schwarzwaldverein Sindelfingen e. V.
REFRESH-INTERVAL;VALUE=DURATION:PT1H
X-Robots-Tag:noindex
X-PUBLISHED-TTL:PT1H
BEGIN:VTIMEZONE
TZID:Europe/Berlin
BEGIN:DAYLIGHT
TZOFFSETFROM:+0100
TZOFFSETTO:+0200
TZNAME:CEST
DTSTART:20260329T010000
END:DAYLIGHT
BEGIN:STANDARD
TZOFFSETFROM:+0200
TZOFFSETTO:+0100
TZNAME:CET
DTSTART:20261025T010000
END:STANDARD
BEGIN:DAYLIGHT
TZOFFSETFROM:+0100
TZOFFSETTO:+0200
TZNAME:CEST
DTSTART:20270328T010000
END:DAYLIGHT
BEGIN:STANDARD
TZOFFSETFROM:+0200
TZOFFSETTO:+0100
TZNAME:CET
DTSTART:20271031T010000
END:STANDARD
BEGIN:DAYLIGHT
TZOFFSETFROM:+0100
TZOFFSETTO:+0200
TZNAME:CEST
DTSTART:20280326T010000
END:DAYLIGHT
BEGIN:STANDARD
TZOFFSETFROM:+0200
TZOFFSETTO:+0100
TZNAME:CET
DTSTART:20281029T010000
END:STANDARD
END:VTIMEZONE
BEGIN:VEVENT
DTSTART;TZID=Europe/Berlin:20270601T193000
DTEND;TZID=Europe/Berlin:20270601T210000
DTSTAMP:20260419T235826
CREATED:20250130T201106Z
LAST-MODIFIED:20250130T201221Z
UID:10005090-1811878200-1811883600@swv-sindelfingen.de
SUMMARY:Powergymnastik
DESCRIPTION:
URL:https://swv-sindelfingen.de/event/powergymnastikk/2027-06-01/
END:VEVENT
BEGIN:VEVENT
DTSTART;TZID=Europe/Berlin:20270602T184500
DTEND;TZID=Europe/Berlin:20270602T184500
DTSTAMP:20260419T235826
CREATED:20250131T075402Z
LAST-MODIFIED:20250131T075402Z
UID:10006489-1811961900-1811961900@swv-sindelfingen.de
SUMMARY:Trainingsbetrieb
DESCRIPTION:Mittwochabends (im Winterhalbjahr ab 18:45 Uhr)\, im Badezentrum Sindelfingen (außer in den Schulferien\, dann z.T. Ersatztraining).\nInfos: Felix Loroff
URL:https://swv-sindelfingen.de/event/trainingsbetrieb/2027-06-02/
CATEGORIES:Kanusport
END:VEVENT
BEGIN:VEVENT
DTSTART;TZID=Europe/Berlin:20270602T190000
DTEND;TZID=Europe/Berlin:20270602T211500
DTSTAMP:20260419T235826
CREATED:20250130T202848Z
LAST-MODIFIED:20250130T202848Z
UID:10005365-1811962800-1811970900@swv-sindelfingen.de
SUMMARY:Fitness nur für Frauen
DESCRIPTION:
URL:https://swv-sindelfingen.de/event/fitness-nur-fuer-frauen-2/2027-06-02/
END:VEVENT
BEGIN:VEVENT
DTSTART;TZID=Europe/Berlin:20270603T193000
DTEND;TZID=Europe/Berlin:20270603T210000
DTSTAMP:20260419T235826
CREATED:20250130T203352Z
LAST-MODIFIED:20260220T175000Z
UID:10005646-1812051000-1812056400@swv-sindelfingen.de
SUMMARY:Fitness Workout
DESCRIPTION:
URL:https://swv-sindelfingen.de/event/fitness-workout-2/2027-06-03/
LOCATION:Realschule Klstergarten
END:VEVENT
BEGIN:VEVENT
DTSTART;TZID=Europe/Berlin:20270604T080000
DTEND;TZID=Europe/Berlin:20270604T170000
DTSTAMP:20260419T235826
CREATED:20250130T204210Z
LAST-MODIFIED:20250130T204210Z
UID:10006202-1812096000-1812128400@swv-sindelfingen.de
SUMMARY:Fit werden - fit bleiben
DESCRIPTION:
URL:https://swv-sindelfingen.de/event/fit-werden-fit-bleiben-2/2027-06-04/
END:VEVENT
BEGIN:VEVENT
DTSTART;TZID=Europe/Berlin:20270607T084500
DTEND;TZID=Europe/Berlin:20270607T101500
DTSTAMP:20260419T235826
CREATED:20250221T150206Z
LAST-MODIFIED:20250221T150206Z
UID:10006785-1812357900-1812363300@swv-sindelfingen.de
SUMMARY:Nordic Walking
DESCRIPTION:
URL:https://swv-sindelfingen.de/event/nordic-walking-3/2027-06-07/
LOCATION:SWV – Vereinsheim\, Arthur-Gruber-Strasse 65\, SIndelfingen\, Deutschland\, 71065
END:VEVENT
BEGIN:VEVENT
DTSTART;TZID=Europe/Berlin:20270608T193000
DTEND;TZID=Europe/Berlin:20270608T210000
DTSTAMP:20260419T235826
CREATED:20250130T201106Z
LAST-MODIFIED:20250130T201221Z
UID:10005091-1812483000-1812488400@swv-sindelfingen.de
SUMMARY:Powergymnastik
DESCRIPTION:
URL:https://swv-sindelfingen.de/event/powergymnastikk/2027-06-08/
END:VEVENT
BEGIN:VEVENT
DTSTART;TZID=Europe/Berlin:20270609T184500
DTEND;TZID=Europe/Berlin:20270609T184500
DTSTAMP:20260419T235826
CREATED:20250131T075402Z
LAST-MODIFIED:20250131T075402Z
UID:10006490-1812566700-1812566700@swv-sindelfingen.de
SUMMARY:Trainingsbetrieb
DESCRIPTION:Mittwochabends (im Winterhalbjahr ab 18:45 Uhr)\, im Badezentrum Sindelfingen (außer in den Schulferien\, dann z.T. Ersatztraining).\nInfos: Felix Loroff
URL:https://swv-sindelfingen.de/event/trainingsbetrieb/2027-06-09/
CATEGORIES:Kanusport
END:VEVENT
BEGIN:VEVENT
DTSTART;TZID=Europe/Berlin:20270609T190000
DTEND;TZID=Europe/Berlin:20270609T211500
DTSTAMP:20260419T235826
CREATED:20250130T202848Z
LAST-MODIFIED:20250130T202848Z
UID:10005366-1812567600-1812575700@swv-sindelfingen.de
SUMMARY:Fitness nur für Frauen
DESCRIPTION:
URL:https://swv-sindelfingen.de/event/fitness-nur-fuer-frauen-2/2027-06-09/
END:VEVENT
BEGIN:VEVENT
DTSTART;TZID=Europe/Berlin:20270610T193000
DTEND;TZID=Europe/Berlin:20270610T210000
DTSTAMP:20260419T235826
CREATED:20250130T203352Z
LAST-MODIFIED:20260220T175000Z
UID:10005647-1812655800-1812661200@swv-sindelfingen.de
SUMMARY:Fitness Workout
DESCRIPTION:
URL:https://swv-sindelfingen.de/event/fitness-workout-2/2027-06-10/
LOCATION:Realschule Klstergarten
END:VEVENT
BEGIN:VEVENT
DTSTART;TZID=Europe/Berlin:20270611T080000
DTEND;TZID=Europe/Berlin:20270611T170000
DTSTAMP:20260419T235826
CREATED:20250130T204210Z
LAST-MODIFIED:20250130T204210Z
UID:10006203-1812700800-1812733200@swv-sindelfingen.de
SUMMARY:Fit werden - fit bleiben
DESCRIPTION:
URL:https://swv-sindelfingen.de/event/fit-werden-fit-bleiben-2/2027-06-11/
END:VEVENT
BEGIN:VEVENT
DTSTART;TZID=Europe/Berlin:20270614T084500
DTEND;TZID=Europe/Berlin:20270614T101500
DTSTAMP:20260419T235826
CREATED:20250221T150206Z
LAST-MODIFIED:20250221T150206Z
UID:10006786-1812962700-1812968100@swv-sindelfingen.de
SUMMARY:Nordic Walking
DESCRIPTION:
URL:https://swv-sindelfingen.de/event/nordic-walking-3/2027-06-14/
LOCATION:SWV – Vereinsheim\, Arthur-Gruber-Strasse 65\, SIndelfingen\, Deutschland\, 71065
END:VEVENT
BEGIN:VEVENT
DTSTART;TZID=Europe/Berlin:20270615T193000
DTEND;TZID=Europe/Berlin:20270615T210000
DTSTAMP:20260419T235826
CREATED:20250130T201106Z
LAST-MODIFIED:20250130T201221Z
UID:10005092-1813087800-1813093200@swv-sindelfingen.de
SUMMARY:Powergymnastik
DESCRIPTION:
URL:https://swv-sindelfingen.de/event/powergymnastikk/2027-06-15/
END:VEVENT
BEGIN:VEVENT
DTSTART;TZID=Europe/Berlin:20270616T184500
DTEND;TZID=Europe/Berlin:20270616T184500
DTSTAMP:20260419T235826
CREATED:20250131T075402Z
LAST-MODIFIED:20250131T075402Z
UID:10006491-1813171500-1813171500@swv-sindelfingen.de
SUMMARY:Trainingsbetrieb
DESCRIPTION:Mittwochabends (im Winterhalbjahr ab 18:45 Uhr)\, im Badezentrum Sindelfingen (außer in den Schulferien\, dann z.T. Ersatztraining).\nInfos: Felix Loroff
URL:https://swv-sindelfingen.de/event/trainingsbetrieb/2027-06-16/
CATEGORIES:Kanusport
END:VEVENT
BEGIN:VEVENT
DTSTART;TZID=Europe/Berlin:20270616T190000
DTEND;TZID=Europe/Berlin:20270616T211500
DTSTAMP:20260419T235826
CREATED:20250130T202848Z
LAST-MODIFIED:20250130T202848Z
UID:10005367-1813172400-1813180500@swv-sindelfingen.de
SUMMARY:Fitness nur für Frauen
DESCRIPTION:
URL:https://swv-sindelfingen.de/event/fitness-nur-fuer-frauen-2/2027-06-16/
END:VEVENT
BEGIN:VEVENT
DTSTART;TZID=Europe/Berlin:20270617T193000
DTEND;TZID=Europe/Berlin:20270617T210000
DTSTAMP:20260419T235826
CREATED:20250130T203352Z
LAST-MODIFIED:20260220T175000Z
UID:10005648-1813260600-1813266000@swv-sindelfingen.de
SUMMARY:Fitness Workout
DESCRIPTION:
URL:https://swv-sindelfingen.de/event/fitness-workout-2/2027-06-17/
LOCATION:Realschule Klstergarten
END:VEVENT
BEGIN:VEVENT
DTSTART;TZID=Europe/Berlin:20270618T080000
DTEND;TZID=Europe/Berlin:20270618T170000
DTSTAMP:20260419T235826
CREATED:20250130T204210Z
LAST-MODIFIED:20250130T204210Z
UID:10006204-1813305600-1813338000@swv-sindelfingen.de
SUMMARY:Fit werden - fit bleiben
DESCRIPTION:
URL:https://swv-sindelfingen.de/event/fit-werden-fit-bleiben-2/2027-06-18/
END:VEVENT
BEGIN:VEVENT
DTSTART;TZID=Europe/Berlin:20270621T084500
DTEND;TZID=Europe/Berlin:20270621T101500
DTSTAMP:20260419T235826
CREATED:20250221T150206Z
LAST-MODIFIED:20250221T150206Z
UID:10006787-1813567500-1813572900@swv-sindelfingen.de
SUMMARY:Nordic Walking
DESCRIPTION:
URL:https://swv-sindelfingen.de/event/nordic-walking-3/2027-06-21/
LOCATION:SWV – Vereinsheim\, Arthur-Gruber-Strasse 65\, SIndelfingen\, Deutschland\, 71065
END:VEVENT
BEGIN:VEVENT
DTSTART;TZID=Europe/Berlin:20270622T193000
DTEND;TZID=Europe/Berlin:20270622T210000
DTSTAMP:20260419T235826
CREATED:20250130T201106Z
LAST-MODIFIED:20250130T201221Z
UID:10005093-1813692600-1813698000@swv-sindelfingen.de
SUMMARY:Powergymnastik
DESCRIPTION:
URL:https://swv-sindelfingen.de/event/powergymnastikk/2027-06-22/
END:VEVENT
BEGIN:VEVENT
DTSTART;TZID=Europe/Berlin:20270623T184500
DTEND;TZID=Europe/Berlin:20270623T184500
DTSTAMP:20260419T235826
CREATED:20250131T075402Z
LAST-MODIFIED:20250131T075402Z
UID:10006492-1813776300-1813776300@swv-sindelfingen.de
SUMMARY:Trainingsbetrieb
DESCRIPTION:Mittwochabends (im Winterhalbjahr ab 18:45 Uhr)\, im Badezentrum Sindelfingen (außer in den Schulferien\, dann z.T. Ersatztraining).\nInfos: Felix Loroff
URL:https://swv-sindelfingen.de/event/trainingsbetrieb/2027-06-23/
CATEGORIES:Kanusport
END:VEVENT
BEGIN:VEVENT
DTSTART;TZID=Europe/Berlin:20270623T190000
DTEND;TZID=Europe/Berlin:20270623T211500
DTSTAMP:20260419T235826
CREATED:20250130T202848Z
LAST-MODIFIED:20250130T202848Z
UID:10005368-1813777200-1813785300@swv-sindelfingen.de
SUMMARY:Fitness nur für Frauen
DESCRIPTION:
URL:https://swv-sindelfingen.de/event/fitness-nur-fuer-frauen-2/2027-06-23/
END:VEVENT
BEGIN:VEVENT
DTSTART;TZID=Europe/Berlin:20270624T193000
DTEND;TZID=Europe/Berlin:20270624T210000
DTSTAMP:20260419T235826
CREATED:20250130T203352Z
LAST-MODIFIED:20260220T175000Z
UID:10005649-1813865400-1813870800@swv-sindelfingen.de
SUMMARY:Fitness Workout
DESCRIPTION:
URL:https://swv-sindelfingen.de/event/fitness-workout-2/2027-06-24/
LOCATION:Realschule Klstergarten
END:VEVENT
BEGIN:VEVENT
DTSTART;TZID=Europe/Berlin:20270625T080000
DTEND;TZID=Europe/Berlin:20270625T170000
DTSTAMP:20260419T235826
CREATED:20250130T204210Z
LAST-MODIFIED:20250130T204210Z
UID:10006205-1813910400-1813942800@swv-sindelfingen.de
SUMMARY:Fit werden - fit bleiben
DESCRIPTION:
URL:https://swv-sindelfingen.de/event/fit-werden-fit-bleiben-2/2027-06-25/
END:VEVENT
BEGIN:VEVENT
DTSTART;TZID=Europe/Berlin:20270628T084500
DTEND;TZID=Europe/Berlin:20270628T101500
DTSTAMP:20260419T235826
CREATED:20250221T150206Z
LAST-MODIFIED:20250221T150206Z
UID:10006788-1814172300-1814177700@swv-sindelfingen.de
SUMMARY:Nordic Walking
DESCRIPTION:
URL:https://swv-sindelfingen.de/event/nordic-walking-3/2027-06-28/
LOCATION:SWV – Vereinsheim\, Arthur-Gruber-Strasse 65\, SIndelfingen\, Deutschland\, 71065
END:VEVENT
BEGIN:VEVENT
DTSTART;TZID=Europe/Berlin:20270629T193000
DTEND;TZID=Europe/Berlin:20270629T210000
DTSTAMP:20260419T235826
CREATED:20250130T201106Z
LAST-MODIFIED:20250130T201221Z
UID:10005094-1814297400-1814302800@swv-sindelfingen.de
SUMMARY:Powergymnastik
DESCRIPTION:
URL:https://swv-sindelfingen.de/event/powergymnastikk/2027-06-29/
END:VEVENT
BEGIN:VEVENT
DTSTART;TZID=Europe/Berlin:20270630T184500
DTEND;TZID=Europe/Berlin:20270630T184500
DTSTAMP:20260419T235826
CREATED:20250131T075402Z
LAST-MODIFIED:20250131T075402Z
UID:10006493-1814381100-1814381100@swv-sindelfingen.de
SUMMARY:Trainingsbetrieb
DESCRIPTION:Mittwochabends (im Winterhalbjahr ab 18:45 Uhr)\, im Badezentrum Sindelfingen (außer in den Schulferien\, dann z.T. Ersatztraining).\nInfos: Felix Loroff
URL:https://swv-sindelfingen.de/event/trainingsbetrieb/2027-06-30/
CATEGORIES:Kanusport
END:VEVENT
BEGIN:VEVENT
DTSTART;TZID=Europe/Berlin:20270630T190000
DTEND;TZID=Europe/Berlin:20270630T211500
DTSTAMP:20260419T235826
CREATED:20250130T202848Z
LAST-MODIFIED:20250130T202848Z
UID:10005369-1814382000-1814390100@swv-sindelfingen.de
SUMMARY:Fitness nur für Frauen
DESCRIPTION:
URL:https://swv-sindelfingen.de/event/fitness-nur-fuer-frauen-2/2027-06-30/
END:VEVENT
END:VCALENDAR