BEGIN:VCALENDAR
VERSION:2.0
PRODID:-//Schwarzwaldverein Sindelfingen e. V. - ECPv6.15.20//NONSGML v1.0//EN
CALSCALE:GREGORIAN
METHOD:PUBLISH
X-WR-CALNAME:Schwarzwaldverein Sindelfingen e. V.
X-ORIGINAL-URL:https://swv-sindelfingen.de
X-WR-CALDESC:Veranstaltungen für Schwarzwaldverein Sindelfingen e. V.
REFRESH-INTERVAL;VALUE=DURATION:PT1H
X-Robots-Tag:noindex
X-PUBLISHED-TTL:PT1H
BEGIN:VTIMEZONE
TZID:Europe/Berlin
BEGIN:DAYLIGHT
TZOFFSETFROM:+0100
TZOFFSETTO:+0200
TZNAME:CEST
DTSTART:20260329T010000
END:DAYLIGHT
BEGIN:STANDARD
TZOFFSETFROM:+0200
TZOFFSETTO:+0100
TZNAME:CET
DTSTART:20261025T010000
END:STANDARD
BEGIN:DAYLIGHT
TZOFFSETFROM:+0100
TZOFFSETTO:+0200
TZNAME:CEST
DTSTART:20270328T010000
END:DAYLIGHT
BEGIN:STANDARD
TZOFFSETFROM:+0200
TZOFFSETTO:+0100
TZNAME:CET
DTSTART:20271031T010000
END:STANDARD
BEGIN:DAYLIGHT
TZOFFSETFROM:+0100
TZOFFSETTO:+0200
TZNAME:CEST
DTSTART:20280326T010000
END:DAYLIGHT
BEGIN:STANDARD
TZOFFSETFROM:+0200
TZOFFSETTO:+0100
TZNAME:CET
DTSTART:20281029T010000
END:STANDARD
END:VTIMEZONE
BEGIN:VEVENT
DTSTART;TZID=Europe/Berlin:20270503T084500
DTEND;TZID=Europe/Berlin:20270503T101500
DTSTAMP:20260420T000637
CREATED:20250221T150206Z
LAST-MODIFIED:20250221T150206Z
UID:10006780-1809333900-1809339300@swv-sindelfingen.de
SUMMARY:Nordic Walking
DESCRIPTION:
URL:https://swv-sindelfingen.de/event/nordic-walking-3/2027-05-03/
LOCATION:SWV – Vereinsheim\, Arthur-Gruber-Strasse 65\, SIndelfingen\, Deutschland\, 71065
END:VEVENT
BEGIN:VEVENT
DTSTART;TZID=Europe/Berlin:20270504T193000
DTEND;TZID=Europe/Berlin:20270504T210000
DTSTAMP:20260420T000637
CREATED:20250130T201106Z
LAST-MODIFIED:20250130T201221Z
UID:10005086-1809459000-1809464400@swv-sindelfingen.de
SUMMARY:Powergymnastik
DESCRIPTION:
URL:https://swv-sindelfingen.de/event/powergymnastikk/2027-05-04/
END:VEVENT
BEGIN:VEVENT
DTSTART;TZID=Europe/Berlin:20270505T184500
DTEND;TZID=Europe/Berlin:20270505T184500
DTSTAMP:20260420T000637
CREATED:20250131T075402Z
LAST-MODIFIED:20250131T075402Z
UID:10006485-1809542700-1809542700@swv-sindelfingen.de
SUMMARY:Trainingsbetrieb
DESCRIPTION:Mittwochabends (im Winterhalbjahr ab 18:45 Uhr)\, im Badezentrum Sindelfingen (außer in den Schulferien\, dann z.T. Ersatztraining).\nInfos: Felix Loroff
URL:https://swv-sindelfingen.de/event/trainingsbetrieb/2027-05-05/
CATEGORIES:Kanusport
END:VEVENT
BEGIN:VEVENT
DTSTART;TZID=Europe/Berlin:20270505T190000
DTEND;TZID=Europe/Berlin:20270505T211500
DTSTAMP:20260420T000637
CREATED:20250130T202848Z
LAST-MODIFIED:20250130T202848Z
UID:10005361-1809543600-1809551700@swv-sindelfingen.de
SUMMARY:Fitness nur für Frauen
DESCRIPTION:
URL:https://swv-sindelfingen.de/event/fitness-nur-fuer-frauen-2/2027-05-05/
END:VEVENT
BEGIN:VEVENT
DTSTART;TZID=Europe/Berlin:20270506T193000
DTEND;TZID=Europe/Berlin:20270506T210000
DTSTAMP:20260420T000637
CREATED:20250130T203352Z
LAST-MODIFIED:20260220T175000Z
UID:10005642-1809631800-1809637200@swv-sindelfingen.de
SUMMARY:Fitness Workout
DESCRIPTION:
URL:https://swv-sindelfingen.de/event/fitness-workout-2/2027-05-06/
LOCATION:Realschule Klstergarten
END:VEVENT
BEGIN:VEVENT
DTSTART;TZID=Europe/Berlin:20270507T080000
DTEND;TZID=Europe/Berlin:20270507T170000
DTSTAMP:20260420T000637
CREATED:20250130T204210Z
LAST-MODIFIED:20250130T204210Z
UID:10006198-1809676800-1809709200@swv-sindelfingen.de
SUMMARY:Fit werden - fit bleiben
DESCRIPTION:
URL:https://swv-sindelfingen.de/event/fit-werden-fit-bleiben-2/2027-05-07/
END:VEVENT
BEGIN:VEVENT
DTSTART;TZID=Europe/Berlin:20270510T084500
DTEND;TZID=Europe/Berlin:20270510T101500
DTSTAMP:20260420T000637
CREATED:20250221T150206Z
LAST-MODIFIED:20250221T150206Z
UID:10006781-1809938700-1809944100@swv-sindelfingen.de
SUMMARY:Nordic Walking
DESCRIPTION:
URL:https://swv-sindelfingen.de/event/nordic-walking-3/2027-05-10/
LOCATION:SWV – Vereinsheim\, Arthur-Gruber-Strasse 65\, SIndelfingen\, Deutschland\, 71065
END:VEVENT
BEGIN:VEVENT
DTSTART;TZID=Europe/Berlin:20270511T193000
DTEND;TZID=Europe/Berlin:20270511T210000
DTSTAMP:20260420T000637
CREATED:20250130T201106Z
LAST-MODIFIED:20250130T201221Z
UID:10005087-1810063800-1810069200@swv-sindelfingen.de
SUMMARY:Powergymnastik
DESCRIPTION:
URL:https://swv-sindelfingen.de/event/powergymnastikk/2027-05-11/
END:VEVENT
BEGIN:VEVENT
DTSTART;TZID=Europe/Berlin:20270512T184500
DTEND;TZID=Europe/Berlin:20270512T184500
DTSTAMP:20260420T000637
CREATED:20250131T075402Z
LAST-MODIFIED:20250131T075402Z
UID:10006486-1810147500-1810147500@swv-sindelfingen.de
SUMMARY:Trainingsbetrieb
DESCRIPTION:Mittwochabends (im Winterhalbjahr ab 18:45 Uhr)\, im Badezentrum Sindelfingen (außer in den Schulferien\, dann z.T. Ersatztraining).\nInfos: Felix Loroff
URL:https://swv-sindelfingen.de/event/trainingsbetrieb/2027-05-12/
CATEGORIES:Kanusport
END:VEVENT
BEGIN:VEVENT
DTSTART;TZID=Europe/Berlin:20270512T190000
DTEND;TZID=Europe/Berlin:20270512T211500
DTSTAMP:20260420T000637
CREATED:20250130T202848Z
LAST-MODIFIED:20250130T202848Z
UID:10005362-1810148400-1810156500@swv-sindelfingen.de
SUMMARY:Fitness nur für Frauen
DESCRIPTION:
URL:https://swv-sindelfingen.de/event/fitness-nur-fuer-frauen-2/2027-05-12/
END:VEVENT
BEGIN:VEVENT
DTSTART;TZID=Europe/Berlin:20270513T193000
DTEND;TZID=Europe/Berlin:20270513T210000
DTSTAMP:20260420T000638
CREATED:20250130T203352Z
LAST-MODIFIED:20260220T175000Z
UID:10005643-1810236600-1810242000@swv-sindelfingen.de
SUMMARY:Fitness Workout
DESCRIPTION:
URL:https://swv-sindelfingen.de/event/fitness-workout-2/2027-05-13/
LOCATION:Realschule Klstergarten
END:VEVENT
BEGIN:VEVENT
DTSTART;TZID=Europe/Berlin:20270514T080000
DTEND;TZID=Europe/Berlin:20270514T170000
DTSTAMP:20260420T000638
CREATED:20250130T204210Z
LAST-MODIFIED:20250130T204210Z
UID:10006199-1810281600-1810314000@swv-sindelfingen.de
SUMMARY:Fit werden - fit bleiben
DESCRIPTION:
URL:https://swv-sindelfingen.de/event/fit-werden-fit-bleiben-2/2027-05-14/
END:VEVENT
BEGIN:VEVENT
DTSTART;TZID=Europe/Berlin:20270517T084500
DTEND;TZID=Europe/Berlin:20270517T101500
DTSTAMP:20260420T000638
CREATED:20250221T150206Z
LAST-MODIFIED:20250221T150206Z
UID:10006782-1810543500-1810548900@swv-sindelfingen.de
SUMMARY:Nordic Walking
DESCRIPTION:
URL:https://swv-sindelfingen.de/event/nordic-walking-3/2027-05-17/
LOCATION:SWV – Vereinsheim\, Arthur-Gruber-Strasse 65\, SIndelfingen\, Deutschland\, 71065
END:VEVENT
BEGIN:VEVENT
DTSTART;TZID=Europe/Berlin:20270518T193000
DTEND;TZID=Europe/Berlin:20270518T210000
DTSTAMP:20260420T000638
CREATED:20250130T201106Z
LAST-MODIFIED:20250130T201221Z
UID:10005088-1810668600-1810674000@swv-sindelfingen.de
SUMMARY:Powergymnastik
DESCRIPTION:
URL:https://swv-sindelfingen.de/event/powergymnastikk/2027-05-18/
END:VEVENT
BEGIN:VEVENT
DTSTART;TZID=Europe/Berlin:20270519T184500
DTEND;TZID=Europe/Berlin:20270519T184500
DTSTAMP:20260420T000638
CREATED:20250131T075402Z
LAST-MODIFIED:20250131T075402Z
UID:10006487-1810752300-1810752300@swv-sindelfingen.de
SUMMARY:Trainingsbetrieb
DESCRIPTION:Mittwochabends (im Winterhalbjahr ab 18:45 Uhr)\, im Badezentrum Sindelfingen (außer in den Schulferien\, dann z.T. Ersatztraining).\nInfos: Felix Loroff
URL:https://swv-sindelfingen.de/event/trainingsbetrieb/2027-05-19/
CATEGORIES:Kanusport
END:VEVENT
BEGIN:VEVENT
DTSTART;TZID=Europe/Berlin:20270519T190000
DTEND;TZID=Europe/Berlin:20270519T211500
DTSTAMP:20260420T000638
CREATED:20250130T202848Z
LAST-MODIFIED:20250130T202848Z
UID:10005363-1810753200-1810761300@swv-sindelfingen.de
SUMMARY:Fitness nur für Frauen
DESCRIPTION:
URL:https://swv-sindelfingen.de/event/fitness-nur-fuer-frauen-2/2027-05-19/
END:VEVENT
BEGIN:VEVENT
DTSTART;TZID=Europe/Berlin:20270520T193000
DTEND;TZID=Europe/Berlin:20270520T210000
DTSTAMP:20260420T000638
CREATED:20250130T203352Z
LAST-MODIFIED:20260220T175000Z
UID:10005644-1810841400-1810846800@swv-sindelfingen.de
SUMMARY:Fitness Workout
DESCRIPTION:
URL:https://swv-sindelfingen.de/event/fitness-workout-2/2027-05-20/
LOCATION:Realschule Klstergarten
END:VEVENT
BEGIN:VEVENT
DTSTART;TZID=Europe/Berlin:20270521T080000
DTEND;TZID=Europe/Berlin:20270521T170000
DTSTAMP:20260420T000638
CREATED:20250130T204210Z
LAST-MODIFIED:20250130T204210Z
UID:10006200-1810886400-1810918800@swv-sindelfingen.de
SUMMARY:Fit werden - fit bleiben
DESCRIPTION:
URL:https://swv-sindelfingen.de/event/fit-werden-fit-bleiben-2/2027-05-21/
END:VEVENT
BEGIN:VEVENT
DTSTART;TZID=Europe/Berlin:20270524T084500
DTEND;TZID=Europe/Berlin:20270524T101500
DTSTAMP:20260420T000638
CREATED:20250221T150206Z
LAST-MODIFIED:20250221T150206Z
UID:10006783-1811148300-1811153700@swv-sindelfingen.de
SUMMARY:Nordic Walking
DESCRIPTION:
URL:https://swv-sindelfingen.de/event/nordic-walking-3/2027-05-24/
LOCATION:SWV – Vereinsheim\, Arthur-Gruber-Strasse 65\, SIndelfingen\, Deutschland\, 71065
END:VEVENT
BEGIN:VEVENT
DTSTART;TZID=Europe/Berlin:20270525T193000
DTEND;TZID=Europe/Berlin:20270525T210000
DTSTAMP:20260420T000638
CREATED:20250130T201106Z
LAST-MODIFIED:20250130T201221Z
UID:10005089-1811273400-1811278800@swv-sindelfingen.de
SUMMARY:Powergymnastik
DESCRIPTION:
URL:https://swv-sindelfingen.de/event/powergymnastikk/2027-05-25/
END:VEVENT
BEGIN:VEVENT
DTSTART;TZID=Europe/Berlin:20270526T184500
DTEND;TZID=Europe/Berlin:20270526T184500
DTSTAMP:20260420T000638
CREATED:20250131T075402Z
LAST-MODIFIED:20250131T075402Z
UID:10006488-1811357100-1811357100@swv-sindelfingen.de
SUMMARY:Trainingsbetrieb
DESCRIPTION:Mittwochabends (im Winterhalbjahr ab 18:45 Uhr)\, im Badezentrum Sindelfingen (außer in den Schulferien\, dann z.T. Ersatztraining).\nInfos: Felix Loroff
URL:https://swv-sindelfingen.de/event/trainingsbetrieb/2027-05-26/
CATEGORIES:Kanusport
END:VEVENT
BEGIN:VEVENT
DTSTART;TZID=Europe/Berlin:20270526T190000
DTEND;TZID=Europe/Berlin:20270526T211500
DTSTAMP:20260420T000638
CREATED:20250130T202848Z
LAST-MODIFIED:20250130T202848Z
UID:10005364-1811358000-1811366100@swv-sindelfingen.de
SUMMARY:Fitness nur für Frauen
DESCRIPTION:
URL:https://swv-sindelfingen.de/event/fitness-nur-fuer-frauen-2/2027-05-26/
END:VEVENT
BEGIN:VEVENT
DTSTART;TZID=Europe/Berlin:20270527T193000
DTEND;TZID=Europe/Berlin:20270527T210000
DTSTAMP:20260420T000638
CREATED:20250130T203352Z
LAST-MODIFIED:20260220T175000Z
UID:10005645-1811446200-1811451600@swv-sindelfingen.de
SUMMARY:Fitness Workout
DESCRIPTION:
URL:https://swv-sindelfingen.de/event/fitness-workout-2/2027-05-27/
LOCATION:Realschule Klstergarten
END:VEVENT
BEGIN:VEVENT
DTSTART;TZID=Europe/Berlin:20270528T080000
DTEND;TZID=Europe/Berlin:20270528T170000
DTSTAMP:20260420T000638
CREATED:20250130T204210Z
LAST-MODIFIED:20250130T204210Z
UID:10006201-1811491200-1811523600@swv-sindelfingen.de
SUMMARY:Fit werden - fit bleiben
DESCRIPTION:
URL:https://swv-sindelfingen.de/event/fit-werden-fit-bleiben-2/2027-05-28/
END:VEVENT
BEGIN:VEVENT
DTSTART;TZID=Europe/Berlin:20270531T084500
DTEND;TZID=Europe/Berlin:20270531T101500
DTSTAMP:20260420T000638
CREATED:20250221T150206Z
LAST-MODIFIED:20250221T150206Z
UID:10006784-1811753100-1811758500@swv-sindelfingen.de
SUMMARY:Nordic Walking
DESCRIPTION:
URL:https://swv-sindelfingen.de/event/nordic-walking-3/2027-05-31/
LOCATION:SWV – Vereinsheim\, Arthur-Gruber-Strasse 65\, SIndelfingen\, Deutschland\, 71065
END:VEVENT
END:VCALENDAR