BEGIN:VCALENDAR
VERSION:2.0
PRODID:-//Schwarzwaldverein Sindelfingen e. V. - ECPv6.15.20//NONSGML v1.0//EN
CALSCALE:GREGORIAN
METHOD:PUBLISH
X-ORIGINAL-URL:https://swv-sindelfingen.de
X-WR-CALDESC:Veranstaltungen für Schwarzwaldverein Sindelfingen e. V.
REFRESH-INTERVAL;VALUE=DURATION:PT1H
X-Robots-Tag:noindex
X-PUBLISHED-TTL:PT1H
BEGIN:VTIMEZONE
TZID:Europe/Berlin
BEGIN:DAYLIGHT
TZOFFSETFROM:+0100
TZOFFSETTO:+0200
TZNAME:CEST
DTSTART:20260329T010000
END:DAYLIGHT
BEGIN:STANDARD
TZOFFSETFROM:+0200
TZOFFSETTO:+0100
TZNAME:CET
DTSTART:20261025T010000
END:STANDARD
BEGIN:DAYLIGHT
TZOFFSETFROM:+0100
TZOFFSETTO:+0200
TZNAME:CEST
DTSTART:20270328T010000
END:DAYLIGHT
BEGIN:STANDARD
TZOFFSETFROM:+0200
TZOFFSETTO:+0100
TZNAME:CET
DTSTART:20271031T010000
END:STANDARD
BEGIN:DAYLIGHT
TZOFFSETFROM:+0100
TZOFFSETTO:+0200
TZNAME:CEST
DTSTART:20280326T010000
END:DAYLIGHT
BEGIN:STANDARD
TZOFFSETFROM:+0200
TZOFFSETTO:+0100
TZNAME:CET
DTSTART:20281029T010000
END:STANDARD
END:VTIMEZONE
BEGIN:VEVENT
DTSTART;TZID=Europe/Berlin:20270401T193000
DTEND;TZID=Europe/Berlin:20270401T210000
DTSTAMP:20260419T170409
CREATED:20250130T203352Z
LAST-MODIFIED:20260220T175000Z
UID:10005637-1806607800-1806613200@swv-sindelfingen.de
SUMMARY:Fitness Workout
DESCRIPTION:
URL:https://swv-sindelfingen.de/event/fitness-workout-2/2027-04-01/
LOCATION:Realschule Klstergarten
END:VEVENT
BEGIN:VEVENT
DTSTART;TZID=Europe/Berlin:20270402T080000
DTEND;TZID=Europe/Berlin:20270402T170000
DTSTAMP:20260419T170409
CREATED:20250130T204210Z
LAST-MODIFIED:20250130T204210Z
UID:10006193-1806652800-1806685200@swv-sindelfingen.de
SUMMARY:Fit werden - fit bleiben
DESCRIPTION:
URL:https://swv-sindelfingen.de/event/fit-werden-fit-bleiben-2/2027-04-02/
END:VEVENT
BEGIN:VEVENT
DTSTART;TZID=Europe/Berlin:20270405T084500
DTEND;TZID=Europe/Berlin:20270405T101500
DTSTAMP:20260419T170409
CREATED:20250221T150206Z
LAST-MODIFIED:20250221T150206Z
UID:10006776-1806914700-1806920100@swv-sindelfingen.de
SUMMARY:Nordic Walking
DESCRIPTION:
URL:https://swv-sindelfingen.de/event/nordic-walking-3/2027-04-05/
LOCATION:SWV – Vereinsheim\, Arthur-Gruber-Strasse 65\, SIndelfingen\, Deutschland\, 71065
END:VEVENT
BEGIN:VEVENT
DTSTART;TZID=Europe/Berlin:20270406T193000
DTEND;TZID=Europe/Berlin:20270406T210000
DTSTAMP:20260419T170409
CREATED:20250130T201106Z
LAST-MODIFIED:20250130T201221Z
UID:10005082-1807039800-1807045200@swv-sindelfingen.de
SUMMARY:Powergymnastik
DESCRIPTION:
URL:https://swv-sindelfingen.de/event/powergymnastikk/2027-04-06/
END:VEVENT
BEGIN:VEVENT
DTSTART;TZID=Europe/Berlin:20270407T184500
DTEND;TZID=Europe/Berlin:20270407T184500
DTSTAMP:20260419T170409
CREATED:20250131T075402Z
LAST-MODIFIED:20250131T075402Z
UID:10006481-1807123500-1807123500@swv-sindelfingen.de
SUMMARY:Trainingsbetrieb
DESCRIPTION:Mittwochabends (im Winterhalbjahr ab 18:45 Uhr)\, im Badezentrum Sindelfingen (außer in den Schulferien\, dann z.T. Ersatztraining).\nInfos: Felix Loroff
URL:https://swv-sindelfingen.de/event/trainingsbetrieb/2027-04-07/
CATEGORIES:Kanusport
END:VEVENT
BEGIN:VEVENT
DTSTART;TZID=Europe/Berlin:20270407T190000
DTEND;TZID=Europe/Berlin:20270407T211500
DTSTAMP:20260419T170409
CREATED:20250130T202848Z
LAST-MODIFIED:20250130T202848Z
UID:10005357-1807124400-1807132500@swv-sindelfingen.de
SUMMARY:Fitness nur für Frauen
DESCRIPTION:
URL:https://swv-sindelfingen.de/event/fitness-nur-fuer-frauen-2/2027-04-07/
END:VEVENT
BEGIN:VEVENT
DTSTART;TZID=Europe/Berlin:20270408T193000
DTEND;TZID=Europe/Berlin:20270408T210000
DTSTAMP:20260419T170409
CREATED:20250130T203352Z
LAST-MODIFIED:20260220T175000Z
UID:10005638-1807212600-1807218000@swv-sindelfingen.de
SUMMARY:Fitness Workout
DESCRIPTION:
URL:https://swv-sindelfingen.de/event/fitness-workout-2/2027-04-08/
LOCATION:Realschule Klstergarten
END:VEVENT
BEGIN:VEVENT
DTSTART;TZID=Europe/Berlin:20270409T080000
DTEND;TZID=Europe/Berlin:20270409T170000
DTSTAMP:20260419T170409
CREATED:20250130T204210Z
LAST-MODIFIED:20250130T204210Z
UID:10006194-1807257600-1807290000@swv-sindelfingen.de
SUMMARY:Fit werden - fit bleiben
DESCRIPTION:
URL:https://swv-sindelfingen.de/event/fit-werden-fit-bleiben-2/2027-04-09/
END:VEVENT
BEGIN:VEVENT
DTSTART;TZID=Europe/Berlin:20270412T084500
DTEND;TZID=Europe/Berlin:20270412T101500
DTSTAMP:20260419T170409
CREATED:20250221T150206Z
LAST-MODIFIED:20250221T150206Z
UID:10006777-1807519500-1807524900@swv-sindelfingen.de
SUMMARY:Nordic Walking
DESCRIPTION:
URL:https://swv-sindelfingen.de/event/nordic-walking-3/2027-04-12/
LOCATION:SWV – Vereinsheim\, Arthur-Gruber-Strasse 65\, SIndelfingen\, Deutschland\, 71065
END:VEVENT
BEGIN:VEVENT
DTSTART;TZID=Europe/Berlin:20270413T193000
DTEND;TZID=Europe/Berlin:20270413T210000
DTSTAMP:20260419T170409
CREATED:20250130T201106Z
LAST-MODIFIED:20250130T201221Z
UID:10005083-1807644600-1807650000@swv-sindelfingen.de
SUMMARY:Powergymnastik
DESCRIPTION:
URL:https://swv-sindelfingen.de/event/powergymnastikk/2027-04-13/
END:VEVENT
BEGIN:VEVENT
DTSTART;TZID=Europe/Berlin:20270414T184500
DTEND;TZID=Europe/Berlin:20270414T184500
DTSTAMP:20260419T170409
CREATED:20250131T075402Z
LAST-MODIFIED:20250131T075402Z
UID:10006482-1807728300-1807728300@swv-sindelfingen.de
SUMMARY:Trainingsbetrieb
DESCRIPTION:Mittwochabends (im Winterhalbjahr ab 18:45 Uhr)\, im Badezentrum Sindelfingen (außer in den Schulferien\, dann z.T. Ersatztraining).\nInfos: Felix Loroff
URL:https://swv-sindelfingen.de/event/trainingsbetrieb/2027-04-14/
CATEGORIES:Kanusport
END:VEVENT
BEGIN:VEVENT
DTSTART;TZID=Europe/Berlin:20270414T190000
DTEND;TZID=Europe/Berlin:20270414T211500
DTSTAMP:20260419T170409
CREATED:20250130T202848Z
LAST-MODIFIED:20250130T202848Z
UID:10005358-1807729200-1807737300@swv-sindelfingen.de
SUMMARY:Fitness nur für Frauen
DESCRIPTION:
URL:https://swv-sindelfingen.de/event/fitness-nur-fuer-frauen-2/2027-04-14/
END:VEVENT
BEGIN:VEVENT
DTSTART;TZID=Europe/Berlin:20270415T193000
DTEND;TZID=Europe/Berlin:20270415T210000
DTSTAMP:20260419T170409
CREATED:20250130T203352Z
LAST-MODIFIED:20260220T175000Z
UID:10005639-1807817400-1807822800@swv-sindelfingen.de
SUMMARY:Fitness Workout
DESCRIPTION:
URL:https://swv-sindelfingen.de/event/fitness-workout-2/2027-04-15/
LOCATION:Realschule Klstergarten
END:VEVENT
BEGIN:VEVENT
DTSTART;TZID=Europe/Berlin:20270416T080000
DTEND;TZID=Europe/Berlin:20270416T170000
DTSTAMP:20260419T170409
CREATED:20250130T204210Z
LAST-MODIFIED:20250130T204210Z
UID:10006195-1807862400-1807894800@swv-sindelfingen.de
SUMMARY:Fit werden - fit bleiben
DESCRIPTION:
URL:https://swv-sindelfingen.de/event/fit-werden-fit-bleiben-2/2027-04-16/
END:VEVENT
BEGIN:VEVENT
DTSTART;TZID=Europe/Berlin:20270419T084500
DTEND;TZID=Europe/Berlin:20270419T101500
DTSTAMP:20260419T170409
CREATED:20250221T150206Z
LAST-MODIFIED:20250221T150206Z
UID:10006778-1808124300-1808129700@swv-sindelfingen.de
SUMMARY:Nordic Walking
DESCRIPTION:
URL:https://swv-sindelfingen.de/event/nordic-walking-3/2027-04-19/
LOCATION:SWV – Vereinsheim\, Arthur-Gruber-Strasse 65\, SIndelfingen\, Deutschland\, 71065
END:VEVENT
BEGIN:VEVENT
DTSTART;TZID=Europe/Berlin:20270420T193000
DTEND;TZID=Europe/Berlin:20270420T210000
DTSTAMP:20260419T170409
CREATED:20250130T201106Z
LAST-MODIFIED:20250130T201221Z
UID:10005084-1808249400-1808254800@swv-sindelfingen.de
SUMMARY:Powergymnastik
DESCRIPTION:
URL:https://swv-sindelfingen.de/event/powergymnastikk/2027-04-20/
END:VEVENT
BEGIN:VEVENT
DTSTART;TZID=Europe/Berlin:20270421T184500
DTEND;TZID=Europe/Berlin:20270421T184500
DTSTAMP:20260419T170409
CREATED:20250131T075402Z
LAST-MODIFIED:20250131T075402Z
UID:10006483-1808333100-1808333100@swv-sindelfingen.de
SUMMARY:Trainingsbetrieb
DESCRIPTION:Mittwochabends (im Winterhalbjahr ab 18:45 Uhr)\, im Badezentrum Sindelfingen (außer in den Schulferien\, dann z.T. Ersatztraining).\nInfos: Felix Loroff
URL:https://swv-sindelfingen.de/event/trainingsbetrieb/2027-04-21/
CATEGORIES:Kanusport
END:VEVENT
BEGIN:VEVENT
DTSTART;TZID=Europe/Berlin:20270421T190000
DTEND;TZID=Europe/Berlin:20270421T211500
DTSTAMP:20260419T170409
CREATED:20250130T202848Z
LAST-MODIFIED:20250130T202848Z
UID:10005359-1808334000-1808342100@swv-sindelfingen.de
SUMMARY:Fitness nur für Frauen
DESCRIPTION:
URL:https://swv-sindelfingen.de/event/fitness-nur-fuer-frauen-2/2027-04-21/
END:VEVENT
BEGIN:VEVENT
DTSTART;TZID=Europe/Berlin:20270422T193000
DTEND;TZID=Europe/Berlin:20270422T210000
DTSTAMP:20260419T170409
CREATED:20250130T203352Z
LAST-MODIFIED:20260220T175000Z
UID:10005640-1808422200-1808427600@swv-sindelfingen.de
SUMMARY:Fitness Workout
DESCRIPTION:
URL:https://swv-sindelfingen.de/event/fitness-workout-2/2027-04-22/
LOCATION:Realschule Klstergarten
END:VEVENT
BEGIN:VEVENT
DTSTART;TZID=Europe/Berlin:20270423T080000
DTEND;TZID=Europe/Berlin:20270423T170000
DTSTAMP:20260419T170409
CREATED:20250130T204210Z
LAST-MODIFIED:20250130T204210Z
UID:10006196-1808467200-1808499600@swv-sindelfingen.de
SUMMARY:Fit werden - fit bleiben
DESCRIPTION:
URL:https://swv-sindelfingen.de/event/fit-werden-fit-bleiben-2/2027-04-23/
END:VEVENT
BEGIN:VEVENT
DTSTART;TZID=Europe/Berlin:20270426T084500
DTEND;TZID=Europe/Berlin:20270426T101500
DTSTAMP:20260419T170409
CREATED:20250221T150206Z
LAST-MODIFIED:20250221T150206Z
UID:10006779-1808729100-1808734500@swv-sindelfingen.de
SUMMARY:Nordic Walking
DESCRIPTION:
URL:https://swv-sindelfingen.de/event/nordic-walking-3/2027-04-26/
LOCATION:SWV – Vereinsheim\, Arthur-Gruber-Strasse 65\, SIndelfingen\, Deutschland\, 71065
END:VEVENT
BEGIN:VEVENT
DTSTART;TZID=Europe/Berlin:20270427T193000
DTEND;TZID=Europe/Berlin:20270427T210000
DTSTAMP:20260419T170409
CREATED:20250130T201106Z
LAST-MODIFIED:20250130T201221Z
UID:10005085-1808854200-1808859600@swv-sindelfingen.de
SUMMARY:Powergymnastik
DESCRIPTION:
URL:https://swv-sindelfingen.de/event/powergymnastikk/2027-04-27/
END:VEVENT
BEGIN:VEVENT
DTSTART;TZID=Europe/Berlin:20270428T184500
DTEND;TZID=Europe/Berlin:20270428T184500
DTSTAMP:20260419T170409
CREATED:20250131T075402Z
LAST-MODIFIED:20250131T075402Z
UID:10006484-1808937900-1808937900@swv-sindelfingen.de
SUMMARY:Trainingsbetrieb
DESCRIPTION:Mittwochabends (im Winterhalbjahr ab 18:45 Uhr)\, im Badezentrum Sindelfingen (außer in den Schulferien\, dann z.T. Ersatztraining).\nInfos: Felix Loroff
URL:https://swv-sindelfingen.de/event/trainingsbetrieb/2027-04-28/
CATEGORIES:Kanusport
END:VEVENT
BEGIN:VEVENT
DTSTART;TZID=Europe/Berlin:20270428T190000
DTEND;TZID=Europe/Berlin:20270428T211500
DTSTAMP:20260419T170409
CREATED:20250130T202848Z
LAST-MODIFIED:20250130T202848Z
UID:10005360-1808938800-1808946900@swv-sindelfingen.de
SUMMARY:Fitness nur für Frauen
DESCRIPTION:
URL:https://swv-sindelfingen.de/event/fitness-nur-fuer-frauen-2/2027-04-28/
END:VEVENT
BEGIN:VEVENT
DTSTART;TZID=Europe/Berlin:20270429T193000
DTEND;TZID=Europe/Berlin:20270429T210000
DTSTAMP:20260419T170409
CREATED:20250130T203352Z
LAST-MODIFIED:20260220T175000Z
UID:10005641-1809027000-1809032400@swv-sindelfingen.de
SUMMARY:Fitness Workout
DESCRIPTION:
URL:https://swv-sindelfingen.de/event/fitness-workout-2/2027-04-29/
LOCATION:Realschule Klstergarten
END:VEVENT
BEGIN:VEVENT
DTSTART;TZID=Europe/Berlin:20270430T080000
DTEND;TZID=Europe/Berlin:20270430T170000
DTSTAMP:20260419T170409
CREATED:20250130T204210Z
LAST-MODIFIED:20250130T204210Z
UID:10006197-1809072000-1809104400@swv-sindelfingen.de
SUMMARY:Fit werden - fit bleiben
DESCRIPTION:
URL:https://swv-sindelfingen.de/event/fit-werden-fit-bleiben-2/2027-04-30/
END:VEVENT
END:VCALENDAR