BEGIN:VCALENDAR
VERSION:2.0
PRODID:-//Schwarzwaldverein Sindelfingen e. V. - ECPv6.15.20//NONSGML v1.0//EN
CALSCALE:GREGORIAN
METHOD:PUBLISH
X-WR-CALNAME:Schwarzwaldverein Sindelfingen e. V.
X-ORIGINAL-URL:https://swv-sindelfingen.de
X-WR-CALDESC:Veranstaltungen für Schwarzwaldverein Sindelfingen e. V.
REFRESH-INTERVAL;VALUE=DURATION:PT1H
X-Robots-Tag:noindex
X-PUBLISHED-TTL:PT1H
BEGIN:VTIMEZONE
TZID:Europe/Berlin
BEGIN:DAYLIGHT
TZOFFSETFROM:+0100
TZOFFSETTO:+0200
TZNAME:CEST
DTSTART:20260329T010000
END:DAYLIGHT
BEGIN:STANDARD
TZOFFSETFROM:+0200
TZOFFSETTO:+0100
TZNAME:CET
DTSTART:20261025T010000
END:STANDARD
BEGIN:DAYLIGHT
TZOFFSETFROM:+0100
TZOFFSETTO:+0200
TZNAME:CEST
DTSTART:20270328T010000
END:DAYLIGHT
BEGIN:STANDARD
TZOFFSETFROM:+0200
TZOFFSETTO:+0100
TZNAME:CET
DTSTART:20271031T010000
END:STANDARD
BEGIN:DAYLIGHT
TZOFFSETFROM:+0100
TZOFFSETTO:+0200
TZNAME:CEST
DTSTART:20280326T010000
END:DAYLIGHT
BEGIN:STANDARD
TZOFFSETFROM:+0200
TZOFFSETTO:+0100
TZNAME:CET
DTSTART:20281029T010000
END:STANDARD
END:VTIMEZONE
BEGIN:VEVENT
DTSTART;TZID=Europe/Berlin:20270301T084500
DTEND;TZID=Europe/Berlin:20270301T101500
DTSTAMP:20260419T154420
CREATED:20250221T150206Z
LAST-MODIFIED:20250221T150206Z
UID:10006771-1803890700-1803896100@swv-sindelfingen.de
SUMMARY:Nordic Walking
DESCRIPTION:
URL:https://swv-sindelfingen.de/event/nordic-walking-3/2027-03-01/
LOCATION:SWV – Vereinsheim\, Arthur-Gruber-Strasse 65\, SIndelfingen\, Deutschland\, 71065
END:VEVENT
BEGIN:VEVENT
DTSTART;TZID=Europe/Berlin:20270302T193000
DTEND;TZID=Europe/Berlin:20270302T210000
DTSTAMP:20260419T154420
CREATED:20250130T201106Z
LAST-MODIFIED:20250130T201221Z
UID:10005077-1804015800-1804021200@swv-sindelfingen.de
SUMMARY:Powergymnastik
DESCRIPTION:
URL:https://swv-sindelfingen.de/event/powergymnastikk/2027-03-02/
END:VEVENT
BEGIN:VEVENT
DTSTART;TZID=Europe/Berlin:20270303T184500
DTEND;TZID=Europe/Berlin:20270303T184500
DTSTAMP:20260419T154420
CREATED:20250131T075402Z
LAST-MODIFIED:20250131T075402Z
UID:10006476-1804099500-1804099500@swv-sindelfingen.de
SUMMARY:Trainingsbetrieb
DESCRIPTION:Mittwochabends (im Winterhalbjahr ab 18:45 Uhr)\, im Badezentrum Sindelfingen (außer in den Schulferien\, dann z.T. Ersatztraining).\nInfos: Felix Loroff
URL:https://swv-sindelfingen.de/event/trainingsbetrieb/2027-03-03/
CATEGORIES:Kanusport
END:VEVENT
BEGIN:VEVENT
DTSTART;TZID=Europe/Berlin:20270303T190000
DTEND;TZID=Europe/Berlin:20270303T211500
DTSTAMP:20260419T154420
CREATED:20250130T202848Z
LAST-MODIFIED:20250130T202848Z
UID:10005352-1804100400-1804108500@swv-sindelfingen.de
SUMMARY:Fitness nur für Frauen
DESCRIPTION:
URL:https://swv-sindelfingen.de/event/fitness-nur-fuer-frauen-2/2027-03-03/
END:VEVENT
BEGIN:VEVENT
DTSTART;TZID=Europe/Berlin:20270304T193000
DTEND;TZID=Europe/Berlin:20270304T210000
DTSTAMP:20260419T154420
CREATED:20250130T203352Z
LAST-MODIFIED:20260220T175000Z
UID:10005633-1804188600-1804194000@swv-sindelfingen.de
SUMMARY:Fitness Workout
DESCRIPTION:
URL:https://swv-sindelfingen.de/event/fitness-workout-2/2027-03-04/
LOCATION:Realschule Klstergarten
END:VEVENT
BEGIN:VEVENT
DTSTART;TZID=Europe/Berlin:20270305T080000
DTEND;TZID=Europe/Berlin:20270305T170000
DTSTAMP:20260419T154420
CREATED:20250130T204210Z
LAST-MODIFIED:20250130T204210Z
UID:10006189-1804233600-1804266000@swv-sindelfingen.de
SUMMARY:Fit werden - fit bleiben
DESCRIPTION:
URL:https://swv-sindelfingen.de/event/fit-werden-fit-bleiben-2/2027-03-05/
END:VEVENT
BEGIN:VEVENT
DTSTART;TZID=Europe/Berlin:20270308T084500
DTEND;TZID=Europe/Berlin:20270308T101500
DTSTAMP:20260419T154420
CREATED:20250221T150206Z
LAST-MODIFIED:20250221T150206Z
UID:10006772-1804495500-1804500900@swv-sindelfingen.de
SUMMARY:Nordic Walking
DESCRIPTION:
URL:https://swv-sindelfingen.de/event/nordic-walking-3/2027-03-08/
LOCATION:SWV – Vereinsheim\, Arthur-Gruber-Strasse 65\, SIndelfingen\, Deutschland\, 71065
END:VEVENT
BEGIN:VEVENT
DTSTART;TZID=Europe/Berlin:20270309T193000
DTEND;TZID=Europe/Berlin:20270309T210000
DTSTAMP:20260419T154420
CREATED:20250130T201106Z
LAST-MODIFIED:20250130T201221Z
UID:10005078-1804620600-1804626000@swv-sindelfingen.de
SUMMARY:Powergymnastik
DESCRIPTION:
URL:https://swv-sindelfingen.de/event/powergymnastikk/2027-03-09/
END:VEVENT
BEGIN:VEVENT
DTSTART;TZID=Europe/Berlin:20270310T184500
DTEND;TZID=Europe/Berlin:20270310T184500
DTSTAMP:20260419T154420
CREATED:20250131T075402Z
LAST-MODIFIED:20250131T075402Z
UID:10006477-1804704300-1804704300@swv-sindelfingen.de
SUMMARY:Trainingsbetrieb
DESCRIPTION:Mittwochabends (im Winterhalbjahr ab 18:45 Uhr)\, im Badezentrum Sindelfingen (außer in den Schulferien\, dann z.T. Ersatztraining).\nInfos: Felix Loroff
URL:https://swv-sindelfingen.de/event/trainingsbetrieb/2027-03-10/
CATEGORIES:Kanusport
END:VEVENT
BEGIN:VEVENT
DTSTART;TZID=Europe/Berlin:20270310T190000
DTEND;TZID=Europe/Berlin:20270310T211500
DTSTAMP:20260419T154420
CREATED:20250130T202848Z
LAST-MODIFIED:20250130T202848Z
UID:10005353-1804705200-1804713300@swv-sindelfingen.de
SUMMARY:Fitness nur für Frauen
DESCRIPTION:
URL:https://swv-sindelfingen.de/event/fitness-nur-fuer-frauen-2/2027-03-10/
END:VEVENT
BEGIN:VEVENT
DTSTART;TZID=Europe/Berlin:20270311T193000
DTEND;TZID=Europe/Berlin:20270311T210000
DTSTAMP:20260419T154420
CREATED:20250130T203352Z
LAST-MODIFIED:20260220T175000Z
UID:10005634-1804793400-1804798800@swv-sindelfingen.de
SUMMARY:Fitness Workout
DESCRIPTION:
URL:https://swv-sindelfingen.de/event/fitness-workout-2/2027-03-11/
LOCATION:Realschule Klstergarten
END:VEVENT
BEGIN:VEVENT
DTSTART;TZID=Europe/Berlin:20270312T080000
DTEND;TZID=Europe/Berlin:20270312T170000
DTSTAMP:20260419T154420
CREATED:20250130T204210Z
LAST-MODIFIED:20250130T204210Z
UID:10006190-1804838400-1804870800@swv-sindelfingen.de
SUMMARY:Fit werden - fit bleiben
DESCRIPTION:
URL:https://swv-sindelfingen.de/event/fit-werden-fit-bleiben-2/2027-03-12/
END:VEVENT
BEGIN:VEVENT
DTSTART;TZID=Europe/Berlin:20270315T084500
DTEND;TZID=Europe/Berlin:20270315T101500
DTSTAMP:20260419T154420
CREATED:20250221T150206Z
LAST-MODIFIED:20250221T150206Z
UID:10006773-1805100300-1805105700@swv-sindelfingen.de
SUMMARY:Nordic Walking
DESCRIPTION:
URL:https://swv-sindelfingen.de/event/nordic-walking-3/2027-03-15/
LOCATION:SWV – Vereinsheim\, Arthur-Gruber-Strasse 65\, SIndelfingen\, Deutschland\, 71065
END:VEVENT
BEGIN:VEVENT
DTSTART;TZID=Europe/Berlin:20270316T193000
DTEND;TZID=Europe/Berlin:20270316T210000
DTSTAMP:20260419T154420
CREATED:20250130T201106Z
LAST-MODIFIED:20250130T201221Z
UID:10005079-1805225400-1805230800@swv-sindelfingen.de
SUMMARY:Powergymnastik
DESCRIPTION:
URL:https://swv-sindelfingen.de/event/powergymnastikk/2027-03-16/
END:VEVENT
BEGIN:VEVENT
DTSTART;TZID=Europe/Berlin:20270317T184500
DTEND;TZID=Europe/Berlin:20270317T184500
DTSTAMP:20260419T154420
CREATED:20250131T075402Z
LAST-MODIFIED:20250131T075402Z
UID:10006478-1805309100-1805309100@swv-sindelfingen.de
SUMMARY:Trainingsbetrieb
DESCRIPTION:Mittwochabends (im Winterhalbjahr ab 18:45 Uhr)\, im Badezentrum Sindelfingen (außer in den Schulferien\, dann z.T. Ersatztraining).\nInfos: Felix Loroff
URL:https://swv-sindelfingen.de/event/trainingsbetrieb/2027-03-17/
CATEGORIES:Kanusport
END:VEVENT
BEGIN:VEVENT
DTSTART;TZID=Europe/Berlin:20270317T190000
DTEND;TZID=Europe/Berlin:20270317T211500
DTSTAMP:20260419T154420
CREATED:20250130T202848Z
LAST-MODIFIED:20250130T202848Z
UID:10005354-1805310000-1805318100@swv-sindelfingen.de
SUMMARY:Fitness nur für Frauen
DESCRIPTION:
URL:https://swv-sindelfingen.de/event/fitness-nur-fuer-frauen-2/2027-03-17/
END:VEVENT
BEGIN:VEVENT
DTSTART;TZID=Europe/Berlin:20270318T193000
DTEND;TZID=Europe/Berlin:20270318T210000
DTSTAMP:20260419T154420
CREATED:20250130T203352Z
LAST-MODIFIED:20260220T175000Z
UID:10005635-1805398200-1805403600@swv-sindelfingen.de
SUMMARY:Fitness Workout
DESCRIPTION:
URL:https://swv-sindelfingen.de/event/fitness-workout-2/2027-03-18/
LOCATION:Realschule Klstergarten
END:VEVENT
BEGIN:VEVENT
DTSTART;TZID=Europe/Berlin:20270319T080000
DTEND;TZID=Europe/Berlin:20270319T170000
DTSTAMP:20260419T154420
CREATED:20250130T204210Z
LAST-MODIFIED:20250130T204210Z
UID:10006191-1805443200-1805475600@swv-sindelfingen.de
SUMMARY:Fit werden - fit bleiben
DESCRIPTION:
URL:https://swv-sindelfingen.de/event/fit-werden-fit-bleiben-2/2027-03-19/
END:VEVENT
BEGIN:VEVENT
DTSTART;TZID=Europe/Berlin:20270322T084500
DTEND;TZID=Europe/Berlin:20270322T101500
DTSTAMP:20260419T154420
CREATED:20250221T150206Z
LAST-MODIFIED:20250221T150206Z
UID:10006774-1805705100-1805710500@swv-sindelfingen.de
SUMMARY:Nordic Walking
DESCRIPTION:
URL:https://swv-sindelfingen.de/event/nordic-walking-3/2027-03-22/
LOCATION:SWV – Vereinsheim\, Arthur-Gruber-Strasse 65\, SIndelfingen\, Deutschland\, 71065
END:VEVENT
BEGIN:VEVENT
DTSTART;TZID=Europe/Berlin:20270323T193000
DTEND;TZID=Europe/Berlin:20270323T210000
DTSTAMP:20260419T154420
CREATED:20250130T201106Z
LAST-MODIFIED:20250130T201221Z
UID:10005080-1805830200-1805835600@swv-sindelfingen.de
SUMMARY:Powergymnastik
DESCRIPTION:
URL:https://swv-sindelfingen.de/event/powergymnastikk/2027-03-23/
END:VEVENT
BEGIN:VEVENT
DTSTART;TZID=Europe/Berlin:20270324T184500
DTEND;TZID=Europe/Berlin:20270324T184500
DTSTAMP:20260419T154420
CREATED:20250131T075402Z
LAST-MODIFIED:20250131T075402Z
UID:10006479-1805913900-1805913900@swv-sindelfingen.de
SUMMARY:Trainingsbetrieb
DESCRIPTION:Mittwochabends (im Winterhalbjahr ab 18:45 Uhr)\, im Badezentrum Sindelfingen (außer in den Schulferien\, dann z.T. Ersatztraining).\nInfos: Felix Loroff
URL:https://swv-sindelfingen.de/event/trainingsbetrieb/2027-03-24/
CATEGORIES:Kanusport
END:VEVENT
BEGIN:VEVENT
DTSTART;TZID=Europe/Berlin:20270324T190000
DTEND;TZID=Europe/Berlin:20270324T211500
DTSTAMP:20260419T154420
CREATED:20250130T202848Z
LAST-MODIFIED:20250130T202848Z
UID:10005355-1805914800-1805922900@swv-sindelfingen.de
SUMMARY:Fitness nur für Frauen
DESCRIPTION:
URL:https://swv-sindelfingen.de/event/fitness-nur-fuer-frauen-2/2027-03-24/
END:VEVENT
BEGIN:VEVENT
DTSTART;TZID=Europe/Berlin:20270325T193000
DTEND;TZID=Europe/Berlin:20270325T210000
DTSTAMP:20260419T154420
CREATED:20250130T203352Z
LAST-MODIFIED:20260220T175000Z
UID:10005636-1806003000-1806008400@swv-sindelfingen.de
SUMMARY:Fitness Workout
DESCRIPTION:
URL:https://swv-sindelfingen.de/event/fitness-workout-2/2027-03-25/
LOCATION:Realschule Klstergarten
END:VEVENT
BEGIN:VEVENT
DTSTART;TZID=Europe/Berlin:20270326T080000
DTEND;TZID=Europe/Berlin:20270326T170000
DTSTAMP:20260419T154420
CREATED:20250130T204210Z
LAST-MODIFIED:20250130T204210Z
UID:10006192-1806048000-1806080400@swv-sindelfingen.de
SUMMARY:Fit werden - fit bleiben
DESCRIPTION:
URL:https://swv-sindelfingen.de/event/fit-werden-fit-bleiben-2/2027-03-26/
END:VEVENT
BEGIN:VEVENT
DTSTART;TZID=Europe/Berlin:20270329T084500
DTEND;TZID=Europe/Berlin:20270329T101500
DTSTAMP:20260419T154420
CREATED:20250221T150206Z
LAST-MODIFIED:20250221T150206Z
UID:10006775-1806309900-1806315300@swv-sindelfingen.de
SUMMARY:Nordic Walking
DESCRIPTION:
URL:https://swv-sindelfingen.de/event/nordic-walking-3/2027-03-29/
LOCATION:SWV – Vereinsheim\, Arthur-Gruber-Strasse 65\, SIndelfingen\, Deutschland\, 71065
END:VEVENT
BEGIN:VEVENT
DTSTART;TZID=Europe/Berlin:20270330T193000
DTEND;TZID=Europe/Berlin:20270330T210000
DTSTAMP:20260419T154420
CREATED:20250130T201106Z
LAST-MODIFIED:20250130T201221Z
UID:10005081-1806435000-1806440400@swv-sindelfingen.de
SUMMARY:Powergymnastik
DESCRIPTION:
URL:https://swv-sindelfingen.de/event/powergymnastikk/2027-03-30/
END:VEVENT
BEGIN:VEVENT
DTSTART;TZID=Europe/Berlin:20270331T184500
DTEND;TZID=Europe/Berlin:20270331T184500
DTSTAMP:20260419T154420
CREATED:20250131T075402Z
LAST-MODIFIED:20250131T075402Z
UID:10006480-1806518700-1806518700@swv-sindelfingen.de
SUMMARY:Trainingsbetrieb
DESCRIPTION:Mittwochabends (im Winterhalbjahr ab 18:45 Uhr)\, im Badezentrum Sindelfingen (außer in den Schulferien\, dann z.T. Ersatztraining).\nInfos: Felix Loroff
URL:https://swv-sindelfingen.de/event/trainingsbetrieb/2027-03-31/
CATEGORIES:Kanusport
END:VEVENT
BEGIN:VEVENT
DTSTART;TZID=Europe/Berlin:20270331T190000
DTEND;TZID=Europe/Berlin:20270331T211500
DTSTAMP:20260419T154420
CREATED:20250130T202848Z
LAST-MODIFIED:20250130T202848Z
UID:10005356-1806519600-1806527700@swv-sindelfingen.de
SUMMARY:Fitness nur für Frauen
DESCRIPTION:
URL:https://swv-sindelfingen.de/event/fitness-nur-fuer-frauen-2/2027-03-31/
END:VEVENT
END:VCALENDAR