BEGIN:VCALENDAR
VERSION:2.0
PRODID:-//Schwarzwaldverein Sindelfingen e. V. - ECPv6.15.20//NONSGML v1.0//EN
CALSCALE:GREGORIAN
METHOD:PUBLISH
X-WR-CALNAME:Schwarzwaldverein Sindelfingen e. V.
X-ORIGINAL-URL:https://swv-sindelfingen.de
X-WR-CALDESC:Veranstaltungen für Schwarzwaldverein Sindelfingen e. V.
REFRESH-INTERVAL;VALUE=DURATION:PT1H
X-Robots-Tag:noindex
X-PUBLISHED-TTL:PT1H
BEGIN:VTIMEZONE
TZID:Europe/Berlin
BEGIN:DAYLIGHT
TZOFFSETFROM:+0100
TZOFFSETTO:+0200
TZNAME:CEST
DTSTART:20260329T010000
END:DAYLIGHT
BEGIN:STANDARD
TZOFFSETFROM:+0200
TZOFFSETTO:+0100
TZNAME:CET
DTSTART:20261025T010000
END:STANDARD
BEGIN:DAYLIGHT
TZOFFSETFROM:+0100
TZOFFSETTO:+0200
TZNAME:CEST
DTSTART:20270328T010000
END:DAYLIGHT
BEGIN:STANDARD
TZOFFSETFROM:+0200
TZOFFSETTO:+0100
TZNAME:CET
DTSTART:20271031T010000
END:STANDARD
BEGIN:DAYLIGHT
TZOFFSETFROM:+0100
TZOFFSETTO:+0200
TZNAME:CEST
DTSTART:20280326T010000
END:DAYLIGHT
BEGIN:STANDARD
TZOFFSETFROM:+0200
TZOFFSETTO:+0100
TZNAME:CET
DTSTART:20281029T010000
END:STANDARD
END:VTIMEZONE
BEGIN:VEVENT
DTSTART;TZID=Europe/Berlin:20270201T084500
DTEND;TZID=Europe/Berlin:20270201T101500
DTSTAMP:20260420T000122
CREATED:20250221T150206Z
LAST-MODIFIED:20250221T150206Z
UID:10006767-1801471500-1801476900@swv-sindelfingen.de
SUMMARY:Nordic Walking
DESCRIPTION:
URL:https://swv-sindelfingen.de/event/nordic-walking-3/2027-02-01/
LOCATION:SWV – Vereinsheim\, Arthur-Gruber-Strasse 65\, SIndelfingen\, Deutschland\, 71065
END:VEVENT
BEGIN:VEVENT
DTSTART;TZID=Europe/Berlin:20270202T193000
DTEND;TZID=Europe/Berlin:20270202T210000
DTSTAMP:20260420T000122
CREATED:20250130T201106Z
LAST-MODIFIED:20250130T201221Z
UID:10005073-1801596600-1801602000@swv-sindelfingen.de
SUMMARY:Powergymnastik
DESCRIPTION:
URL:https://swv-sindelfingen.de/event/powergymnastikk/2027-02-02/
END:VEVENT
BEGIN:VEVENT
DTSTART;TZID=Europe/Berlin:20270203T184500
DTEND;TZID=Europe/Berlin:20270203T184500
DTSTAMP:20260420T000122
CREATED:20250131T075402Z
LAST-MODIFIED:20250131T075402Z
UID:10006472-1801680300-1801680300@swv-sindelfingen.de
SUMMARY:Trainingsbetrieb
DESCRIPTION:Mittwochabends (im Winterhalbjahr ab 18:45 Uhr)\, im Badezentrum Sindelfingen (außer in den Schulferien\, dann z.T. Ersatztraining).\nInfos: Felix Loroff
URL:https://swv-sindelfingen.de/event/trainingsbetrieb/2027-02-03/
CATEGORIES:Kanusport
END:VEVENT
BEGIN:VEVENT
DTSTART;TZID=Europe/Berlin:20270203T190000
DTEND;TZID=Europe/Berlin:20270203T211500
DTSTAMP:20260420T000122
CREATED:20250130T202848Z
LAST-MODIFIED:20250130T202848Z
UID:10005348-1801681200-1801689300@swv-sindelfingen.de
SUMMARY:Fitness nur für Frauen
DESCRIPTION:
URL:https://swv-sindelfingen.de/event/fitness-nur-fuer-frauen-2/2027-02-03/
END:VEVENT
BEGIN:VEVENT
DTSTART;TZID=Europe/Berlin:20270204T193000
DTEND;TZID=Europe/Berlin:20270204T210000
DTSTAMP:20260420T000122
CREATED:20250130T203352Z
LAST-MODIFIED:20260220T175000Z
UID:10005629-1801769400-1801774800@swv-sindelfingen.de
SUMMARY:Fitness Workout
DESCRIPTION:
URL:https://swv-sindelfingen.de/event/fitness-workout-2/2027-02-04/
LOCATION:Realschule Klstergarten
END:VEVENT
BEGIN:VEVENT
DTSTART;TZID=Europe/Berlin:20270205T080000
DTEND;TZID=Europe/Berlin:20270205T170000
DTSTAMP:20260420T000122
CREATED:20250130T204210Z
LAST-MODIFIED:20250130T204210Z
UID:10006185-1801814400-1801846800@swv-sindelfingen.de
SUMMARY:Fit werden - fit bleiben
DESCRIPTION:
URL:https://swv-sindelfingen.de/event/fit-werden-fit-bleiben-2/2027-02-05/
END:VEVENT
BEGIN:VEVENT
DTSTART;TZID=Europe/Berlin:20270208T084500
DTEND;TZID=Europe/Berlin:20270208T101500
DTSTAMP:20260420T000122
CREATED:20250221T150206Z
LAST-MODIFIED:20250221T150206Z
UID:10006768-1802076300-1802081700@swv-sindelfingen.de
SUMMARY:Nordic Walking
DESCRIPTION:
URL:https://swv-sindelfingen.de/event/nordic-walking-3/2027-02-08/
LOCATION:SWV – Vereinsheim\, Arthur-Gruber-Strasse 65\, SIndelfingen\, Deutschland\, 71065
END:VEVENT
BEGIN:VEVENT
DTSTART;TZID=Europe/Berlin:20270209T193000
DTEND;TZID=Europe/Berlin:20270209T210000
DTSTAMP:20260420T000122
CREATED:20250130T201106Z
LAST-MODIFIED:20250130T201221Z
UID:10005074-1802201400-1802206800@swv-sindelfingen.de
SUMMARY:Powergymnastik
DESCRIPTION:
URL:https://swv-sindelfingen.de/event/powergymnastikk/2027-02-09/
END:VEVENT
BEGIN:VEVENT
DTSTART;TZID=Europe/Berlin:20270210T184500
DTEND;TZID=Europe/Berlin:20270210T184500
DTSTAMP:20260420T000122
CREATED:20250131T075402Z
LAST-MODIFIED:20250131T075402Z
UID:10006473-1802285100-1802285100@swv-sindelfingen.de
SUMMARY:Trainingsbetrieb
DESCRIPTION:Mittwochabends (im Winterhalbjahr ab 18:45 Uhr)\, im Badezentrum Sindelfingen (außer in den Schulferien\, dann z.T. Ersatztraining).\nInfos: Felix Loroff
URL:https://swv-sindelfingen.de/event/trainingsbetrieb/2027-02-10/
CATEGORIES:Kanusport
END:VEVENT
BEGIN:VEVENT
DTSTART;TZID=Europe/Berlin:20270210T190000
DTEND;TZID=Europe/Berlin:20270210T211500
DTSTAMP:20260420T000122
CREATED:20250130T202848Z
LAST-MODIFIED:20250130T202848Z
UID:10005349-1802286000-1802294100@swv-sindelfingen.de
SUMMARY:Fitness nur für Frauen
DESCRIPTION:
URL:https://swv-sindelfingen.de/event/fitness-nur-fuer-frauen-2/2027-02-10/
END:VEVENT
BEGIN:VEVENT
DTSTART;TZID=Europe/Berlin:20270211T193000
DTEND;TZID=Europe/Berlin:20270211T210000
DTSTAMP:20260420T000122
CREATED:20250130T203352Z
LAST-MODIFIED:20260220T175000Z
UID:10005630-1802374200-1802379600@swv-sindelfingen.de
SUMMARY:Fitness Workout
DESCRIPTION:
URL:https://swv-sindelfingen.de/event/fitness-workout-2/2027-02-11/
LOCATION:Realschule Klstergarten
END:VEVENT
BEGIN:VEVENT
DTSTART;TZID=Europe/Berlin:20270212T080000
DTEND;TZID=Europe/Berlin:20270212T170000
DTSTAMP:20260420T000122
CREATED:20250130T204210Z
LAST-MODIFIED:20250130T204210Z
UID:10006186-1802419200-1802451600@swv-sindelfingen.de
SUMMARY:Fit werden - fit bleiben
DESCRIPTION:
URL:https://swv-sindelfingen.de/event/fit-werden-fit-bleiben-2/2027-02-12/
END:VEVENT
BEGIN:VEVENT
DTSTART;TZID=Europe/Berlin:20270215T084500
DTEND;TZID=Europe/Berlin:20270215T101500
DTSTAMP:20260420T000122
CREATED:20250221T150206Z
LAST-MODIFIED:20250221T150206Z
UID:10006769-1802681100-1802686500@swv-sindelfingen.de
SUMMARY:Nordic Walking
DESCRIPTION:
URL:https://swv-sindelfingen.de/event/nordic-walking-3/2027-02-15/
LOCATION:SWV – Vereinsheim\, Arthur-Gruber-Strasse 65\, SIndelfingen\, Deutschland\, 71065
END:VEVENT
BEGIN:VEVENT
DTSTART;TZID=Europe/Berlin:20270216T193000
DTEND;TZID=Europe/Berlin:20270216T210000
DTSTAMP:20260420T000122
CREATED:20250130T201106Z
LAST-MODIFIED:20250130T201221Z
UID:10005075-1802806200-1802811600@swv-sindelfingen.de
SUMMARY:Powergymnastik
DESCRIPTION:
URL:https://swv-sindelfingen.de/event/powergymnastikk/2027-02-16/
END:VEVENT
BEGIN:VEVENT
DTSTART;TZID=Europe/Berlin:20270217T184500
DTEND;TZID=Europe/Berlin:20270217T184500
DTSTAMP:20260420T000122
CREATED:20250131T075402Z
LAST-MODIFIED:20250131T075402Z
UID:10006474-1802889900-1802889900@swv-sindelfingen.de
SUMMARY:Trainingsbetrieb
DESCRIPTION:Mittwochabends (im Winterhalbjahr ab 18:45 Uhr)\, im Badezentrum Sindelfingen (außer in den Schulferien\, dann z.T. Ersatztraining).\nInfos: Felix Loroff
URL:https://swv-sindelfingen.de/event/trainingsbetrieb/2027-02-17/
CATEGORIES:Kanusport
END:VEVENT
BEGIN:VEVENT
DTSTART;TZID=Europe/Berlin:20270217T190000
DTEND;TZID=Europe/Berlin:20270217T211500
DTSTAMP:20260420T000122
CREATED:20250130T202848Z
LAST-MODIFIED:20250130T202848Z
UID:10005350-1802890800-1802898900@swv-sindelfingen.de
SUMMARY:Fitness nur für Frauen
DESCRIPTION:
URL:https://swv-sindelfingen.de/event/fitness-nur-fuer-frauen-2/2027-02-17/
END:VEVENT
BEGIN:VEVENT
DTSTART;TZID=Europe/Berlin:20270218T193000
DTEND;TZID=Europe/Berlin:20270218T210000
DTSTAMP:20260420T000122
CREATED:20250130T203352Z
LAST-MODIFIED:20260220T175000Z
UID:10005631-1802979000-1802984400@swv-sindelfingen.de
SUMMARY:Fitness Workout
DESCRIPTION:
URL:https://swv-sindelfingen.de/event/fitness-workout-2/2027-02-18/
LOCATION:Realschule Klstergarten
END:VEVENT
BEGIN:VEVENT
DTSTART;TZID=Europe/Berlin:20270219T080000
DTEND;TZID=Europe/Berlin:20270219T170000
DTSTAMP:20260420T000122
CREATED:20250130T204210Z
LAST-MODIFIED:20250130T204210Z
UID:10006187-1803024000-1803056400@swv-sindelfingen.de
SUMMARY:Fit werden - fit bleiben
DESCRIPTION:
URL:https://swv-sindelfingen.de/event/fit-werden-fit-bleiben-2/2027-02-19/
END:VEVENT
BEGIN:VEVENT
DTSTART;TZID=Europe/Berlin:20270222T084500
DTEND;TZID=Europe/Berlin:20270222T101500
DTSTAMP:20260420T000122
CREATED:20250221T150206Z
LAST-MODIFIED:20250221T150206Z
UID:10006770-1803285900-1803291300@swv-sindelfingen.de
SUMMARY:Nordic Walking
DESCRIPTION:
URL:https://swv-sindelfingen.de/event/nordic-walking-3/2027-02-22/
LOCATION:SWV – Vereinsheim\, Arthur-Gruber-Strasse 65\, SIndelfingen\, Deutschland\, 71065
END:VEVENT
BEGIN:VEVENT
DTSTART;TZID=Europe/Berlin:20270223T193000
DTEND;TZID=Europe/Berlin:20270223T210000
DTSTAMP:20260420T000122
CREATED:20250130T201106Z
LAST-MODIFIED:20250130T201221Z
UID:10005076-1803411000-1803416400@swv-sindelfingen.de
SUMMARY:Powergymnastik
DESCRIPTION:
URL:https://swv-sindelfingen.de/event/powergymnastikk/2027-02-23/
END:VEVENT
BEGIN:VEVENT
DTSTART;TZID=Europe/Berlin:20270224T184500
DTEND;TZID=Europe/Berlin:20270224T184500
DTSTAMP:20260420T000122
CREATED:20250131T075402Z
LAST-MODIFIED:20250131T075402Z
UID:10006475-1803494700-1803494700@swv-sindelfingen.de
SUMMARY:Trainingsbetrieb
DESCRIPTION:Mittwochabends (im Winterhalbjahr ab 18:45 Uhr)\, im Badezentrum Sindelfingen (außer in den Schulferien\, dann z.T. Ersatztraining).\nInfos: Felix Loroff
URL:https://swv-sindelfingen.de/event/trainingsbetrieb/2027-02-24/
CATEGORIES:Kanusport
END:VEVENT
BEGIN:VEVENT
DTSTART;TZID=Europe/Berlin:20270224T190000
DTEND;TZID=Europe/Berlin:20270224T211500
DTSTAMP:20260420T000122
CREATED:20250130T202848Z
LAST-MODIFIED:20250130T202848Z
UID:10005351-1803495600-1803503700@swv-sindelfingen.de
SUMMARY:Fitness nur für Frauen
DESCRIPTION:
URL:https://swv-sindelfingen.de/event/fitness-nur-fuer-frauen-2/2027-02-24/
END:VEVENT
BEGIN:VEVENT
DTSTART;TZID=Europe/Berlin:20270225T193000
DTEND;TZID=Europe/Berlin:20270225T210000
DTSTAMP:20260420T000122
CREATED:20250130T203352Z
LAST-MODIFIED:20260220T175000Z
UID:10005632-1803583800-1803589200@swv-sindelfingen.de
SUMMARY:Fitness Workout
DESCRIPTION:
URL:https://swv-sindelfingen.de/event/fitness-workout-2/2027-02-25/
LOCATION:Realschule Klstergarten
END:VEVENT
BEGIN:VEVENT
DTSTART;TZID=Europe/Berlin:20270226T080000
DTEND;TZID=Europe/Berlin:20270226T170000
DTSTAMP:20260420T000122
CREATED:20250130T204210Z
LAST-MODIFIED:20250130T204210Z
UID:10006188-1803628800-1803661200@swv-sindelfingen.de
SUMMARY:Fit werden - fit bleiben
DESCRIPTION:
URL:https://swv-sindelfingen.de/event/fit-werden-fit-bleiben-2/2027-02-26/
END:VEVENT
END:VCALENDAR