BEGIN:VCALENDAR
VERSION:2.0
PRODID:-//Schwarzwaldverein Sindelfingen e. V. - ECPv6.15.20//NONSGML v1.0//EN
CALSCALE:GREGORIAN
METHOD:PUBLISH
X-ORIGINAL-URL:https://swv-sindelfingen.de
X-WR-CALDESC:Veranstaltungen für Schwarzwaldverein Sindelfingen e. V.
REFRESH-INTERVAL;VALUE=DURATION:PT1H
X-Robots-Tag:noindex
X-PUBLISHED-TTL:PT1H
BEGIN:VTIMEZONE
TZID:Europe/Berlin
BEGIN:DAYLIGHT
TZOFFSETFROM:+0100
TZOFFSETTO:+0200
TZNAME:CEST
DTSTART:20240331T010000
END:DAYLIGHT
BEGIN:STANDARD
TZOFFSETFROM:+0200
TZOFFSETTO:+0100
TZNAME:CET
DTSTART:20241027T010000
END:STANDARD
BEGIN:DAYLIGHT
TZOFFSETFROM:+0100
TZOFFSETTO:+0200
TZNAME:CEST
DTSTART:20250330T010000
END:DAYLIGHT
BEGIN:STANDARD
TZOFFSETFROM:+0200
TZOFFSETTO:+0100
TZNAME:CET
DTSTART:20251026T010000
END:STANDARD
BEGIN:DAYLIGHT
TZOFFSETFROM:+0100
TZOFFSETTO:+0200
TZNAME:CEST
DTSTART:20260329T010000
END:DAYLIGHT
BEGIN:STANDARD
TZOFFSETFROM:+0200
TZOFFSETTO:+0100
TZNAME:CET
DTSTART:20261025T010000
END:STANDARD
END:VTIMEZONE
BEGIN:VEVENT
DTSTART;TZID=Europe/Berlin:20250701T193000
DTEND;TZID=Europe/Berlin:20250701T210000
DTSTAMP:20260422T133320
CREATED:20250130T201106Z
LAST-MODIFIED:20250130T201221Z
UID:10004990-1751398200-1751403600@swv-sindelfingen.de
SUMMARY:Powergymnastik
DESCRIPTION:
URL:https://swv-sindelfingen.de/event/powergymnastikk/2025-07-01/
END:VEVENT
BEGIN:VEVENT
DTSTART;VALUE=DATE:20250702
DTEND;VALUE=DATE:20250704
DTSTAMP:20260422T133320
CREATED:20250131T080604Z
LAST-MODIFIED:20250131T080618Z
UID:10006639-1751443200-1751529599@swv-sindelfingen.de
SUMMARY:Schwäbischer Nachmittag mit Kaffee\, Hefe und Nusszopf
DESCRIPTION:Die Teilnehmer der Wandergruppe sitzen\, nach einem schönen Spaziergang durch den Sindelfinger Wald\, auf der Terrasse unseres Vereinsheims bei Kaffee\, Hefe- und Nusszopf zusammen und freuen sich auf gute Gespräche und einen schönen gemeinsamen Nachmittag. \n  \nGehzeit: ca. 1-1 ½ Std. \nTreffpunkt: 14.00 Uhr am SWV-Vereinsheim \nOrganisation: Rolf Boger und Klaus Schlereth
URL:https://swv-sindelfingen.de/event/schwaebischer-nachmittag-mit-kaffee-hefe-und-nusszopf/
CATEGORIES:Wandergruppe
END:VEVENT
BEGIN:VEVENT
DTSTART;TZID=Europe/Berlin:20250702T184500
DTEND;TZID=Europe/Berlin:20250702T184500
DTSTAMP:20260422T133320
CREATED:20250131T075402Z
LAST-MODIFIED:20250131T075402Z
UID:10006389-1751481900-1751481900@swv-sindelfingen.de
SUMMARY:Trainingsbetrieb
DESCRIPTION:Mittwochabends (im Winterhalbjahr ab 18:45 Uhr)\, im Badezentrum Sindelfingen (außer in den Schulferien\, dann z.T. Ersatztraining).\nInfos: Felix Loroff
URL:https://swv-sindelfingen.de/event/trainingsbetrieb/2025-07-02/
CATEGORIES:Kanusport
END:VEVENT
BEGIN:VEVENT
DTSTART;TZID=Europe/Berlin:20250702T190000
DTEND;TZID=Europe/Berlin:20250702T211500
DTSTAMP:20260422T133320
CREATED:20250130T202848Z
LAST-MODIFIED:20250130T202848Z
UID:10005265-1751482800-1751490900@swv-sindelfingen.de
SUMMARY:Fitness nur für Frauen
DESCRIPTION:
URL:https://swv-sindelfingen.de/event/fitness-nur-fuer-frauen-2/2025-07-02/
END:VEVENT
BEGIN:VEVENT
DTSTART;TZID=Europe/Berlin:20250703T193000
DTEND;TZID=Europe/Berlin:20250703T210000
DTSTAMP:20260422T133320
CREATED:20250130T203352Z
LAST-MODIFIED:20260220T175000Z
UID:10005546-1751571000-1751576400@swv-sindelfingen.de
SUMMARY:Fitness Workout
DESCRIPTION:
URL:https://swv-sindelfingen.de/event/fitness-workout-2/2025-07-03/
LOCATION:Realschule Klstergarten
END:VEVENT
BEGIN:VEVENT
DTSTART;TZID=Europe/Berlin:20250704T080000
DTEND;TZID=Europe/Berlin:20250704T170000
DTSTAMP:20260422T133320
CREATED:20250130T204210Z
LAST-MODIFIED:20250130T204210Z
UID:10006102-1751616000-1751648400@swv-sindelfingen.de
SUMMARY:Fit werden - fit bleiben
DESCRIPTION:
URL:https://swv-sindelfingen.de/event/fit-werden-fit-bleiben-2/2025-07-04/
END:VEVENT
BEGIN:VEVENT
DTSTART;VALUE=DATE:20250705
DTEND;VALUE=DATE:20250708
DTSTAMP:20260422T133320
CREATED:20250131T074421Z
LAST-MODIFIED:20250131T074421Z
UID:10006358-1751702400-1751875199@swv-sindelfingen.de
SUMMARY:KVBW Kanu Fun und Action
DESCRIPTION:Ein Wochenende für die Paddeljugend rund um Spiel\, Spaß und Sicherheit am und im Wildwasser\, am WW-Kanal in Hüningen (Huningue).\nInfos und Anmeldung: Über die Internetseite des KVBW\nwww.kanu-bw.de
URL:https://swv-sindelfingen.de/event/kvbw-kanu-fun-und-action/
CATEGORIES:Kanusport
END:VEVENT
BEGIN:VEVENT
DTSTART;TZID=Europe/Berlin:20250707T084500
DTEND;TZID=Europe/Berlin:20250707T101500
DTSTAMP:20260422T133320
CREATED:20250221T150206Z
LAST-MODIFIED:20250221T150206Z
UID:10006685-1751877900-1751883300@swv-sindelfingen.de
SUMMARY:Nordic Walking
DESCRIPTION:
URL:https://swv-sindelfingen.de/event/nordic-walking-3/2025-07-07/
LOCATION:SWV – Vereinsheim\, Arthur-Gruber-Strasse 65\, SIndelfingen\, Deutschland\, 71065
END:VEVENT
BEGIN:VEVENT
DTSTART;TZID=Europe/Berlin:20250708T193000
DTEND;TZID=Europe/Berlin:20250708T210000
DTSTAMP:20260422T133320
CREATED:20250130T201106Z
LAST-MODIFIED:20250130T201221Z
UID:10004991-1752003000-1752008400@swv-sindelfingen.de
SUMMARY:Powergymnastik
DESCRIPTION:
URL:https://swv-sindelfingen.de/event/powergymnastikk/2025-07-08/
END:VEVENT
BEGIN:VEVENT
DTSTART;TZID=Europe/Berlin:20250709T184500
DTEND;TZID=Europe/Berlin:20250709T184500
DTSTAMP:20260422T133320
CREATED:20250131T075402Z
LAST-MODIFIED:20250131T075402Z
UID:10006390-1752086700-1752086700@swv-sindelfingen.de
SUMMARY:Trainingsbetrieb
DESCRIPTION:Mittwochabends (im Winterhalbjahr ab 18:45 Uhr)\, im Badezentrum Sindelfingen (außer in den Schulferien\, dann z.T. Ersatztraining).\nInfos: Felix Loroff
URL:https://swv-sindelfingen.de/event/trainingsbetrieb/2025-07-09/
CATEGORIES:Kanusport
END:VEVENT
BEGIN:VEVENT
DTSTART;TZID=Europe/Berlin:20250709T190000
DTEND;TZID=Europe/Berlin:20250709T211500
DTSTAMP:20260422T133320
CREATED:20250130T202848Z
LAST-MODIFIED:20250130T202848Z
UID:10005266-1752087600-1752095700@swv-sindelfingen.de
SUMMARY:Fitness nur für Frauen
DESCRIPTION:
URL:https://swv-sindelfingen.de/event/fitness-nur-fuer-frauen-2/2025-07-09/
END:VEVENT
BEGIN:VEVENT
DTSTART;TZID=Europe/Berlin:20250710T193000
DTEND;TZID=Europe/Berlin:20250710T210000
DTSTAMP:20260422T133320
CREATED:20250130T203352Z
LAST-MODIFIED:20260220T175000Z
UID:10005547-1752175800-1752181200@swv-sindelfingen.de
SUMMARY:Fitness Workout
DESCRIPTION:
URL:https://swv-sindelfingen.de/event/fitness-workout-2/2025-07-10/
LOCATION:Realschule Klstergarten
END:VEVENT
BEGIN:VEVENT
DTSTART;TZID=Europe/Berlin:20250711T080000
DTEND;TZID=Europe/Berlin:20250711T170000
DTSTAMP:20260422T133320
CREATED:20250130T204210Z
LAST-MODIFIED:20250130T204210Z
UID:10006103-1752220800-1752253200@swv-sindelfingen.de
SUMMARY:Fit werden - fit bleiben
DESCRIPTION:
URL:https://swv-sindelfingen.de/event/fit-werden-fit-bleiben-2/2025-07-11/
END:VEVENT
BEGIN:VEVENT
DTSTART;VALUE=DATE:20250712
DTEND;VALUE=DATE:20250715
DTSTAMP:20260422T133320
CREATED:20250131T074508Z
LAST-MODIFIED:20250131T074508Z
UID:10006359-1752307200-1752479999@swv-sindelfingen.de
SUMMARY:Paddeln auf dem Altrhein
DESCRIPTION:Wanderpaddeln auf verschiedenen Abschnitten des Alten Rheins und seiner Zuflüsse\nAnmeldeschluss: 25.06.2025
URL:https://swv-sindelfingen.de/event/paddeln-auf-dem-altrhein/
CATEGORIES:Kanusport
END:VEVENT
BEGIN:VEVENT
DTSTART;TZID=Europe/Berlin:20250714T084500
DTEND;TZID=Europe/Berlin:20250714T101500
DTSTAMP:20260422T133320
CREATED:20250221T150206Z
LAST-MODIFIED:20250221T150206Z
UID:10006686-1752482700-1752488100@swv-sindelfingen.de
SUMMARY:Nordic Walking
DESCRIPTION:
URL:https://swv-sindelfingen.de/event/nordic-walking-3/2025-07-14/
LOCATION:SWV – Vereinsheim\, Arthur-Gruber-Strasse 65\, SIndelfingen\, Deutschland\, 71065
END:VEVENT
BEGIN:VEVENT
DTSTART;TZID=Europe/Berlin:20250715T193000
DTEND;TZID=Europe/Berlin:20250715T210000
DTSTAMP:20260422T133320
CREATED:20250130T201106Z
LAST-MODIFIED:20250130T201221Z
UID:10004992-1752607800-1752613200@swv-sindelfingen.de
SUMMARY:Powergymnastik
DESCRIPTION:
URL:https://swv-sindelfingen.de/event/powergymnastikk/2025-07-15/
END:VEVENT
BEGIN:VEVENT
DTSTART;TZID=Europe/Berlin:20250716T184500
DTEND;TZID=Europe/Berlin:20250716T184500
DTSTAMP:20260422T133320
CREATED:20250131T075402Z
LAST-MODIFIED:20250131T075402Z
UID:10006391-1752691500-1752691500@swv-sindelfingen.de
SUMMARY:Trainingsbetrieb
DESCRIPTION:Mittwochabends (im Winterhalbjahr ab 18:45 Uhr)\, im Badezentrum Sindelfingen (außer in den Schulferien\, dann z.T. Ersatztraining).\nInfos: Felix Loroff
URL:https://swv-sindelfingen.de/event/trainingsbetrieb/2025-07-16/
CATEGORIES:Kanusport
END:VEVENT
BEGIN:VEVENT
DTSTART;TZID=Europe/Berlin:20250716T190000
DTEND;TZID=Europe/Berlin:20250716T211500
DTSTAMP:20260422T133320
CREATED:20250130T202848Z
LAST-MODIFIED:20250130T202848Z
UID:10005267-1752692400-1752700500@swv-sindelfingen.de
SUMMARY:Fitness nur für Frauen
DESCRIPTION:
URL:https://swv-sindelfingen.de/event/fitness-nur-fuer-frauen-2/2025-07-16/
END:VEVENT
BEGIN:VEVENT
DTSTART;TZID=Europe/Berlin:20250717T193000
DTEND;TZID=Europe/Berlin:20250717T210000
DTSTAMP:20260422T133320
CREATED:20250130T203352Z
LAST-MODIFIED:20260220T175000Z
UID:10005548-1752780600-1752786000@swv-sindelfingen.de
SUMMARY:Fitness Workout
DESCRIPTION:
URL:https://swv-sindelfingen.de/event/fitness-workout-2/2025-07-17/
LOCATION:Realschule Klstergarten
END:VEVENT
BEGIN:VEVENT
DTSTART;TZID=Europe/Berlin:20250718T080000
DTEND;TZID=Europe/Berlin:20250718T170000
DTSTAMP:20260422T133320
CREATED:20250130T204210Z
LAST-MODIFIED:20250130T204210Z
UID:10006104-1752825600-1752858000@swv-sindelfingen.de
SUMMARY:Fit werden - fit bleiben
DESCRIPTION:
URL:https://swv-sindelfingen.de/event/fit-werden-fit-bleiben-2/2025-07-18/
END:VEVENT
BEGIN:VEVENT
DTSTART;VALUE=DATE:20250719
DTEND;VALUE=DATE:20250721
DTSTAMP:20260422T133320
CREATED:20250131T080659Z
LAST-MODIFIED:20250612T150343Z
UID:10006640-1752912000-1752998399@swv-sindelfingen.de
SUMMARY:Zum Dachskopf über die Energiedrehscheibe und die Biotope auf der ehemaligen Deponie
DESCRIPTION:Der Dachskopf ist mit 553 Metern der höchste Punkt weit und breit. Von der neuen Aussichtsplatte reicht bei klarer Sicht der Ausblick weit über das Gäu und hinüber zum Schwarzwald und zur Schwäbischen Alb. Unser früherer Wegewart\, Gerhard Maus\, erstellte das Design für die bronzene Tafel\, mit der man die fernen Ziele anpeilen kann. \nAuf der Dachsklinge wurden ab 1959 Abfälle aus Haushalten und Gewerbe unsortiert abgekippt. Nachdem Siedlungsabfälle zur Verbrennung gebracht werden mussten\, wurde die Deponie 1997 geschlossen und versiegelt. Bei unserer Exkursion werden wir über die heutige Abfallbeseitigung und die Wertstoffbehandlung in unserem Landkreis sprechen. Auf dem Gelände befindet sich auch ein Häckselplatz und eine Anlage zum Sortieren von Wertstoffen. Hier ist auch der Standort für eine integrierte Energieversorgung\, und wir finden hier wertvolle Biotope für Flora und Fauna. \nTreffpunkt: 14.30 Uhr am Parkplatz beim Haus Sommerhof. Dort ist am Ende eine Einkehr geplant. Eine Anmeldung ist bis 11. Juli erforderlich. Der Fußweg vom Parkplatz zum Dachskopf ist gut begehbar\, aber festes Schuhwerk\, wettergerechte Kleidung und Wanderstöcke werden empfohlen. \nBei schlechtem Wetter findet die Exkursion nicht statt. Bitte beachten Sie den Aushang an unserer Geschäftsstelle. Sie können ab dem 15. Juli auch den Anfbeantworter abfragen. Telefonnummer 07031- 878889. \n  \nOrganisation: Dr. Alfred Hinderer. Kontakt am Veranstaltungstag unter Tel. 0175 702 7983.
URL:https://swv-sindelfingen.de/event/der-erneuerte-stadtgeschichtliche-weg-sindelfingen/
CATEGORIES:Wandergruppe
END:VEVENT
BEGIN:VEVENT
DTSTART;VALUE=DATE:20250719
DTEND;VALUE=DATE:20250722
DTSTAMP:20260422T133320
CREATED:20250131T081947Z
LAST-MODIFIED:20250131T081947Z
UID:10006655-1752912000-1753084799@swv-sindelfingen.de
SUMMARY:Genussfahrt vom Main zum Kocher
DESCRIPTION:Zwei erlebnisreiche Rad-Tage erwarten uns\, wenn wir früh morgens vom Parkplatz am Sindelfinger Glaspalast aus mit Bus und Radanhänger losfahren werden. Tour-Start ist bei Miltenberg am Main. Zuvor werden wir aber nach dem Entladen der Räder für Euch erst mal eine kleine Stärkung mit heißem Kaffee und Brezeln bereithalten\, damit für die Herausforderungen des ersten Rad-Tages die notwendigen Körner auch zur Verfügung stehen. \nDem Main entlang ist Wertheim mit seiner beeindruckenden Steinburgruine auf der Anhöhe einer Landzunge gelegen\, wo die Tauber in den Main mündet unser erstes Ziel. Ab jetzt folgen wir der Tauber und erreichen die für seine historische Altstadt bekannte Stadt Tauberbischofsheim. Nun ist es nicht mehr weit bis zu unserem herrlich gelegenen Übernachtungshotel der Weinherberge REBgut in Lauda-Königshofen. Dort können wir den Tag in geselliger Runde und bei leckerem Abendessen ausklingen lassen. \n  \nNach dem Frühstück am Sonntagmorgen führt uns die Tour in südlicher Richtung weiter bis Bad Mergentheim. Dort verlassen wir die Tauber und radeln durch sehenswerte Landschaft bis die Route bei Klepsau auf die Jagst trifft. Dem Kocher-Jagst-Radweg folgend geht es nun in Richtung Westen weiter bis nach Bieringen\, wo ein Anstieg uns vom Jagst- zum Kochertal bevorsteht. Jetzt liegt noch eine Flachetappe von ca. 30 km dem Kocher entlang vor uns\, um unser Tour-Ziel in Bad Friedrichshall zu erreichen. \nDort werden wir uns in einem Biergarten für die zurückgelegten Radkilometer kräftig abklatschen\, mit einem kühlen Bier belohnen und die gesammelten Eindrücke der Ausfahrt nochmals Revue passieren lassen. Nachdem die Räder im Anhänger verstaut und gesichert sind\, fährt uns der Bus zurück zum Parkplatz am Glaspalast nach Sindelfingen. \nTourenlänge:                  Tag 1          ca. 70 km / 400 hm \nTag 2          ca. 80 km / 600 hm \nSchwierigkeitsgrad:      Einfach bis mittel \nTourenführer:                       Gerd Kanzler / Ludwig König
URL:https://swv-sindelfingen.de/event/genussfahrt-vom-main-zum-kocher/
CATEGORIES:Radfahren
END:VEVENT
BEGIN:VEVENT
DTSTART;TZID=Europe/Berlin:20250721T084500
DTEND;TZID=Europe/Berlin:20250721T101500
DTSTAMP:20260422T133320
CREATED:20250221T150206Z
LAST-MODIFIED:20250221T150206Z
UID:10006687-1753087500-1753092900@swv-sindelfingen.de
SUMMARY:Nordic Walking
DESCRIPTION:
URL:https://swv-sindelfingen.de/event/nordic-walking-3/2025-07-21/
LOCATION:SWV – Vereinsheim\, Arthur-Gruber-Strasse 65\, SIndelfingen\, Deutschland\, 71065
END:VEVENT
BEGIN:VEVENT
DTSTART;TZID=Europe/Berlin:20250722T193000
DTEND;TZID=Europe/Berlin:20250722T210000
DTSTAMP:20260422T133320
CREATED:20250130T201106Z
LAST-MODIFIED:20250130T201221Z
UID:10004993-1753212600-1753218000@swv-sindelfingen.de
SUMMARY:Powergymnastik
DESCRIPTION:
URL:https://swv-sindelfingen.de/event/powergymnastikk/2025-07-22/
END:VEVENT
BEGIN:VEVENT
DTSTART;TZID=Europe/Berlin:20250723T184500
DTEND;TZID=Europe/Berlin:20250723T184500
DTSTAMP:20260422T133320
CREATED:20250131T075402Z
LAST-MODIFIED:20250131T075402Z
UID:10006392-1753296300-1753296300@swv-sindelfingen.de
SUMMARY:Trainingsbetrieb
DESCRIPTION:Mittwochabends (im Winterhalbjahr ab 18:45 Uhr)\, im Badezentrum Sindelfingen (außer in den Schulferien\, dann z.T. Ersatztraining).\nInfos: Felix Loroff
URL:https://swv-sindelfingen.de/event/trainingsbetrieb/2025-07-23/
CATEGORIES:Kanusport
END:VEVENT
BEGIN:VEVENT
DTSTART;TZID=Europe/Berlin:20250723T190000
DTEND;TZID=Europe/Berlin:20250723T211500
DTSTAMP:20260422T133320
CREATED:20250130T202848Z
LAST-MODIFIED:20250130T202848Z
UID:10005268-1753297200-1753305300@swv-sindelfingen.de
SUMMARY:Fitness nur für Frauen
DESCRIPTION:
URL:https://swv-sindelfingen.de/event/fitness-nur-fuer-frauen-2/2025-07-23/
END:VEVENT
BEGIN:VEVENT
DTSTART;TZID=Europe/Berlin:20250724T193000
DTEND;TZID=Europe/Berlin:20250724T210000
DTSTAMP:20260422T133320
CREATED:20250130T203352Z
LAST-MODIFIED:20260220T175000Z
UID:10005549-1753385400-1753390800@swv-sindelfingen.de
SUMMARY:Fitness Workout
DESCRIPTION:
URL:https://swv-sindelfingen.de/event/fitness-workout-2/2025-07-24/
LOCATION:Realschule Klstergarten
END:VEVENT
BEGIN:VEVENT
DTSTART;TZID=Europe/Berlin:20250725T080000
DTEND;TZID=Europe/Berlin:20250725T170000
DTSTAMP:20260422T133320
CREATED:20250130T204210Z
LAST-MODIFIED:20250130T204210Z
UID:10006105-1753430400-1753462800@swv-sindelfingen.de
SUMMARY:Fit werden - fit bleiben
DESCRIPTION:
URL:https://swv-sindelfingen.de/event/fit-werden-fit-bleiben-2/2025-07-25/
END:VEVENT
BEGIN:VEVENT
DTSTART;VALUE=DATE:20250726
DTEND;VALUE=DATE:20250729
DTSTAMP:20260422T133320
CREATED:20250131T074603Z
LAST-MODIFIED:20250131T074603Z
UID:10006360-1753516800-1753689599@swv-sindelfingen.de
SUMMARY:Lechtal
DESCRIPTION:Der Wildwasser-Klassiker im deutsch-österreichischen Grenzgebiet. WW II bis III\nAnmeldeschluss: 30.04.2025
URL:https://swv-sindelfingen.de/event/lechtal/
CATEGORIES:Kanusport
END:VEVENT
BEGIN:VEVENT
DTSTART;TZID=Europe/Berlin:20250728T084500
DTEND;TZID=Europe/Berlin:20250728T101500
DTSTAMP:20260422T133320
CREATED:20250221T150206Z
LAST-MODIFIED:20250221T150206Z
UID:10006688-1753692300-1753697700@swv-sindelfingen.de
SUMMARY:Nordic Walking
DESCRIPTION:
URL:https://swv-sindelfingen.de/event/nordic-walking-3/2025-07-28/
LOCATION:SWV – Vereinsheim\, Arthur-Gruber-Strasse 65\, SIndelfingen\, Deutschland\, 71065
END:VEVENT
END:VCALENDAR