BEGIN:VCALENDAR
VERSION:2.0
PRODID:-//Schwarzwaldverein Sindelfingen e. V. - ECPv6.15.20//NONSGML v1.0//EN
CALSCALE:GREGORIAN
METHOD:PUBLISH
X-ORIGINAL-URL:https://swv-sindelfingen.de
X-WR-CALDESC:Veranstaltungen für Schwarzwaldverein Sindelfingen e. V.
REFRESH-INTERVAL;VALUE=DURATION:PT1H
X-Robots-Tag:noindex
X-PUBLISHED-TTL:PT1H
BEGIN:VTIMEZONE
TZID:Europe/Berlin
BEGIN:DAYLIGHT
TZOFFSETFROM:+0100
TZOFFSETTO:+0200
TZNAME:CEST
DTSTART:20240331T010000
END:DAYLIGHT
BEGIN:STANDARD
TZOFFSETFROM:+0200
TZOFFSETTO:+0100
TZNAME:CET
DTSTART:20241027T010000
END:STANDARD
BEGIN:DAYLIGHT
TZOFFSETFROM:+0100
TZOFFSETTO:+0200
TZNAME:CEST
DTSTART:20250330T010000
END:DAYLIGHT
BEGIN:STANDARD
TZOFFSETFROM:+0200
TZOFFSETTO:+0100
TZNAME:CET
DTSTART:20251026T010000
END:STANDARD
BEGIN:DAYLIGHT
TZOFFSETFROM:+0100
TZOFFSETTO:+0200
TZNAME:CEST
DTSTART:20260329T010000
END:DAYLIGHT
BEGIN:STANDARD
TZOFFSETFROM:+0200
TZOFFSETTO:+0100
TZNAME:CET
DTSTART:20261025T010000
END:STANDARD
END:VTIMEZONE
BEGIN:VEVENT
DTSTART;VALUE=DATE:20250529
DTEND;VALUE=DATE:20250603
DTSTAMP:20260422T133331
CREATED:20250131T073953Z
LAST-MODIFIED:20250131T073953Z
UID:10006354-1748505600-1748851199@swv-sindelfingen.de
SUMMARY:Vorderrhein-Ausfahrt
DESCRIPTION:Wildwasserpaddeln auf dem Vorderrhein und umliegenden Bächen\, je nach Gruppenstärke. WW II bis IV\nAnmeldeschluss: 02.03.2025
URL:https://swv-sindelfingen.de/event/vorderrhein-ausfahrt/
CATEGORIES:Kanusport
END:VEVENT
BEGIN:VEVENT
DTSTART;TZID=Europe/Berlin:20250602T084500
DTEND;TZID=Europe/Berlin:20250602T101500
DTSTAMP:20260422T133331
CREATED:20250221T150206Z
LAST-MODIFIED:20250221T150206Z
UID:10006680-1748853900-1748859300@swv-sindelfingen.de
SUMMARY:Nordic Walking
DESCRIPTION:
URL:https://swv-sindelfingen.de/event/nordic-walking-3/2025-06-02/
LOCATION:SWV – Vereinsheim\, Arthur-Gruber-Strasse 65\, SIndelfingen\, Deutschland\, 71065
END:VEVENT
BEGIN:VEVENT
DTSTART;TZID=Europe/Berlin:20250603T193000
DTEND;TZID=Europe/Berlin:20250603T210000
DTSTAMP:20260422T133331
CREATED:20250130T201106Z
LAST-MODIFIED:20250130T201221Z
UID:10004986-1748979000-1748984400@swv-sindelfingen.de
SUMMARY:Powergymnastik
DESCRIPTION:
URL:https://swv-sindelfingen.de/event/powergymnastikk/2025-06-03/
END:VEVENT
BEGIN:VEVENT
DTSTART;TZID=Europe/Berlin:20250604T184500
DTEND;TZID=Europe/Berlin:20250604T184500
DTSTAMP:20260422T133331
CREATED:20250131T075402Z
LAST-MODIFIED:20250131T075402Z
UID:10006385-1749062700-1749062700@swv-sindelfingen.de
SUMMARY:Trainingsbetrieb
DESCRIPTION:Mittwochabends (im Winterhalbjahr ab 18:45 Uhr)\, im Badezentrum Sindelfingen (außer in den Schulferien\, dann z.T. Ersatztraining).\nInfos: Felix Loroff
URL:https://swv-sindelfingen.de/event/trainingsbetrieb/2025-06-04/
CATEGORIES:Kanusport
END:VEVENT
BEGIN:VEVENT
DTSTART;TZID=Europe/Berlin:20250604T190000
DTEND;TZID=Europe/Berlin:20250604T211500
DTSTAMP:20260422T133331
CREATED:20250130T202848Z
LAST-MODIFIED:20250130T202848Z
UID:10005261-1749063600-1749071700@swv-sindelfingen.de
SUMMARY:Fitness nur für Frauen
DESCRIPTION:
URL:https://swv-sindelfingen.de/event/fitness-nur-fuer-frauen-2/2025-06-04/
END:VEVENT
BEGIN:VEVENT
DTSTART;TZID=Europe/Berlin:20250605T193000
DTEND;TZID=Europe/Berlin:20250605T210000
DTSTAMP:20260422T133331
CREATED:20250130T203352Z
LAST-MODIFIED:20260220T175000Z
UID:10005542-1749151800-1749157200@swv-sindelfingen.de
SUMMARY:Fitness Workout
DESCRIPTION:
URL:https://swv-sindelfingen.de/event/fitness-workout-2/2025-06-05/
LOCATION:Realschule Klstergarten
END:VEVENT
BEGIN:VEVENT
DTSTART;TZID=Europe/Berlin:20250606T080000
DTEND;TZID=Europe/Berlin:20250606T170000
DTSTAMP:20260422T133331
CREATED:20250130T204210Z
LAST-MODIFIED:20250130T204210Z
UID:10006098-1749196800-1749229200@swv-sindelfingen.de
SUMMARY:Fit werden - fit bleiben
DESCRIPTION:
URL:https://swv-sindelfingen.de/event/fit-werden-fit-bleiben-2/2025-06-06/
END:VEVENT
BEGIN:VEVENT
DTSTART;VALUE=DATE:20250607
DTEND;VALUE=DATE:20250616
DTSTAMP:20260422T133331
CREATED:20250131T074041Z
LAST-MODIFIED:20250131T074041Z
UID:10006355-1749283200-1749974399@swv-sindelfingen.de
SUMMARY:Pfingsten Teil I - Lofer
DESCRIPTION:Abwechslungsreiches Wildwasser für Alle zwischen Chiemgau und Berchtesgaden. WW I-II bis IV\nAnmeldeschluss: 02.03.2025
URL:https://swv-sindelfingen.de/event/pfingsten-teil-i-lofer/
CATEGORIES:Kanusport
END:VEVENT
BEGIN:VEVENT
DTSTART;TZID=Europe/Berlin:20250609T084500
DTEND;TZID=Europe/Berlin:20250609T101500
DTSTAMP:20260422T133331
CREATED:20250221T150206Z
LAST-MODIFIED:20250221T150206Z
UID:10006681-1749458700-1749464100@swv-sindelfingen.de
SUMMARY:Nordic Walking
DESCRIPTION:
URL:https://swv-sindelfingen.de/event/nordic-walking-3/2025-06-09/
LOCATION:SWV – Vereinsheim\, Arthur-Gruber-Strasse 65\, SIndelfingen\, Deutschland\, 71065
END:VEVENT
BEGIN:VEVENT
DTSTART;TZID=Europe/Berlin:20250610T193000
DTEND;TZID=Europe/Berlin:20250610T210000
DTSTAMP:20260422T133331
CREATED:20250130T201106Z
LAST-MODIFIED:20250130T201221Z
UID:10004987-1749583800-1749589200@swv-sindelfingen.de
SUMMARY:Powergymnastik
DESCRIPTION:
URL:https://swv-sindelfingen.de/event/powergymnastikk/2025-06-10/
END:VEVENT
BEGIN:VEVENT
DTSTART;TZID=Europe/Berlin:20250611T184500
DTEND;TZID=Europe/Berlin:20250611T184500
DTSTAMP:20260422T133331
CREATED:20250131T075402Z
LAST-MODIFIED:20250131T075402Z
UID:10006386-1749667500-1749667500@swv-sindelfingen.de
SUMMARY:Trainingsbetrieb
DESCRIPTION:Mittwochabends (im Winterhalbjahr ab 18:45 Uhr)\, im Badezentrum Sindelfingen (außer in den Schulferien\, dann z.T. Ersatztraining).\nInfos: Felix Loroff
URL:https://swv-sindelfingen.de/event/trainingsbetrieb/2025-06-11/
CATEGORIES:Kanusport
END:VEVENT
BEGIN:VEVENT
DTSTART;TZID=Europe/Berlin:20250611T190000
DTEND;TZID=Europe/Berlin:20250611T211500
DTSTAMP:20260422T133331
CREATED:20250130T202848Z
LAST-MODIFIED:20250130T202848Z
UID:10005262-1749668400-1749676500@swv-sindelfingen.de
SUMMARY:Fitness nur für Frauen
DESCRIPTION:
URL:https://swv-sindelfingen.de/event/fitness-nur-fuer-frauen-2/2025-06-11/
END:VEVENT
BEGIN:VEVENT
DTSTART;TZID=Europe/Berlin:20250612T193000
DTEND;TZID=Europe/Berlin:20250612T210000
DTSTAMP:20260422T133331
CREATED:20250130T203352Z
LAST-MODIFIED:20260220T175000Z
UID:10005543-1749756600-1749762000@swv-sindelfingen.de
SUMMARY:Fitness Workout
DESCRIPTION:
URL:https://swv-sindelfingen.de/event/fitness-workout-2/2025-06-12/
LOCATION:Realschule Klstergarten
END:VEVENT
BEGIN:VEVENT
DTSTART;TZID=Europe/Berlin:20250613T080000
DTEND;TZID=Europe/Berlin:20250613T170000
DTSTAMP:20260422T133331
CREATED:20250130T204210Z
LAST-MODIFIED:20250130T204210Z
UID:10006099-1749801600-1749834000@swv-sindelfingen.de
SUMMARY:Fit werden - fit bleiben
DESCRIPTION:
URL:https://swv-sindelfingen.de/event/fit-werden-fit-bleiben-2/2025-06-13/
END:VEVENT
BEGIN:VEVENT
DTSTART;VALUE=DATE:20250614
DTEND;VALUE=DATE:20250616
DTSTAMP:20260422T133331
CREATED:20250131T080503Z
LAST-MODIFIED:20250131T080503Z
UID:10006638-1749888000-1749974399@swv-sindelfingen.de
SUMMARY:Wir wandern zum Wasserturm von Böblingen
DESCRIPTION:– Toller Blick auf Böblingen und ins Gäu – \nDer 31\,2 Meter hohe Wasserturm besitzt in 28 Meter Höhe eine für die Öffentlichkeit zugängliche Aussichtsplattform. 151 Treppenstufen führen in die Höhe. Diese wollen wir erklimmen und hoffen\, an diesem Tag auf einen schönen Ausblick über Böblingen\, das Gäu und den Trauf der Schwäbische Alb. \nAnschließend entspannen wir uns im angeschlossenen Biergarten bei einem Bier und diversen Speisen. \nTreffpunkt: S-Bahn Goldberg\nGehzeit: 2\,5 Stunden \nWanderführer: Karin und Burkhard Sorber
URL:https://swv-sindelfingen.de/event/wir-wandern-zum-wasserturm-von-boeblingen/
CATEGORIES:Wandergruppe
END:VEVENT
BEGIN:VEVENT
DTSTART;TZID=Europe/Berlin:20250615T080000
DTEND;TZID=Europe/Berlin:20250621T170000
DTSTAMP:20260422T133331
CREATED:20250131T074156Z
LAST-MODIFIED:20250131T074156Z
UID:10006356-1749974400-1750525200@swv-sindelfingen.de
SUMMARY:Pfingsten Teil II - Oberdrauburg
DESCRIPTION:Paddeln von mild bis wild in Österreichs Ostalpen. WW I-II bis IV\nAnmeldeschluss: 02.03.2025
URL:https://swv-sindelfingen.de/event/pfingsten-teil-ii-oberdrauburg/
CATEGORIES:Kanusport
END:VEVENT
BEGIN:VEVENT
DTSTART;TZID=Europe/Berlin:20250616T084500
DTEND;TZID=Europe/Berlin:20250616T101500
DTSTAMP:20260422T133331
CREATED:20250221T150206Z
LAST-MODIFIED:20250221T150206Z
UID:10006682-1750063500-1750068900@swv-sindelfingen.de
SUMMARY:Nordic Walking
DESCRIPTION:
URL:https://swv-sindelfingen.de/event/nordic-walking-3/2025-06-16/
LOCATION:SWV – Vereinsheim\, Arthur-Gruber-Strasse 65\, SIndelfingen\, Deutschland\, 71065
END:VEVENT
BEGIN:VEVENT
DTSTART;TZID=Europe/Berlin:20250617T193000
DTEND;TZID=Europe/Berlin:20250617T210000
DTSTAMP:20260422T133331
CREATED:20250130T201106Z
LAST-MODIFIED:20250130T201221Z
UID:10004988-1750188600-1750194000@swv-sindelfingen.de
SUMMARY:Powergymnastik
DESCRIPTION:
URL:https://swv-sindelfingen.de/event/powergymnastikk/2025-06-17/
END:VEVENT
BEGIN:VEVENT
DTSTART;TZID=Europe/Berlin:20250618T184500
DTEND;TZID=Europe/Berlin:20250618T184500
DTSTAMP:20260422T133331
CREATED:20250131T075402Z
LAST-MODIFIED:20250131T075402Z
UID:10006387-1750272300-1750272300@swv-sindelfingen.de
SUMMARY:Trainingsbetrieb
DESCRIPTION:Mittwochabends (im Winterhalbjahr ab 18:45 Uhr)\, im Badezentrum Sindelfingen (außer in den Schulferien\, dann z.T. Ersatztraining).\nInfos: Felix Loroff
URL:https://swv-sindelfingen.de/event/trainingsbetrieb/2025-06-18/
CATEGORIES:Kanusport
END:VEVENT
BEGIN:VEVENT
DTSTART;TZID=Europe/Berlin:20250618T190000
DTEND;TZID=Europe/Berlin:20250618T211500
DTSTAMP:20260422T133331
CREATED:20250130T202848Z
LAST-MODIFIED:20250130T202848Z
UID:10005263-1750273200-1750281300@swv-sindelfingen.de
SUMMARY:Fitness nur für Frauen
DESCRIPTION:
URL:https://swv-sindelfingen.de/event/fitness-nur-fuer-frauen-2/2025-06-18/
END:VEVENT
BEGIN:VEVENT
DTSTART;TZID=Europe/Berlin:20250619T193000
DTEND;TZID=Europe/Berlin:20250619T210000
DTSTAMP:20260422T133331
CREATED:20250130T203352Z
LAST-MODIFIED:20260220T175000Z
UID:10005544-1750361400-1750366800@swv-sindelfingen.de
SUMMARY:Fitness Workout
DESCRIPTION:
URL:https://swv-sindelfingen.de/event/fitness-workout-2/2025-06-19/
LOCATION:Realschule Klstergarten
END:VEVENT
BEGIN:VEVENT
DTSTART;TZID=Europe/Berlin:20250620T080000
DTEND;TZID=Europe/Berlin:20250620T170000
DTSTAMP:20260422T133331
CREATED:20250130T204210Z
LAST-MODIFIED:20250130T204210Z
UID:10006100-1750406400-1750438800@swv-sindelfingen.de
SUMMARY:Fit werden - fit bleiben
DESCRIPTION:
URL:https://swv-sindelfingen.de/event/fit-werden-fit-bleiben-2/2025-06-20/
END:VEVENT
BEGIN:VEVENT
DTSTART;VALUE=DATE:20250622
DTEND;VALUE=DATE:20250624
DTSTAMP:20260422T133331
CREATED:20250131T081832Z
LAST-MODIFIED:20250605T183630Z
UID:10006654-1750579200-1750665599@swv-sindelfingen.de
SUMMARY:Aich - Schaichtaltaltour
DESCRIPTION:Start am Glaspalast in Richtung Dagersheim\, Hulb. Ab dem Tierheim folgen wir dem Radel-Rund-Weg bis zum Zimmerschlag und wechseln den Weg in Richtung Schönaich. Nach einer schönen Abfahrt erreichen wir den Aichtalradweg\, dem wir bis Neuenhaus folgen mit Mittagseinkehr dort im Uhlberg-Biergarten. Gut gestärkt führt uns die Tour danach in das idyllische Schaichtal\, bis nach Dettenhausen. Ab hier folgen wir dem Radweg nach Weil im Schönbuch bis zum Schaichhof. Das letzte Stück der Tour führt uns nach Altdorf\, Hildrizhausen und Ehningen zurück nach Sindelfingen. \nStreckenlänge: ca. 70 km \nTourenführer: Gerhard Mezger\, Ralf Askani \nTreffpunkt: 09:30 Uhr\, Parkplatz Glaspalast Sindelfingen (Rudolf-Harbig-Str.)Teilnahmegeb. : \nMitglieder: 5.- €\, Nichtmitglieder.: 6.- € \nEine Anmeldung ist nicht notwndig!
URL:https://swv-sindelfingen.de/event/aichtaltour/
CATEGORIES:Radfahren
END:VEVENT
BEGIN:VEVENT
DTSTART;TZID=Europe/Berlin:20250623T084500
DTEND;TZID=Europe/Berlin:20250623T101500
DTSTAMP:20260422T133331
CREATED:20250221T150206Z
LAST-MODIFIED:20250221T150206Z
UID:10006683-1750668300-1750673700@swv-sindelfingen.de
SUMMARY:Nordic Walking
DESCRIPTION:
URL:https://swv-sindelfingen.de/event/nordic-walking-3/2025-06-23/
LOCATION:SWV – Vereinsheim\, Arthur-Gruber-Strasse 65\, SIndelfingen\, Deutschland\, 71065
END:VEVENT
BEGIN:VEVENT
DTSTART;TZID=Europe/Berlin:20250624T193000
DTEND;TZID=Europe/Berlin:20250624T210000
DTSTAMP:20260422T133331
CREATED:20250130T201106Z
LAST-MODIFIED:20250130T201221Z
UID:10004989-1750793400-1750798800@swv-sindelfingen.de
SUMMARY:Powergymnastik
DESCRIPTION:
URL:https://swv-sindelfingen.de/event/powergymnastikk/2025-06-24/
END:VEVENT
BEGIN:VEVENT
DTSTART;TZID=Europe/Berlin:20250625T184500
DTEND;TZID=Europe/Berlin:20250625T184500
DTSTAMP:20260422T133331
CREATED:20250131T075402Z
LAST-MODIFIED:20250131T075402Z
UID:10006388-1750877100-1750877100@swv-sindelfingen.de
SUMMARY:Trainingsbetrieb
DESCRIPTION:Mittwochabends (im Winterhalbjahr ab 18:45 Uhr)\, im Badezentrum Sindelfingen (außer in den Schulferien\, dann z.T. Ersatztraining).\nInfos: Felix Loroff
URL:https://swv-sindelfingen.de/event/trainingsbetrieb/2025-06-25/
CATEGORIES:Kanusport
END:VEVENT
BEGIN:VEVENT
DTSTART;TZID=Europe/Berlin:20250625T190000
DTEND;TZID=Europe/Berlin:20250625T211500
DTSTAMP:20260422T133331
CREATED:20250130T202848Z
LAST-MODIFIED:20250130T202848Z
UID:10005264-1750878000-1750886100@swv-sindelfingen.de
SUMMARY:Fitness nur für Frauen
DESCRIPTION:
URL:https://swv-sindelfingen.de/event/fitness-nur-fuer-frauen-2/2025-06-25/
END:VEVENT
BEGIN:VEVENT
DTSTART;TZID=Europe/Berlin:20250626T193000
DTEND;TZID=Europe/Berlin:20250626T210000
DTSTAMP:20260422T133331
CREATED:20250130T203352Z
LAST-MODIFIED:20260220T175000Z
UID:10005545-1750966200-1750971600@swv-sindelfingen.de
SUMMARY:Fitness Workout
DESCRIPTION:
URL:https://swv-sindelfingen.de/event/fitness-workout-2/2025-06-26/
LOCATION:Realschule Klstergarten
END:VEVENT
BEGIN:VEVENT
DTSTART;TZID=Europe/Berlin:20250627T080000
DTEND;TZID=Europe/Berlin:20250627T170000
DTSTAMP:20260422T133331
CREATED:20250130T204210Z
LAST-MODIFIED:20250130T204210Z
UID:10006101-1751011200-1751043600@swv-sindelfingen.de
SUMMARY:Fit werden - fit bleiben
DESCRIPTION:
URL:https://swv-sindelfingen.de/event/fit-werden-fit-bleiben-2/2025-06-27/
END:VEVENT
BEGIN:VEVENT
DTSTART;VALUE=DATE:20250628
DTEND;VALUE=DATE:20250701
DTSTAMP:20260422T133331
CREATED:20250131T074237Z
LAST-MODIFIED:20250131T074237Z
UID:10006357-1751097600-1751270399@swv-sindelfingen.de
SUMMARY:Sicherheitstraining
DESCRIPTION:Zum Auffrischen der Kenntnisse über Sichern und Retten im Wildwasser\, sowie den Umgang mit Sicherheitsausrüstung.\nAnmeldeschluss: 01.06.2025
URL:https://swv-sindelfingen.de/event/sicherheitstraining/
CATEGORIES:Kanusport
END:VEVENT
END:VCALENDAR