BEGIN:VCALENDAR
VERSION:2.0
PRODID:-//Schwarzwaldverein Sindelfingen e. V. - ECPv6.15.20//NONSGML v1.0//EN
CALSCALE:GREGORIAN
METHOD:PUBLISH
X-WR-CALNAME:Schwarzwaldverein Sindelfingen e. V.
X-ORIGINAL-URL:https://swv-sindelfingen.de
X-WR-CALDESC:Veranstaltungen für Schwarzwaldverein Sindelfingen e. V.
REFRESH-INTERVAL;VALUE=DURATION:PT1H
X-Robots-Tag:noindex
X-PUBLISHED-TTL:PT1H
BEGIN:VTIMEZONE
TZID:Europe/Berlin
BEGIN:DAYLIGHT
TZOFFSETFROM:+0100
TZOFFSETTO:+0200
TZNAME:CEST
DTSTART:20240331T010000
END:DAYLIGHT
BEGIN:STANDARD
TZOFFSETFROM:+0200
TZOFFSETTO:+0100
TZNAME:CET
DTSTART:20241027T010000
END:STANDARD
BEGIN:DAYLIGHT
TZOFFSETFROM:+0100
TZOFFSETTO:+0200
TZNAME:CEST
DTSTART:20250330T010000
END:DAYLIGHT
BEGIN:STANDARD
TZOFFSETFROM:+0200
TZOFFSETTO:+0100
TZNAME:CET
DTSTART:20251026T010000
END:STANDARD
BEGIN:DAYLIGHT
TZOFFSETFROM:+0100
TZOFFSETTO:+0200
TZNAME:CEST
DTSTART:20260329T010000
END:DAYLIGHT
BEGIN:STANDARD
TZOFFSETFROM:+0200
TZOFFSETTO:+0100
TZNAME:CET
DTSTART:20261025T010000
END:STANDARD
END:VTIMEZONE
BEGIN:VEVENT
DTSTART;TZID=Europe/Berlin:20250303T084500
DTEND;TZID=Europe/Berlin:20250303T101500
DTSTAMP:20260422T191539
CREATED:20250221T150206Z
LAST-MODIFIED:20250221T150206Z
UID:10006667-1740991500-1740996900@swv-sindelfingen.de
SUMMARY:Nordic Walking
DESCRIPTION:
URL:https://swv-sindelfingen.de/event/nordic-walking-3/2025-03-03/
LOCATION:SWV – Vereinsheim\, Arthur-Gruber-Strasse 65\, SIndelfingen\, Deutschland\, 71065
END:VEVENT
BEGIN:VEVENT
DTSTART;TZID=Europe/Berlin:20250304T193000
DTEND;TZID=Europe/Berlin:20250304T210000
DTSTAMP:20260422T191539
CREATED:20250130T201106Z
LAST-MODIFIED:20250130T201221Z
UID:10004973-1741116600-1741122000@swv-sindelfingen.de
SUMMARY:Powergymnastik
DESCRIPTION:
URL:https://swv-sindelfingen.de/event/powergymnastikk/2025-03-04/
END:VEVENT
BEGIN:VEVENT
DTSTART;TZID=Europe/Berlin:20250305T184500
DTEND;TZID=Europe/Berlin:20250305T184500
DTSTAMP:20260422T191539
CREATED:20250131T075402Z
LAST-MODIFIED:20250131T075402Z
UID:10006372-1741200300-1741200300@swv-sindelfingen.de
SUMMARY:Trainingsbetrieb
DESCRIPTION:Mittwochabends (im Winterhalbjahr ab 18:45 Uhr)\, im Badezentrum Sindelfingen (außer in den Schulferien\, dann z.T. Ersatztraining).\nInfos: Felix Loroff
URL:https://swv-sindelfingen.de/event/trainingsbetrieb/2025-03-05/
CATEGORIES:Kanusport
END:VEVENT
BEGIN:VEVENT
DTSTART;TZID=Europe/Berlin:20250305T190000
DTEND;TZID=Europe/Berlin:20250305T211500
DTSTAMP:20260422T191539
CREATED:20250130T202848Z
LAST-MODIFIED:20250130T202848Z
UID:10005248-1741201200-1741209300@swv-sindelfingen.de
SUMMARY:Fitness nur für Frauen
DESCRIPTION:
URL:https://swv-sindelfingen.de/event/fitness-nur-fuer-frauen-2/2025-03-05/
END:VEVENT
BEGIN:VEVENT
DTSTART;TZID=Europe/Berlin:20250306T193000
DTEND;TZID=Europe/Berlin:20250306T210000
DTSTAMP:20260422T191539
CREATED:20250130T203352Z
LAST-MODIFIED:20260220T175000Z
UID:10005529-1741289400-1741294800@swv-sindelfingen.de
SUMMARY:Fitness Workout
DESCRIPTION:
URL:https://swv-sindelfingen.de/event/fitness-workout-2/2025-03-06/
LOCATION:Realschule Klstergarten
END:VEVENT
BEGIN:VEVENT
DTSTART;TZID=Europe/Berlin:20250307T080000
DTEND;TZID=Europe/Berlin:20250307T170000
DTSTAMP:20260422T191539
CREATED:20250130T204210Z
LAST-MODIFIED:20250130T204210Z
UID:10006085-1741334400-1741366800@swv-sindelfingen.de
SUMMARY:Fit werden - fit bleiben
DESCRIPTION:
URL:https://swv-sindelfingen.de/event/fit-werden-fit-bleiben-2/2025-03-07/
END:VEVENT
BEGIN:VEVENT
DTSTART;TZID=Europe/Berlin:20250310T084500
DTEND;TZID=Europe/Berlin:20250310T101500
DTSTAMP:20260422T191539
CREATED:20250221T150206Z
LAST-MODIFIED:20250221T150206Z
UID:10006668-1741596300-1741601700@swv-sindelfingen.de
SUMMARY:Nordic Walking
DESCRIPTION:
URL:https://swv-sindelfingen.de/event/nordic-walking-3/2025-03-10/
LOCATION:SWV – Vereinsheim\, Arthur-Gruber-Strasse 65\, SIndelfingen\, Deutschland\, 71065
END:VEVENT
BEGIN:VEVENT
DTSTART;TZID=Europe/Berlin:20250311T193000
DTEND;TZID=Europe/Berlin:20250311T210000
DTSTAMP:20260422T191539
CREATED:20250130T201106Z
LAST-MODIFIED:20250130T201221Z
UID:10004974-1741721400-1741726800@swv-sindelfingen.de
SUMMARY:Powergymnastik
DESCRIPTION:
URL:https://swv-sindelfingen.de/event/powergymnastikk/2025-03-11/
END:VEVENT
BEGIN:VEVENT
DTSTART;TZID=Europe/Berlin:20250312T184500
DTEND;TZID=Europe/Berlin:20250312T184500
DTSTAMP:20260422T191539
CREATED:20250131T075402Z
LAST-MODIFIED:20250131T075402Z
UID:10006373-1741805100-1741805100@swv-sindelfingen.de
SUMMARY:Trainingsbetrieb
DESCRIPTION:Mittwochabends (im Winterhalbjahr ab 18:45 Uhr)\, im Badezentrum Sindelfingen (außer in den Schulferien\, dann z.T. Ersatztraining).\nInfos: Felix Loroff
URL:https://swv-sindelfingen.de/event/trainingsbetrieb/2025-03-12/
CATEGORIES:Kanusport
END:VEVENT
BEGIN:VEVENT
DTSTART;TZID=Europe/Berlin:20250312T190000
DTEND;TZID=Europe/Berlin:20250312T211500
DTSTAMP:20260422T191539
CREATED:20250130T202848Z
LAST-MODIFIED:20250130T202848Z
UID:10005249-1741806000-1741814100@swv-sindelfingen.de
SUMMARY:Fitness nur für Frauen
DESCRIPTION:
URL:https://swv-sindelfingen.de/event/fitness-nur-fuer-frauen-2/2025-03-12/
END:VEVENT
BEGIN:VEVENT
DTSTART;TZID=Europe/Berlin:20250313T193000
DTEND;TZID=Europe/Berlin:20250313T210000
DTSTAMP:20260422T191539
CREATED:20250130T203352Z
LAST-MODIFIED:20260220T175000Z
UID:10005530-1741894200-1741899600@swv-sindelfingen.de
SUMMARY:Fitness Workout
DESCRIPTION:
URL:https://swv-sindelfingen.de/event/fitness-workout-2/2025-03-13/
LOCATION:Realschule Klstergarten
END:VEVENT
BEGIN:VEVENT
DTSTART;TZID=Europe/Berlin:20250314T080000
DTEND;TZID=Europe/Berlin:20250314T170000
DTSTAMP:20260422T191539
CREATED:20250130T204210Z
LAST-MODIFIED:20250130T204210Z
UID:10006086-1741939200-1741971600@swv-sindelfingen.de
SUMMARY:Fit werden - fit bleiben
DESCRIPTION:
URL:https://swv-sindelfingen.de/event/fit-werden-fit-bleiben-2/2025-03-14/
END:VEVENT
BEGIN:VEVENT
DTSTART;TZID=Europe/Berlin:20250317T084500
DTEND;TZID=Europe/Berlin:20250317T101500
DTSTAMP:20260422T191539
CREATED:20250221T150206Z
LAST-MODIFIED:20250221T150206Z
UID:10006669-1742201100-1742206500@swv-sindelfingen.de
SUMMARY:Nordic Walking
DESCRIPTION:
URL:https://swv-sindelfingen.de/event/nordic-walking-3/2025-03-17/
LOCATION:SWV – Vereinsheim\, Arthur-Gruber-Strasse 65\, SIndelfingen\, Deutschland\, 71065
END:VEVENT
BEGIN:VEVENT
DTSTART;TZID=Europe/Berlin:20250318T193000
DTEND;TZID=Europe/Berlin:20250318T210000
DTSTAMP:20260422T191539
CREATED:20250130T201106Z
LAST-MODIFIED:20250130T201221Z
UID:10004975-1742326200-1742331600@swv-sindelfingen.de
SUMMARY:Powergymnastik
DESCRIPTION:
URL:https://swv-sindelfingen.de/event/powergymnastikk/2025-03-18/
END:VEVENT
BEGIN:VEVENT
DTSTART;TZID=Europe/Berlin:20250319T184500
DTEND;TZID=Europe/Berlin:20250319T184500
DTSTAMP:20260422T191539
CREATED:20250131T075402Z
LAST-MODIFIED:20250131T075402Z
UID:10006374-1742409900-1742409900@swv-sindelfingen.de
SUMMARY:Trainingsbetrieb
DESCRIPTION:Mittwochabends (im Winterhalbjahr ab 18:45 Uhr)\, im Badezentrum Sindelfingen (außer in den Schulferien\, dann z.T. Ersatztraining).\nInfos: Felix Loroff
URL:https://swv-sindelfingen.de/event/trainingsbetrieb/2025-03-19/
CATEGORIES:Kanusport
END:VEVENT
BEGIN:VEVENT
DTSTART;TZID=Europe/Berlin:20250319T190000
DTEND;TZID=Europe/Berlin:20250319T211500
DTSTAMP:20260422T191539
CREATED:20250130T202848Z
LAST-MODIFIED:20250130T202848Z
UID:10005250-1742410800-1742418900@swv-sindelfingen.de
SUMMARY:Fitness nur für Frauen
DESCRIPTION:
URL:https://swv-sindelfingen.de/event/fitness-nur-fuer-frauen-2/2025-03-19/
END:VEVENT
BEGIN:VEVENT
DTSTART;VALUE=DATE:20250320
DTEND;VALUE=DATE:20250322
DTSTAMP:20260422T191539
CREATED:20250131T075918Z
LAST-MODIFIED:20250131T075918Z
UID:10006630-1742457600-1742543999@swv-sindelfingen.de
SUMMARY:Besuch im Theodor-Heuss-Haus
DESCRIPTION:Er war als erster Bundespräsident ein Glücksfall für unser Land. 1959\, nach dem Ende seiner 10jährigen Amtszeit zog er\, seine Frau Elly Heuss-Knapp war schon 1952 gestorben\, in sein neu erbautes\, bescheidenes Haus am Killesberg ein und wohnte dort bis zu seinem Tod 1963. Seit der Renovierung bietet es noch mehr Platz für die beiden ständigen und eine aktuelle Themenausstellung. Wir nehmen an der Führung durch eine Ausstellung oder durch die aktuelle Sonderausstellung teil und haben danach noch Gelegenheit\, von seinem Lebensweg zu hören und seine Wohnräume zu besichtigen. \nBei schönem Wetter gehen wir danach die kurze Strecke zum Bismarckturm hinüber und genießen die prächtige Aussicht auf die Stadt. Eine Abschlusseinkehr ist vorgesehen. \n  \nDie Teilnehmerzahl ist begrenzt. \n  \nAnfahrt: mit öffentlichen Verkehrsmitteln \nOrganisation: Dr. Alfred Hinderer
URL:https://swv-sindelfingen.de/event/besuch-im-theodor-heuss-haus/
CATEGORIES:Wandergruppe
END:VEVENT
BEGIN:VEVENT
DTSTART;TZID=Europe/Berlin:20250320T193000
DTEND;TZID=Europe/Berlin:20250320T210000
DTSTAMP:20260422T191539
CREATED:20250130T203352Z
LAST-MODIFIED:20260220T175000Z
UID:10005531-1742499000-1742504400@swv-sindelfingen.de
SUMMARY:Fitness Workout
DESCRIPTION:
URL:https://swv-sindelfingen.de/event/fitness-workout-2/2025-03-20/
LOCATION:Realschule Klstergarten
END:VEVENT
BEGIN:VEVENT
DTSTART;TZID=Europe/Berlin:20250321T080000
DTEND;TZID=Europe/Berlin:20250321T170000
DTSTAMP:20260422T191539
CREATED:20250130T204210Z
LAST-MODIFIED:20250130T204210Z
UID:10006087-1742544000-1742576400@swv-sindelfingen.de
SUMMARY:Fit werden - fit bleiben
DESCRIPTION:
URL:https://swv-sindelfingen.de/event/fit-werden-fit-bleiben-2/2025-03-21/
END:VEVENT
BEGIN:VEVENT
DTSTART;VALUE=DATE:20250322
DTEND;VALUE=DATE:20250324
DTSTAMP:20260422T191539
CREATED:20250131T073140Z
LAST-MODIFIED:20250131T073140Z
UID:10006346-1742630400-1742716799@swv-sindelfingen.de
SUMMARY:Paddelschule Hüningen
DESCRIPTION:Wildwasser-Übungskanal in Hüningen (Huningue)\, Wildwasserschulung für Fortgeschrittene und fortgeschrittene Anfänger. WW I-II bis II-III\nAnmeldeschluss: 02.03.2025
URL:https://swv-sindelfingen.de/event/paddelschule-hueningen/
CATEGORIES:Kanusport
END:VEVENT
BEGIN:VEVENT
DTSTART;VALUE=DATE:20250323
DTEND;VALUE=DATE:20250325
DTSTAMP:20260422T191539
CREATED:20250131T073238Z
LAST-MODIFIED:20250131T073238Z
UID:10006347-1742716800-1742803199@swv-sindelfingen.de
SUMMARY:Paddelschule Hüningen
DESCRIPTION:Wildwasser-Übungskanal in Hüningen (Huningue)\, Wildwasserschulung für Fortgeschrittene und fortgeschrittene Anfänger. WW I-II bis II-III\nAnmeldeschluss: 02.03.2025
URL:https://swv-sindelfingen.de/event/paddelschule-hueningen-2/
CATEGORIES:Kanusport
END:VEVENT
BEGIN:VEVENT
DTSTART;TZID=Europe/Berlin:20250324T084500
DTEND;TZID=Europe/Berlin:20250324T101500
DTSTAMP:20260422T191539
CREATED:20250221T150206Z
LAST-MODIFIED:20250221T150206Z
UID:10006670-1742805900-1742811300@swv-sindelfingen.de
SUMMARY:Nordic Walking
DESCRIPTION:
URL:https://swv-sindelfingen.de/event/nordic-walking-3/2025-03-24/
LOCATION:SWV – Vereinsheim\, Arthur-Gruber-Strasse 65\, SIndelfingen\, Deutschland\, 71065
END:VEVENT
BEGIN:VEVENT
DTSTART;TZID=Europe/Berlin:20250325T193000
DTEND;TZID=Europe/Berlin:20250325T210000
DTSTAMP:20260422T191539
CREATED:20250130T201106Z
LAST-MODIFIED:20250130T201221Z
UID:10004976-1742931000-1742936400@swv-sindelfingen.de
SUMMARY:Powergymnastik
DESCRIPTION:
URL:https://swv-sindelfingen.de/event/powergymnastikk/2025-03-25/
END:VEVENT
BEGIN:VEVENT
DTSTART;TZID=Europe/Berlin:20250326T184500
DTEND;TZID=Europe/Berlin:20250326T184500
DTSTAMP:20260422T191539
CREATED:20250131T075402Z
LAST-MODIFIED:20250131T075402Z
UID:10006375-1743014700-1743014700@swv-sindelfingen.de
SUMMARY:Trainingsbetrieb
DESCRIPTION:Mittwochabends (im Winterhalbjahr ab 18:45 Uhr)\, im Badezentrum Sindelfingen (außer in den Schulferien\, dann z.T. Ersatztraining).\nInfos: Felix Loroff
URL:https://swv-sindelfingen.de/event/trainingsbetrieb/2025-03-26/
CATEGORIES:Kanusport
END:VEVENT
BEGIN:VEVENT
DTSTART;TZID=Europe/Berlin:20250326T190000
DTEND;TZID=Europe/Berlin:20250326T211500
DTSTAMP:20260422T191539
CREATED:20250130T202848Z
LAST-MODIFIED:20250130T202848Z
UID:10005251-1743015600-1743023700@swv-sindelfingen.de
SUMMARY:Fitness nur für Frauen
DESCRIPTION:
URL:https://swv-sindelfingen.de/event/fitness-nur-fuer-frauen-2/2025-03-26/
END:VEVENT
BEGIN:VEVENT
DTSTART;TZID=Europe/Berlin:20250327T193000
DTEND;TZID=Europe/Berlin:20250327T210000
DTSTAMP:20260422T191539
CREATED:20250130T203352Z
LAST-MODIFIED:20260220T175000Z
UID:10005532-1743103800-1743109200@swv-sindelfingen.de
SUMMARY:Fitness Workout
DESCRIPTION:
URL:https://swv-sindelfingen.de/event/fitness-workout-2/2025-03-27/
LOCATION:Realschule Klstergarten
END:VEVENT
BEGIN:VEVENT
DTSTART;TZID=Europe/Berlin:20250328T080000
DTEND;TZID=Europe/Berlin:20250328T170000
DTSTAMP:20260422T191539
CREATED:20250130T204210Z
LAST-MODIFIED:20250130T204210Z
UID:10006088-1743148800-1743181200@swv-sindelfingen.de
SUMMARY:Fit werden - fit bleiben
DESCRIPTION:
URL:https://swv-sindelfingen.de/event/fit-werden-fit-bleiben-2/2025-03-28/
END:VEVENT
BEGIN:VEVENT
DTSTART;VALUE=DATE:20250330
DTEND;VALUE=DATE:20250401
DTSTAMP:20260422T191539
CREATED:20250131T073333Z
LAST-MODIFIED:20250131T073333Z
UID:10006348-1743321600-1743407999@swv-sindelfingen.de
SUMMARY:Paddeln auf dem Neckar
DESCRIPTION:Eine Tour auf dem Neckar auf leichtem Wildwasser\, je nach Wasserstand.\nAnmeldeschluss: 23.03.2025
URL:https://swv-sindelfingen.de/event/paddeln-auf-dem-neckar/
CATEGORIES:Kanusport
END:VEVENT
BEGIN:VEVENT
DTSTART;TZID=Europe/Berlin:20250331T084500
DTEND;TZID=Europe/Berlin:20250331T101500
DTSTAMP:20260422T191539
CREATED:20250221T150206Z
LAST-MODIFIED:20250221T150206Z
UID:10006671-1743410700-1743416100@swv-sindelfingen.de
SUMMARY:Nordic Walking
DESCRIPTION:
URL:https://swv-sindelfingen.de/event/nordic-walking-3/2025-03-31/
LOCATION:SWV – Vereinsheim\, Arthur-Gruber-Strasse 65\, SIndelfingen\, Deutschland\, 71065
END:VEVENT
END:VCALENDAR