BEGIN:VCALENDAR
VERSION:2.0
PRODID:-//Schwarzwaldverein Sindelfingen e. V. - ECPv6.15.20//NONSGML v1.0//EN
CALSCALE:GREGORIAN
METHOD:PUBLISH
X-ORIGINAL-URL:https://swv-sindelfingen.de
X-WR-CALDESC:Veranstaltungen für Schwarzwaldverein Sindelfingen e. V.
REFRESH-INTERVAL;VALUE=DURATION:PT1H
X-Robots-Tag:noindex
X-PUBLISHED-TTL:PT1H
BEGIN:VTIMEZONE
TZID:Europe/Berlin
BEGIN:DAYLIGHT
TZOFFSETFROM:+0100
TZOFFSETTO:+0200
TZNAME:CEST
DTSTART:20240331T010000
END:DAYLIGHT
BEGIN:STANDARD
TZOFFSETFROM:+0200
TZOFFSETTO:+0100
TZNAME:CET
DTSTART:20241027T010000
END:STANDARD
BEGIN:DAYLIGHT
TZOFFSETFROM:+0100
TZOFFSETTO:+0200
TZNAME:CEST
DTSTART:20250330T010000
END:DAYLIGHT
BEGIN:STANDARD
TZOFFSETFROM:+0200
TZOFFSETTO:+0100
TZNAME:CET
DTSTART:20251026T010000
END:STANDARD
BEGIN:DAYLIGHT
TZOFFSETFROM:+0100
TZOFFSETTO:+0200
TZNAME:CEST
DTSTART:20260329T010000
END:DAYLIGHT
BEGIN:STANDARD
TZOFFSETFROM:+0200
TZOFFSETTO:+0100
TZNAME:CET
DTSTART:20261025T010000
END:STANDARD
END:VTIMEZONE
BEGIN:VEVENT
DTSTART;TZID=Europe/Berlin:20250203T084500
DTEND;TZID=Europe/Berlin:20250203T101500
DTSTAMP:20260422T132206
CREATED:20250221T150206Z
LAST-MODIFIED:20250221T150206Z
UID:10006663-1738572300-1738577700@swv-sindelfingen.de
SUMMARY:Nordic Walking
DESCRIPTION:
URL:https://swv-sindelfingen.de/event/nordic-walking-3/2025-02-03/
LOCATION:SWV – Vereinsheim\, Arthur-Gruber-Strasse 65\, SIndelfingen\, Deutschland\, 71065
END:VEVENT
BEGIN:VEVENT
DTSTART;TZID=Europe/Berlin:20250204T193000
DTEND;TZID=Europe/Berlin:20250204T210000
DTSTAMP:20260422T132206
CREATED:20250130T201106Z
LAST-MODIFIED:20250130T201221Z
UID:10004969-1738697400-1738702800@swv-sindelfingen.de
SUMMARY:Powergymnastik
DESCRIPTION:
URL:https://swv-sindelfingen.de/event/powergymnastikk/2025-02-04/
END:VEVENT
BEGIN:VEVENT
DTSTART;TZID=Europe/Berlin:20250205T184500
DTEND;TZID=Europe/Berlin:20250205T184500
DTSTAMP:20260422T132206
CREATED:20250131T075402Z
LAST-MODIFIED:20250131T075402Z
UID:10006368-1738781100-1738781100@swv-sindelfingen.de
SUMMARY:Trainingsbetrieb
DESCRIPTION:Mittwochabends (im Winterhalbjahr ab 18:45 Uhr)\, im Badezentrum Sindelfingen (außer in den Schulferien\, dann z.T. Ersatztraining).\nInfos: Felix Loroff
URL:https://swv-sindelfingen.de/event/trainingsbetrieb/2025-02-05/
CATEGORIES:Kanusport
END:VEVENT
BEGIN:VEVENT
DTSTART;TZID=Europe/Berlin:20250205T190000
DTEND;TZID=Europe/Berlin:20250205T211500
DTSTAMP:20260422T132206
CREATED:20250130T202848Z
LAST-MODIFIED:20250130T202848Z
UID:10005244-1738782000-1738790100@swv-sindelfingen.de
SUMMARY:Fitness nur für Frauen
DESCRIPTION:
URL:https://swv-sindelfingen.de/event/fitness-nur-fuer-frauen-2/2025-02-05/
END:VEVENT
BEGIN:VEVENT
DTSTART;TZID=Europe/Berlin:20250206T193000
DTEND;TZID=Europe/Berlin:20250206T210000
DTSTAMP:20260422T132206
CREATED:20250130T203352Z
LAST-MODIFIED:20260220T175000Z
UID:10005525-1738870200-1738875600@swv-sindelfingen.de
SUMMARY:Fitness Workout
DESCRIPTION:
URL:https://swv-sindelfingen.de/event/fitness-workout-2/2025-02-06/
LOCATION:Realschule Klstergarten
END:VEVENT
BEGIN:VEVENT
DTSTART;TZID=Europe/Berlin:20250207T080000
DTEND;TZID=Europe/Berlin:20250207T170000
DTSTAMP:20260422T132206
CREATED:20250130T204210Z
LAST-MODIFIED:20250130T204210Z
UID:10006081-1738915200-1738947600@swv-sindelfingen.de
SUMMARY:Fit werden - fit bleiben
DESCRIPTION:
URL:https://swv-sindelfingen.de/event/fit-werden-fit-bleiben-2/2025-02-07/
END:VEVENT
BEGIN:VEVENT
DTSTART;TZID=Europe/Berlin:20250210T084500
DTEND;TZID=Europe/Berlin:20250210T101500
DTSTAMP:20260422T132206
CREATED:20250221T150206Z
LAST-MODIFIED:20250221T150206Z
UID:10006664-1739177100-1739182500@swv-sindelfingen.de
SUMMARY:Nordic Walking
DESCRIPTION:
URL:https://swv-sindelfingen.de/event/nordic-walking-3/2025-02-10/
LOCATION:SWV – Vereinsheim\, Arthur-Gruber-Strasse 65\, SIndelfingen\, Deutschland\, 71065
END:VEVENT
BEGIN:VEVENT
DTSTART;TZID=Europe/Berlin:20250211T193000
DTEND;TZID=Europe/Berlin:20250211T210000
DTSTAMP:20260422T132206
CREATED:20250130T201106Z
LAST-MODIFIED:20250130T201221Z
UID:10004970-1739302200-1739307600@swv-sindelfingen.de
SUMMARY:Powergymnastik
DESCRIPTION:
URL:https://swv-sindelfingen.de/event/powergymnastikk/2025-02-11/
END:VEVENT
BEGIN:VEVENT
DTSTART;TZID=Europe/Berlin:20250212T184500
DTEND;TZID=Europe/Berlin:20250212T184500
DTSTAMP:20260422T132206
CREATED:20250131T075402Z
LAST-MODIFIED:20250131T075402Z
UID:10006369-1739385900-1739385900@swv-sindelfingen.de
SUMMARY:Trainingsbetrieb
DESCRIPTION:Mittwochabends (im Winterhalbjahr ab 18:45 Uhr)\, im Badezentrum Sindelfingen (außer in den Schulferien\, dann z.T. Ersatztraining).\nInfos: Felix Loroff
URL:https://swv-sindelfingen.de/event/trainingsbetrieb/2025-02-12/
CATEGORIES:Kanusport
END:VEVENT
BEGIN:VEVENT
DTSTART;TZID=Europe/Berlin:20250212T190000
DTEND;TZID=Europe/Berlin:20250212T211500
DTSTAMP:20260422T132206
CREATED:20250130T202848Z
LAST-MODIFIED:20250130T202848Z
UID:10005245-1739386800-1739394900@swv-sindelfingen.de
SUMMARY:Fitness nur für Frauen
DESCRIPTION:
URL:https://swv-sindelfingen.de/event/fitness-nur-fuer-frauen-2/2025-02-12/
END:VEVENT
BEGIN:VEVENT
DTSTART;TZID=Europe/Berlin:20250213T193000
DTEND;TZID=Europe/Berlin:20250213T210000
DTSTAMP:20260422T132206
CREATED:20250130T203352Z
LAST-MODIFIED:20260220T175000Z
UID:10005526-1739475000-1739480400@swv-sindelfingen.de
SUMMARY:Fitness Workout
DESCRIPTION:
URL:https://swv-sindelfingen.de/event/fitness-workout-2/2025-02-13/
LOCATION:Realschule Klstergarten
END:VEVENT
BEGIN:VEVENT
DTSTART;TZID=Europe/Berlin:20250214T080000
DTEND;TZID=Europe/Berlin:20250214T170000
DTSTAMP:20260422T132206
CREATED:20250130T204210Z
LAST-MODIFIED:20250130T204210Z
UID:10006082-1739520000-1739552400@swv-sindelfingen.de
SUMMARY:Fit werden - fit bleiben
DESCRIPTION:
URL:https://swv-sindelfingen.de/event/fit-werden-fit-bleiben-2/2025-02-14/
END:VEVENT
BEGIN:VEVENT
DTSTART;TZID=Europe/Berlin:20250217T084500
DTEND;TZID=Europe/Berlin:20250217T101500
DTSTAMP:20260422T132206
CREATED:20250221T150206Z
LAST-MODIFIED:20250221T150206Z
UID:10006665-1739781900-1739787300@swv-sindelfingen.de
SUMMARY:Nordic Walking
DESCRIPTION:
URL:https://swv-sindelfingen.de/event/nordic-walking-3/2025-02-17/
LOCATION:SWV – Vereinsheim\, Arthur-Gruber-Strasse 65\, SIndelfingen\, Deutschland\, 71065
END:VEVENT
BEGIN:VEVENT
DTSTART;TZID=Europe/Berlin:20250218T193000
DTEND;TZID=Europe/Berlin:20250218T210000
DTSTAMP:20260422T132206
CREATED:20250130T201106Z
LAST-MODIFIED:20250130T201221Z
UID:10004971-1739907000-1739912400@swv-sindelfingen.de
SUMMARY:Powergymnastik
DESCRIPTION:
URL:https://swv-sindelfingen.de/event/powergymnastikk/2025-02-18/
END:VEVENT
BEGIN:VEVENT
DTSTART;TZID=Europe/Berlin:20250219T184500
DTEND;TZID=Europe/Berlin:20250219T184500
DTSTAMP:20260422T132206
CREATED:20250131T075402Z
LAST-MODIFIED:20250131T075402Z
UID:10006370-1739990700-1739990700@swv-sindelfingen.de
SUMMARY:Trainingsbetrieb
DESCRIPTION:Mittwochabends (im Winterhalbjahr ab 18:45 Uhr)\, im Badezentrum Sindelfingen (außer in den Schulferien\, dann z.T. Ersatztraining).\nInfos: Felix Loroff
URL:https://swv-sindelfingen.de/event/trainingsbetrieb/2025-02-19/
CATEGORIES:Kanusport
END:VEVENT
BEGIN:VEVENT
DTSTART;TZID=Europe/Berlin:20250219T190000
DTEND;TZID=Europe/Berlin:20250219T211500
DTSTAMP:20260422T132206
CREATED:20250130T202848Z
LAST-MODIFIED:20250130T202848Z
UID:10005246-1739991600-1739999700@swv-sindelfingen.de
SUMMARY:Fitness nur für Frauen
DESCRIPTION:
URL:https://swv-sindelfingen.de/event/fitness-nur-fuer-frauen-2/2025-02-19/
END:VEVENT
BEGIN:VEVENT
DTSTART;TZID=Europe/Berlin:20250220T193000
DTEND;TZID=Europe/Berlin:20250220T210000
DTSTAMP:20260422T132206
CREATED:20250130T203352Z
LAST-MODIFIED:20260220T175000Z
UID:10005527-1740079800-1740085200@swv-sindelfingen.de
SUMMARY:Fitness Workout
DESCRIPTION:
URL:https://swv-sindelfingen.de/event/fitness-workout-2/2025-02-20/
LOCATION:Realschule Klstergarten
END:VEVENT
BEGIN:VEVENT
DTSTART;TZID=Europe/Berlin:20250221T080000
DTEND;TZID=Europe/Berlin:20250221T170000
DTSTAMP:20260422T132206
CREATED:20250130T204210Z
LAST-MODIFIED:20250130T204210Z
UID:10006083-1740124800-1740157200@swv-sindelfingen.de
SUMMARY:Fit werden - fit bleiben
DESCRIPTION:
URL:https://swv-sindelfingen.de/event/fit-werden-fit-bleiben-2/2025-02-21/
END:VEVENT
BEGIN:VEVENT
DTSTART;TZID=Europe/Berlin:20250221T190000
DTEND;TZID=Europe/Berlin:20250221T190000
DTSTAMP:20260422T132206
CREATED:20250131T073005Z
LAST-MODIFIED:20250131T073026Z
UID:10006345-1740164400-1740164400@swv-sindelfingen.de
SUMMARY:Jahreshauptversammlung 2025
DESCRIPTION:der Kanuabteilung des Schwarzwaldvereins Sindelfingen im Schwarzwald-Vereinsheim\nArthur-Gruber-Straße 65\n71065 Sindelfingen
URL:https://swv-sindelfingen.de/event/jahreshauptversammlung-2025/
CATEGORIES:Kanusport
END:VEVENT
BEGIN:VEVENT
DTSTART;TZID=Europe/Berlin:20250224T084500
DTEND;TZID=Europe/Berlin:20250224T101500
DTSTAMP:20260422T132206
CREATED:20250221T150206Z
LAST-MODIFIED:20250221T150206Z
UID:10006666-1740386700-1740392100@swv-sindelfingen.de
SUMMARY:Nordic Walking
DESCRIPTION:
URL:https://swv-sindelfingen.de/event/nordic-walking-3/2025-02-24/
LOCATION:SWV – Vereinsheim\, Arthur-Gruber-Strasse 65\, SIndelfingen\, Deutschland\, 71065
END:VEVENT
BEGIN:VEVENT
DTSTART;TZID=Europe/Berlin:20250225T193000
DTEND;TZID=Europe/Berlin:20250225T210000
DTSTAMP:20260422T132206
CREATED:20250130T201106Z
LAST-MODIFIED:20250130T201221Z
UID:10004972-1740511800-1740517200@swv-sindelfingen.de
SUMMARY:Powergymnastik
DESCRIPTION:
URL:https://swv-sindelfingen.de/event/powergymnastikk/2025-02-25/
END:VEVENT
BEGIN:VEVENT
DTSTART;TZID=Europe/Berlin:20250226T184500
DTEND;TZID=Europe/Berlin:20250226T184500
DTSTAMP:20260422T132206
CREATED:20250131T075402Z
LAST-MODIFIED:20250131T075402Z
UID:10006371-1740595500-1740595500@swv-sindelfingen.de
SUMMARY:Trainingsbetrieb
DESCRIPTION:Mittwochabends (im Winterhalbjahr ab 18:45 Uhr)\, im Badezentrum Sindelfingen (außer in den Schulferien\, dann z.T. Ersatztraining).\nInfos: Felix Loroff
URL:https://swv-sindelfingen.de/event/trainingsbetrieb/2025-02-26/
CATEGORIES:Kanusport
END:VEVENT
BEGIN:VEVENT
DTSTART;TZID=Europe/Berlin:20250226T190000
DTEND;TZID=Europe/Berlin:20250226T211500
DTSTAMP:20260422T132206
CREATED:20250130T202848Z
LAST-MODIFIED:20250130T202848Z
UID:10005247-1740596400-1740604500@swv-sindelfingen.de
SUMMARY:Fitness nur für Frauen
DESCRIPTION:
URL:https://swv-sindelfingen.de/event/fitness-nur-fuer-frauen-2/2025-02-26/
END:VEVENT
BEGIN:VEVENT
DTSTART;VALUE=DATE:20250227
DTEND;VALUE=DATE:20250301
DTSTAMP:20260422T132206
CREATED:20250130T204353Z
LAST-MODIFIED:20250130T204353Z
UID:10006341-1740643200-1740729599@swv-sindelfingen.de
SUMMARY:Durch Weinberge in den Besen
DESCRIPTION:
URL:https://swv-sindelfingen.de/event/durch-weinberge-in-den-besen-2/
END:VEVENT
BEGIN:VEVENT
DTSTART;TZID=Europe/Berlin:20250227T193000
DTEND;TZID=Europe/Berlin:20250227T210000
DTSTAMP:20260422T132206
CREATED:20250130T203352Z
LAST-MODIFIED:20260220T175000Z
UID:10005528-1740684600-1740690000@swv-sindelfingen.de
SUMMARY:Fitness Workout
DESCRIPTION:
URL:https://swv-sindelfingen.de/event/fitness-workout-2/2025-02-27/
LOCATION:Realschule Klstergarten
END:VEVENT
BEGIN:VEVENT
DTSTART;TZID=Europe/Berlin:20250228T080000
DTEND;TZID=Europe/Berlin:20250228T170000
DTSTAMP:20260422T132206
CREATED:20250130T204210Z
LAST-MODIFIED:20250130T204210Z
UID:10006084-1740729600-1740762000@swv-sindelfingen.de
SUMMARY:Fit werden - fit bleiben
DESCRIPTION:
URL:https://swv-sindelfingen.de/event/fit-werden-fit-bleiben-2/2025-02-28/
END:VEVENT
END:VCALENDAR