BEGIN:VCALENDAR
VERSION:2.0
PRODID:-//Schwarzwaldverein Sindelfingen e. V. - ECPv6.15.20//NONSGML v1.0//EN
CALSCALE:GREGORIAN
METHOD:PUBLISH
X-ORIGINAL-URL:https://swv-sindelfingen.de
X-WR-CALDESC:Veranstaltungen für Schwarzwaldverein Sindelfingen e. V.
REFRESH-INTERVAL;VALUE=DURATION:PT1H
X-Robots-Tag:noindex
X-PUBLISHED-TTL:PT1H
BEGIN:VTIMEZONE
TZID:Europe/Berlin
BEGIN:DAYLIGHT
TZOFFSETFROM:+0100
TZOFFSETTO:+0200
TZNAME:CEST
DTSTART:20240331T010000
END:DAYLIGHT
BEGIN:STANDARD
TZOFFSETFROM:+0200
TZOFFSETTO:+0100
TZNAME:CET
DTSTART:20241027T010000
END:STANDARD
BEGIN:DAYLIGHT
TZOFFSETFROM:+0100
TZOFFSETTO:+0200
TZNAME:CEST
DTSTART:20250330T010000
END:DAYLIGHT
BEGIN:STANDARD
TZOFFSETFROM:+0200
TZOFFSETTO:+0100
TZNAME:CET
DTSTART:20251026T010000
END:STANDARD
BEGIN:DAYLIGHT
TZOFFSETFROM:+0100
TZOFFSETTO:+0200
TZNAME:CEST
DTSTART:20260329T010000
END:DAYLIGHT
BEGIN:STANDARD
TZOFFSETFROM:+0200
TZOFFSETTO:+0100
TZNAME:CET
DTSTART:20261025T010000
END:STANDARD
END:VTIMEZONE
BEGIN:VEVENT
DTSTART;TZID=Europe/Berlin:20250101T190000
DTEND;TZID=Europe/Berlin:20250101T211500
DTSTAMP:20260422T114914
CREATED:20250130T202848Z
LAST-MODIFIED:20250130T202848Z
UID:10005239-1735758000-1735766100@swv-sindelfingen.de
SUMMARY:Fitness nur für Frauen
DESCRIPTION:
URL:https://swv-sindelfingen.de/event/fitness-nur-fuer-frauen-2/2025-01-01/
END:VEVENT
BEGIN:VEVENT
DTSTART;TZID=Europe/Berlin:20250102T193000
DTEND;TZID=Europe/Berlin:20250102T210000
DTSTAMP:20260422T114914
CREATED:20250130T203352Z
LAST-MODIFIED:20260220T175000Z
UID:10005520-1735846200-1735851600@swv-sindelfingen.de
SUMMARY:Fitness Workout
DESCRIPTION:
URL:https://swv-sindelfingen.de/event/fitness-workout-2/2025-01-02/
LOCATION:Realschule Klstergarten
END:VEVENT
BEGIN:VEVENT
DTSTART;TZID=Europe/Berlin:20250103T080000
DTEND;TZID=Europe/Berlin:20250103T170000
DTSTAMP:20260422T114914
CREATED:20250130T204210Z
LAST-MODIFIED:20250130T204210Z
UID:10006076-1735891200-1735923600@swv-sindelfingen.de
SUMMARY:Fit werden - fit bleiben
DESCRIPTION:
URL:https://swv-sindelfingen.de/event/fit-werden-fit-bleiben-2/2025-01-03/
END:VEVENT
BEGIN:VEVENT
DTSTART;TZID=Europe/Berlin:20250106T084500
DTEND;TZID=Europe/Berlin:20250106T101500
DTSTAMP:20260422T114914
CREATED:20250221T150206Z
LAST-MODIFIED:20250221T150206Z
UID:10006659-1736153100-1736158500@swv-sindelfingen.de
SUMMARY:Nordic Walking
DESCRIPTION:
URL:https://swv-sindelfingen.de/event/nordic-walking-3/2025-01-06/
LOCATION:SWV – Vereinsheim\, Arthur-Gruber-Strasse 65\, SIndelfingen\, Deutschland\, 71065
END:VEVENT
BEGIN:VEVENT
DTSTART;TZID=Europe/Berlin:20250107T193000
DTEND;TZID=Europe/Berlin:20250107T210000
DTSTAMP:20260422T114914
CREATED:20250130T201106Z
LAST-MODIFIED:20250130T201221Z
UID:10004965-1736278200-1736283600@swv-sindelfingen.de
SUMMARY:Powergymnastik
DESCRIPTION:
URL:https://swv-sindelfingen.de/event/powergymnastikk/2025-01-07/
END:VEVENT
BEGIN:VEVENT
DTSTART;TZID=Europe/Berlin:20250108T190000
DTEND;TZID=Europe/Berlin:20250108T211500
DTSTAMP:20260422T114914
CREATED:20250130T202848Z
LAST-MODIFIED:20250130T202848Z
UID:10005240-1736362800-1736370900@swv-sindelfingen.de
SUMMARY:Fitness nur für Frauen
DESCRIPTION:
URL:https://swv-sindelfingen.de/event/fitness-nur-fuer-frauen-2/2025-01-08/
END:VEVENT
BEGIN:VEVENT
DTSTART;TZID=Europe/Berlin:20250109T193000
DTEND;TZID=Europe/Berlin:20250109T210000
DTSTAMP:20260422T114914
CREATED:20250130T203352Z
LAST-MODIFIED:20260220T175000Z
UID:10005521-1736451000-1736456400@swv-sindelfingen.de
SUMMARY:Fitness Workout
DESCRIPTION:
URL:https://swv-sindelfingen.de/event/fitness-workout-2/2025-01-09/
LOCATION:Realschule Klstergarten
END:VEVENT
BEGIN:VEVENT
DTSTART;TZID=Europe/Berlin:20250110T080000
DTEND;TZID=Europe/Berlin:20250110T170000
DTSTAMP:20260422T114914
CREATED:20250130T204210Z
LAST-MODIFIED:20250130T204210Z
UID:10006077-1736496000-1736528400@swv-sindelfingen.de
SUMMARY:Fit werden - fit bleiben
DESCRIPTION:
URL:https://swv-sindelfingen.de/event/fit-werden-fit-bleiben-2/2025-01-10/
END:VEVENT
BEGIN:VEVENT
DTSTART;TZID=Europe/Berlin:20250113T084500
DTEND;TZID=Europe/Berlin:20250113T101500
DTSTAMP:20260422T114914
CREATED:20250221T150206Z
LAST-MODIFIED:20250221T150206Z
UID:10006660-1736757900-1736763300@swv-sindelfingen.de
SUMMARY:Nordic Walking
DESCRIPTION:
URL:https://swv-sindelfingen.de/event/nordic-walking-3/2025-01-13/
LOCATION:SWV – Vereinsheim\, Arthur-Gruber-Strasse 65\, SIndelfingen\, Deutschland\, 71065
END:VEVENT
BEGIN:VEVENT
DTSTART;TZID=Europe/Berlin:20250114T193000
DTEND;TZID=Europe/Berlin:20250114T210000
DTSTAMP:20260422T114914
CREATED:20250130T201106Z
LAST-MODIFIED:20250130T201221Z
UID:10004966-1736883000-1736888400@swv-sindelfingen.de
SUMMARY:Powergymnastik
DESCRIPTION:
URL:https://swv-sindelfingen.de/event/powergymnastikk/2025-01-14/
END:VEVENT
BEGIN:VEVENT
DTSTART;TZID=Europe/Berlin:20250115T190000
DTEND;TZID=Europe/Berlin:20250115T211500
DTSTAMP:20260422T114914
CREATED:20250130T202848Z
LAST-MODIFIED:20250130T202848Z
UID:10005241-1736967600-1736975700@swv-sindelfingen.de
SUMMARY:Fitness nur für Frauen
DESCRIPTION:
URL:https://swv-sindelfingen.de/event/fitness-nur-fuer-frauen-2/2025-01-15/
END:VEVENT
BEGIN:VEVENT
DTSTART;TZID=Europe/Berlin:20250116T193000
DTEND;TZID=Europe/Berlin:20250116T210000
DTSTAMP:20260422T114914
CREATED:20250130T203352Z
LAST-MODIFIED:20260220T175000Z
UID:10005522-1737055800-1737061200@swv-sindelfingen.de
SUMMARY:Fitness Workout
DESCRIPTION:
URL:https://swv-sindelfingen.de/event/fitness-workout-2/2025-01-16/
LOCATION:Realschule Klstergarten
END:VEVENT
BEGIN:VEVENT
DTSTART;TZID=Europe/Berlin:20250117T080000
DTEND;TZID=Europe/Berlin:20250117T170000
DTSTAMP:20260422T114914
CREATED:20250130T204210Z
LAST-MODIFIED:20250130T204210Z
UID:10006078-1737100800-1737133200@swv-sindelfingen.de
SUMMARY:Fit werden - fit bleiben
DESCRIPTION:
URL:https://swv-sindelfingen.de/event/fit-werden-fit-bleiben-2/2025-01-17/
END:VEVENT
BEGIN:VEVENT
DTSTART;TZID=Europe/Berlin:20250120T084500
DTEND;TZID=Europe/Berlin:20250120T101500
DTSTAMP:20260422T114914
CREATED:20250221T150206Z
LAST-MODIFIED:20250221T150206Z
UID:10006661-1737362700-1737368100@swv-sindelfingen.de
SUMMARY:Nordic Walking
DESCRIPTION:
URL:https://swv-sindelfingen.de/event/nordic-walking-3/2025-01-20/
LOCATION:SWV – Vereinsheim\, Arthur-Gruber-Strasse 65\, SIndelfingen\, Deutschland\, 71065
END:VEVENT
BEGIN:VEVENT
DTSTART;TZID=Europe/Berlin:20250121T193000
DTEND;TZID=Europe/Berlin:20250121T210000
DTSTAMP:20260422T114914
CREATED:20250130T201106Z
LAST-MODIFIED:20250130T201221Z
UID:10004967-1737487800-1737493200@swv-sindelfingen.de
SUMMARY:Powergymnastik
DESCRIPTION:
URL:https://swv-sindelfingen.de/event/powergymnastikk/2025-01-21/
END:VEVENT
BEGIN:VEVENT
DTSTART;TZID=Europe/Berlin:20250122T190000
DTEND;TZID=Europe/Berlin:20250122T211500
DTSTAMP:20260422T114914
CREATED:20250130T202848Z
LAST-MODIFIED:20250130T202848Z
UID:10005242-1737572400-1737580500@swv-sindelfingen.de
SUMMARY:Fitness nur für Frauen
DESCRIPTION:
URL:https://swv-sindelfingen.de/event/fitness-nur-fuer-frauen-2/2025-01-22/
END:VEVENT
BEGIN:VEVENT
DTSTART;TZID=Europe/Berlin:20250123T193000
DTEND;TZID=Europe/Berlin:20250123T210000
DTSTAMP:20260422T114914
CREATED:20250130T203352Z
LAST-MODIFIED:20260220T175000Z
UID:10005523-1737660600-1737666000@swv-sindelfingen.de
SUMMARY:Fitness Workout
DESCRIPTION:
URL:https://swv-sindelfingen.de/event/fitness-workout-2/2025-01-23/
LOCATION:Realschule Klstergarten
END:VEVENT
BEGIN:VEVENT
DTSTART;TZID=Europe/Berlin:20250124T080000
DTEND;TZID=Europe/Berlin:20250124T170000
DTSTAMP:20260422T114914
CREATED:20250130T204210Z
LAST-MODIFIED:20250130T204210Z
UID:10006079-1737705600-1737738000@swv-sindelfingen.de
SUMMARY:Fit werden - fit bleiben
DESCRIPTION:
URL:https://swv-sindelfingen.de/event/fit-werden-fit-bleiben-2/2025-01-24/
END:VEVENT
BEGIN:VEVENT
DTSTART;TZID=Europe/Berlin:20250127T084500
DTEND;TZID=Europe/Berlin:20250127T101500
DTSTAMP:20260422T114914
CREATED:20250221T150206Z
LAST-MODIFIED:20250221T150206Z
UID:10006662-1737967500-1737972900@swv-sindelfingen.de
SUMMARY:Nordic Walking
DESCRIPTION:
URL:https://swv-sindelfingen.de/event/nordic-walking-3/2025-01-27/
LOCATION:SWV – Vereinsheim\, Arthur-Gruber-Strasse 65\, SIndelfingen\, Deutschland\, 71065
END:VEVENT
BEGIN:VEVENT
DTSTART;TZID=Europe/Berlin:20250128T193000
DTEND;TZID=Europe/Berlin:20250128T210000
DTSTAMP:20260422T114914
CREATED:20250130T201106Z
LAST-MODIFIED:20250130T201221Z
UID:10004968-1738092600-1738098000@swv-sindelfingen.de
SUMMARY:Powergymnastik
DESCRIPTION:
URL:https://swv-sindelfingen.de/event/powergymnastikk/2025-01-28/
END:VEVENT
BEGIN:VEVENT
DTSTART;TZID=Europe/Berlin:20250129T190000
DTEND;TZID=Europe/Berlin:20250129T211500
DTSTAMP:20260422T114914
CREATED:20250130T202848Z
LAST-MODIFIED:20250130T202848Z
UID:10005243-1738177200-1738185300@swv-sindelfingen.de
SUMMARY:Fitness nur für Frauen
DESCRIPTION:
URL:https://swv-sindelfingen.de/event/fitness-nur-fuer-frauen-2/2025-01-29/
END:VEVENT
BEGIN:VEVENT
DTSTART;TZID=Europe/Berlin:20250130T000000
DTEND;TZID=Europe/Berlin:20250130T000000
DTSTAMP:20260422T114914
CREATED:20250130T202128Z
LAST-MODIFIED:20250130T202128Z
UID:10005230-1738195200-1738195200@swv-sindelfingen.de
SUMMARY:Nordic Walking
DESCRIPTION:
URL:https://swv-sindelfingen.de/event/nordic-walking-2/
END:VEVENT
BEGIN:VEVENT
DTSTART;TZID=Europe/Berlin:20250130T193000
DTEND;TZID=Europe/Berlin:20250130T210000
DTSTAMP:20260422T114914
CREATED:20250130T203352Z
LAST-MODIFIED:20260220T175000Z
UID:10005524-1738265400-1738270800@swv-sindelfingen.de
SUMMARY:Fitness Workout
DESCRIPTION:
URL:https://swv-sindelfingen.de/event/fitness-workout-2/2025-01-30/
LOCATION:Realschule Klstergarten
END:VEVENT
BEGIN:VEVENT
DTSTART;TZID=Europe/Berlin:20250131T080000
DTEND;TZID=Europe/Berlin:20250131T170000
DTSTAMP:20260422T114914
CREATED:20250130T204210Z
LAST-MODIFIED:20250130T204210Z
UID:10006080-1738310400-1738342800@swv-sindelfingen.de
SUMMARY:Fit werden - fit bleiben
DESCRIPTION:
URL:https://swv-sindelfingen.de/event/fit-werden-fit-bleiben-2/2025-01-31/
END:VEVENT
END:VCALENDAR