BEGIN:VCALENDAR
VERSION:2.0
PRODID:-//Schwarzwaldverein Sindelfingen e. V. - ECPv6.15.20//NONSGML v1.0//EN
CALSCALE:GREGORIAN
METHOD:PUBLISH
X-ORIGINAL-URL:https://swv-sindelfingen.de
X-WR-CALDESC:Veranstaltungen für Schwarzwaldverein Sindelfingen e. V.
REFRESH-INTERVAL;VALUE=DURATION:PT1H
X-Robots-Tag:noindex
X-PUBLISHED-TTL:PT1H
BEGIN:VTIMEZONE
TZID:Europe/Berlin
BEGIN:DAYLIGHT
TZOFFSETFROM:+0100
TZOFFSETTO:+0200
TZNAME:CEST
DTSTART:20250330T010000
END:DAYLIGHT
BEGIN:STANDARD
TZOFFSETFROM:+0200
TZOFFSETTO:+0100
TZNAME:CET
DTSTART:20251026T010000
END:STANDARD
BEGIN:DAYLIGHT
TZOFFSETFROM:+0100
TZOFFSETTO:+0200
TZNAME:CEST
DTSTART:20260329T010000
END:DAYLIGHT
BEGIN:STANDARD
TZOFFSETFROM:+0200
TZOFFSETTO:+0100
TZNAME:CET
DTSTART:20261025T010000
END:STANDARD
BEGIN:DAYLIGHT
TZOFFSETFROM:+0100
TZOFFSETTO:+0200
TZNAME:CEST
DTSTART:20270328T010000
END:DAYLIGHT
BEGIN:STANDARD
TZOFFSETFROM:+0200
TZOFFSETTO:+0100
TZNAME:CET
DTSTART:20271031T010000
END:STANDARD
BEGIN:DAYLIGHT
TZOFFSETFROM:+0100
TZOFFSETTO:+0200
TZNAME:CEST
DTSTART:20280326T010000
END:DAYLIGHT
BEGIN:STANDARD
TZOFFSETFROM:+0200
TZOFFSETTO:+0100
TZNAME:CET
DTSTART:20281029T010000
END:STANDARD
END:VTIMEZONE
BEGIN:VEVENT
DTSTART;TZID=Europe/Berlin:20261215T193000
DTEND;TZID=Europe/Berlin:20261215T210000
DTSTAMP:20260423T192110
CREATED:20250130T201106Z
LAST-MODIFIED:20250130T201221Z
UID:10005066-1797363000-1797368400@swv-sindelfingen.de
SUMMARY:Powergymnastik
DESCRIPTION:
URL:https://swv-sindelfingen.de/event/powergymnastikk/2026-12-15/
LOCATION:Deutschland
END:VEVENT
BEGIN:VEVENT
DTSTART;TZID=Europe/Berlin:20261216T184500
DTEND;TZID=Europe/Berlin:20261216T184500
DTSTAMP:20260423T192110
CREATED:20250131T075402Z
LAST-MODIFIED:20250131T075402Z
UID:10006465-1797446700-1797446700@swv-sindelfingen.de
SUMMARY:Trainingsbetrieb
DESCRIPTION:Mittwochabends (im Winterhalbjahr ab 18:45 Uhr)\, im Badezentrum Sindelfingen (außer in den Schulferien\, dann z.T. Ersatztraining).\nInfos: Felix Loroff
URL:https://swv-sindelfingen.de/event/trainingsbetrieb/2026-12-16/
LOCATION:Deutschland
CATEGORIES:Kanusport
END:VEVENT
BEGIN:VEVENT
DTSTART;TZID=Europe/Berlin:20261216T190000
DTEND;TZID=Europe/Berlin:20261216T211500
DTSTAMP:20260423T192110
CREATED:20250130T202848Z
LAST-MODIFIED:20250130T202848Z
UID:10005341-1797447600-1797455700@swv-sindelfingen.de
SUMMARY:Fitness nur für Frauen
DESCRIPTION:
URL:https://swv-sindelfingen.de/event/fitness-nur-fuer-frauen-2/2026-12-16/
LOCATION:Deutschland
END:VEVENT
BEGIN:VEVENT
DTSTART;TZID=Europe/Berlin:20261217T193000
DTEND;TZID=Europe/Berlin:20261217T210000
DTSTAMP:20260423T192110
CREATED:20250130T203352Z
LAST-MODIFIED:20260220T175000Z
UID:10005622-1797535800-1797541200@swv-sindelfingen.de
SUMMARY:Fitness Workout
DESCRIPTION:
URL:https://swv-sindelfingen.de/event/fitness-workout-2/2026-12-17/
LOCATION:Realschule Klstergarten
END:VEVENT
BEGIN:VEVENT
DTSTART;TZID=Europe/Berlin:20261218T080000
DTEND;TZID=Europe/Berlin:20261218T170000
DTSTAMP:20260423T192110
CREATED:20250130T204210Z
LAST-MODIFIED:20250130T204210Z
UID:10006178-1797580800-1797613200@swv-sindelfingen.de
SUMMARY:Fit werden - fit bleiben
DESCRIPTION:
URL:https://swv-sindelfingen.de/event/fit-werden-fit-bleiben-2/2026-12-18/
LOCATION:Deutschland
END:VEVENT
BEGIN:VEVENT
DTSTART;TZID=Europe/Berlin:20261221T084500
DTEND;TZID=Europe/Berlin:20261221T101500
DTSTAMP:20260423T192110
CREATED:20250221T150206Z
LAST-MODIFIED:20250221T150206Z
UID:10006761-1797842700-1797848100@swv-sindelfingen.de
SUMMARY:Nordic Walking
DESCRIPTION:
URL:https://swv-sindelfingen.de/event/nordic-walking-3/2026-12-21/
LOCATION:SWV – Vereinsheim\, Arthur-Gruber-Strasse 65\, SIndelfingen\, Deutschland\, 71065
END:VEVENT
BEGIN:VEVENT
DTSTART;TZID=Europe/Berlin:20261222T193000
DTEND;TZID=Europe/Berlin:20261222T210000
DTSTAMP:20260423T192110
CREATED:20250130T201106Z
LAST-MODIFIED:20250130T201221Z
UID:10005067-1797967800-1797973200@swv-sindelfingen.de
SUMMARY:Powergymnastik
DESCRIPTION:
URL:https://swv-sindelfingen.de/event/powergymnastikk/2026-12-22/
LOCATION:Deutschland
END:VEVENT
BEGIN:VEVENT
DTSTART;TZID=Europe/Berlin:20261223T184500
DTEND;TZID=Europe/Berlin:20261223T184500
DTSTAMP:20260423T192110
CREATED:20250131T075402Z
LAST-MODIFIED:20250131T075402Z
UID:10006466-1798051500-1798051500@swv-sindelfingen.de
SUMMARY:Trainingsbetrieb
DESCRIPTION:Mittwochabends (im Winterhalbjahr ab 18:45 Uhr)\, im Badezentrum Sindelfingen (außer in den Schulferien\, dann z.T. Ersatztraining).\nInfos: Felix Loroff
URL:https://swv-sindelfingen.de/event/trainingsbetrieb/2026-12-23/
LOCATION:Deutschland
CATEGORIES:Kanusport
END:VEVENT
BEGIN:VEVENT
DTSTART;TZID=Europe/Berlin:20261223T190000
DTEND;TZID=Europe/Berlin:20261223T211500
DTSTAMP:20260423T192110
CREATED:20250130T202848Z
LAST-MODIFIED:20250130T202848Z
UID:10005342-1798052400-1798060500@swv-sindelfingen.de
SUMMARY:Fitness nur für Frauen
DESCRIPTION:
URL:https://swv-sindelfingen.de/event/fitness-nur-fuer-frauen-2/2026-12-23/
LOCATION:Deutschland
END:VEVENT
BEGIN:VEVENT
DTSTART;TZID=Europe/Berlin:20261224T193000
DTEND;TZID=Europe/Berlin:20261224T210000
DTSTAMP:20260423T192110
CREATED:20250130T203352Z
LAST-MODIFIED:20260220T175000Z
UID:10005623-1798140600-1798146000@swv-sindelfingen.de
SUMMARY:Fitness Workout
DESCRIPTION:
URL:https://swv-sindelfingen.de/event/fitness-workout-2/2026-12-24/
LOCATION:Realschule Klstergarten
END:VEVENT
BEGIN:VEVENT
DTSTART;TZID=Europe/Berlin:20261225T080000
DTEND;TZID=Europe/Berlin:20261225T170000
DTSTAMP:20260423T192110
CREATED:20250130T204210Z
LAST-MODIFIED:20250130T204210Z
UID:10006179-1798185600-1798218000@swv-sindelfingen.de
SUMMARY:Fit werden - fit bleiben
DESCRIPTION:
URL:https://swv-sindelfingen.de/event/fit-werden-fit-bleiben-2/2026-12-25/
LOCATION:Deutschland
END:VEVENT
BEGIN:VEVENT
DTSTART;TZID=Europe/Berlin:20261228T084500
DTEND;TZID=Europe/Berlin:20261228T101500
DTSTAMP:20260423T192110
CREATED:20250221T150206Z
LAST-MODIFIED:20250221T150206Z
UID:10006762-1798447500-1798452900@swv-sindelfingen.de
SUMMARY:Nordic Walking
DESCRIPTION:
URL:https://swv-sindelfingen.de/event/nordic-walking-3/2026-12-28/
LOCATION:SWV – Vereinsheim\, Arthur-Gruber-Strasse 65\, SIndelfingen\, Deutschland\, 71065
END:VEVENT
BEGIN:VEVENT
DTSTART;TZID=Europe/Berlin:20261229T193000
DTEND;TZID=Europe/Berlin:20261229T210000
DTSTAMP:20260423T192110
CREATED:20250130T201106Z
LAST-MODIFIED:20250130T201221Z
UID:10005068-1798572600-1798578000@swv-sindelfingen.de
SUMMARY:Powergymnastik
DESCRIPTION:
URL:https://swv-sindelfingen.de/event/powergymnastikk/2026-12-29/
LOCATION:Deutschland
END:VEVENT
BEGIN:VEVENT
DTSTART;TZID=Europe/Berlin:20261230T184500
DTEND;TZID=Europe/Berlin:20261230T184500
DTSTAMP:20260423T192110
CREATED:20250131T075402Z
LAST-MODIFIED:20250131T075402Z
UID:10006467-1798656300-1798656300@swv-sindelfingen.de
SUMMARY:Trainingsbetrieb
DESCRIPTION:Mittwochabends (im Winterhalbjahr ab 18:45 Uhr)\, im Badezentrum Sindelfingen (außer in den Schulferien\, dann z.T. Ersatztraining).\nInfos: Felix Loroff
URL:https://swv-sindelfingen.de/event/trainingsbetrieb/2026-12-30/
LOCATION:Deutschland
CATEGORIES:Kanusport
END:VEVENT
BEGIN:VEVENT
DTSTART;TZID=Europe/Berlin:20261230T190000
DTEND;TZID=Europe/Berlin:20261230T211500
DTSTAMP:20260423T192110
CREATED:20250130T202848Z
LAST-MODIFIED:20250130T202848Z
UID:10005343-1798657200-1798665300@swv-sindelfingen.de
SUMMARY:Fitness nur für Frauen
DESCRIPTION:
URL:https://swv-sindelfingen.de/event/fitness-nur-fuer-frauen-2/2026-12-30/
LOCATION:Deutschland
END:VEVENT
BEGIN:VEVENT
DTSTART;TZID=Europe/Berlin:20261231T193000
DTEND;TZID=Europe/Berlin:20261231T210000
DTSTAMP:20260423T192110
CREATED:20250130T203352Z
LAST-MODIFIED:20260220T175000Z
UID:10005624-1798745400-1798750800@swv-sindelfingen.de
SUMMARY:Fitness Workout
DESCRIPTION:
URL:https://swv-sindelfingen.de/event/fitness-workout-2/2026-12-31/
LOCATION:Realschule Klstergarten
END:VEVENT
BEGIN:VEVENT
DTSTART;TZID=Europe/Berlin:20270101T080000
DTEND;TZID=Europe/Berlin:20270101T170000
DTSTAMP:20260423T192110
CREATED:20250130T204210Z
LAST-MODIFIED:20250130T204210Z
UID:10006180-1798790400-1798822800@swv-sindelfingen.de
SUMMARY:Fit werden - fit bleiben
DESCRIPTION:
URL:https://swv-sindelfingen.de/event/fit-werden-fit-bleiben-2/2027-01-01/
LOCATION:Deutschland
END:VEVENT
BEGIN:VEVENT
DTSTART;TZID=Europe/Berlin:20270104T084500
DTEND;TZID=Europe/Berlin:20270104T101500
DTSTAMP:20260423T192110
CREATED:20250221T150206Z
LAST-MODIFIED:20250221T150206Z
UID:10006763-1799052300-1799057700@swv-sindelfingen.de
SUMMARY:Nordic Walking
DESCRIPTION:
URL:https://swv-sindelfingen.de/event/nordic-walking-3/2027-01-04/
LOCATION:SWV – Vereinsheim\, Arthur-Gruber-Strasse 65\, SIndelfingen\, Deutschland\, 71065
END:VEVENT
BEGIN:VEVENT
DTSTART;TZID=Europe/Berlin:20270105T193000
DTEND;TZID=Europe/Berlin:20270105T210000
DTSTAMP:20260423T192110
CREATED:20250130T201106Z
LAST-MODIFIED:20250130T201221Z
UID:10005069-1799177400-1799182800@swv-sindelfingen.de
SUMMARY:Powergymnastik
DESCRIPTION:
URL:https://swv-sindelfingen.de/event/powergymnastikk/2027-01-05/
LOCATION:Deutschland
END:VEVENT
BEGIN:VEVENT
DTSTART;TZID=Europe/Berlin:20270106T184500
DTEND;TZID=Europe/Berlin:20270106T184500
DTSTAMP:20260423T192110
CREATED:20250131T075402Z
LAST-MODIFIED:20250131T075402Z
UID:10006468-1799261100-1799261100@swv-sindelfingen.de
SUMMARY:Trainingsbetrieb
DESCRIPTION:Mittwochabends (im Winterhalbjahr ab 18:45 Uhr)\, im Badezentrum Sindelfingen (außer in den Schulferien\, dann z.T. Ersatztraining).\nInfos: Felix Loroff
URL:https://swv-sindelfingen.de/event/trainingsbetrieb/2027-01-06/
LOCATION:Deutschland
CATEGORIES:Kanusport
END:VEVENT
BEGIN:VEVENT
DTSTART;TZID=Europe/Berlin:20270106T190000
DTEND;TZID=Europe/Berlin:20270106T211500
DTSTAMP:20260423T192110
CREATED:20250130T202848Z
LAST-MODIFIED:20250130T202848Z
UID:10005344-1799262000-1799270100@swv-sindelfingen.de
SUMMARY:Fitness nur für Frauen
DESCRIPTION:
URL:https://swv-sindelfingen.de/event/fitness-nur-fuer-frauen-2/2027-01-06/
LOCATION:Deutschland
END:VEVENT
BEGIN:VEVENT
DTSTART;TZID=Europe/Berlin:20270107T193000
DTEND;TZID=Europe/Berlin:20270107T210000
DTSTAMP:20260423T192110
CREATED:20250130T203352Z
LAST-MODIFIED:20260220T175000Z
UID:10005625-1799350200-1799355600@swv-sindelfingen.de
SUMMARY:Fitness Workout
DESCRIPTION:
URL:https://swv-sindelfingen.de/event/fitness-workout-2/2027-01-07/
LOCATION:Realschule Klstergarten
END:VEVENT
BEGIN:VEVENT
DTSTART;TZID=Europe/Berlin:20270108T080000
DTEND;TZID=Europe/Berlin:20270108T170000
DTSTAMP:20260423T192110
CREATED:20250130T204210Z
LAST-MODIFIED:20250130T204210Z
UID:10006181-1799395200-1799427600@swv-sindelfingen.de
SUMMARY:Fit werden - fit bleiben
DESCRIPTION:
URL:https://swv-sindelfingen.de/event/fit-werden-fit-bleiben-2/2027-01-08/
LOCATION:Deutschland
END:VEVENT
BEGIN:VEVENT
DTSTART;TZID=Europe/Berlin:20270111T084500
DTEND;TZID=Europe/Berlin:20270111T101500
DTSTAMP:20260423T192110
CREATED:20250221T150206Z
LAST-MODIFIED:20250221T150206Z
UID:10006764-1799657100-1799662500@swv-sindelfingen.de
SUMMARY:Nordic Walking
DESCRIPTION:
URL:https://swv-sindelfingen.de/event/nordic-walking-3/2027-01-11/
LOCATION:SWV – Vereinsheim\, Arthur-Gruber-Strasse 65\, SIndelfingen\, Deutschland\, 71065
END:VEVENT
BEGIN:VEVENT
DTSTART;TZID=Europe/Berlin:20270112T193000
DTEND;TZID=Europe/Berlin:20270112T210000
DTSTAMP:20260423T192110
CREATED:20250130T201106Z
LAST-MODIFIED:20250130T201221Z
UID:10005070-1799782200-1799787600@swv-sindelfingen.de
SUMMARY:Powergymnastik
DESCRIPTION:
URL:https://swv-sindelfingen.de/event/powergymnastikk/2027-01-12/
LOCATION:Deutschland
END:VEVENT
BEGIN:VEVENT
DTSTART;TZID=Europe/Berlin:20270113T184500
DTEND;TZID=Europe/Berlin:20270113T184500
DTSTAMP:20260423T192110
CREATED:20250131T075402Z
LAST-MODIFIED:20250131T075402Z
UID:10006469-1799865900-1799865900@swv-sindelfingen.de
SUMMARY:Trainingsbetrieb
DESCRIPTION:Mittwochabends (im Winterhalbjahr ab 18:45 Uhr)\, im Badezentrum Sindelfingen (außer in den Schulferien\, dann z.T. Ersatztraining).\nInfos: Felix Loroff
URL:https://swv-sindelfingen.de/event/trainingsbetrieb/2027-01-13/
LOCATION:Deutschland
CATEGORIES:Kanusport
END:VEVENT
BEGIN:VEVENT
DTSTART;TZID=Europe/Berlin:20270113T190000
DTEND;TZID=Europe/Berlin:20270113T211500
DTSTAMP:20260423T192110
CREATED:20250130T202848Z
LAST-MODIFIED:20250130T202848Z
UID:10005345-1799866800-1799874900@swv-sindelfingen.de
SUMMARY:Fitness nur für Frauen
DESCRIPTION:
URL:https://swv-sindelfingen.de/event/fitness-nur-fuer-frauen-2/2027-01-13/
LOCATION:Deutschland
END:VEVENT
BEGIN:VEVENT
DTSTART;TZID=Europe/Berlin:20270114T193000
DTEND;TZID=Europe/Berlin:20270114T210000
DTSTAMP:20260423T192110
CREATED:20250130T203352Z
LAST-MODIFIED:20260220T175000Z
UID:10005626-1799955000-1799960400@swv-sindelfingen.de
SUMMARY:Fitness Workout
DESCRIPTION:
URL:https://swv-sindelfingen.de/event/fitness-workout-2/2027-01-14/
LOCATION:Realschule Klstergarten
END:VEVENT
BEGIN:VEVENT
DTSTART;TZID=Europe/Berlin:20270115T080000
DTEND;TZID=Europe/Berlin:20270115T170000
DTSTAMP:20260423T192110
CREATED:20250130T204210Z
LAST-MODIFIED:20250130T204210Z
UID:10006182-1800000000-1800032400@swv-sindelfingen.de
SUMMARY:Fit werden - fit bleiben
DESCRIPTION:
URL:https://swv-sindelfingen.de/event/fit-werden-fit-bleiben-2/2027-01-15/
LOCATION:Deutschland
END:VEVENT
BEGIN:VEVENT
DTSTART;TZID=Europe/Berlin:20270118T084500
DTEND;TZID=Europe/Berlin:20270118T101500
DTSTAMP:20260423T192110
CREATED:20250221T150206Z
LAST-MODIFIED:20250221T150206Z
UID:10006765-1800261900-1800267300@swv-sindelfingen.de
SUMMARY:Nordic Walking
DESCRIPTION:
URL:https://swv-sindelfingen.de/event/nordic-walking-3/2027-01-18/
LOCATION:SWV – Vereinsheim\, Arthur-Gruber-Strasse 65\, SIndelfingen\, Deutschland\, 71065
END:VEVENT
END:VCALENDAR