BEGIN:VCALENDAR
VERSION:2.0
PRODID:-//Schwarzwaldverein Sindelfingen e. V. - ECPv6.15.20//NONSGML v1.0//EN
CALSCALE:GREGORIAN
METHOD:PUBLISH
X-WR-CALNAME:Schwarzwaldverein Sindelfingen e. V.
X-ORIGINAL-URL:https://swv-sindelfingen.de
X-WR-CALDESC:Veranstaltungen für Schwarzwaldverein Sindelfingen e. V.
REFRESH-INTERVAL;VALUE=DURATION:PT1H
X-Robots-Tag:noindex
X-PUBLISHED-TTL:PT1H
BEGIN:VTIMEZONE
TZID:Europe/Berlin
BEGIN:DAYLIGHT
TZOFFSETFROM:+0100
TZOFFSETTO:+0200
TZNAME:CEST
DTSTART:20240331T010000
END:DAYLIGHT
BEGIN:STANDARD
TZOFFSETFROM:+0200
TZOFFSETTO:+0100
TZNAME:CET
DTSTART:20241027T010000
END:STANDARD
BEGIN:DAYLIGHT
TZOFFSETFROM:+0100
TZOFFSETTO:+0200
TZNAME:CEST
DTSTART:20250330T010000
END:DAYLIGHT
BEGIN:STANDARD
TZOFFSETFROM:+0200
TZOFFSETTO:+0100
TZNAME:CET
DTSTART:20251026T010000
END:STANDARD
BEGIN:DAYLIGHT
TZOFFSETFROM:+0100
TZOFFSETTO:+0200
TZNAME:CEST
DTSTART:20260329T010000
END:DAYLIGHT
BEGIN:STANDARD
TZOFFSETFROM:+0200
TZOFFSETTO:+0100
TZNAME:CET
DTSTART:20261025T010000
END:STANDARD
END:VTIMEZONE
BEGIN:VEVENT
DTSTART;VALUE=DATE:20251001
DTEND;VALUE=DATE:20251003
DTSTAMP:20260420T130623
CREATED:20250131T081051Z
LAST-MODIFIED:20250131T081051Z
UID:10006645-1759305600-1759391999@swv-sindelfingen.de
SUMMARY:Neuer Wein und Zwiebelkuchen
DESCRIPTION:Die Herbstfärbung der Bäume beginnt\, die Temperaturen zum im Freien sitzen werden angenehmer\, was kann es da schöneres geben\, als einen Spaziergang im Wald zu machen und anschließend auf der Terrasse unseres Vereinsheims zu sitzen\, ein Glas „Neuen Wein“ zu trinken\, dazu einen „Zwiebelkuchen“ essen\, gemeinsam schöne Lieder zu singen und amüsante und lustige Geschichten zu hören. \n  \nGehzeit: ca. 1 Std. \nTreffpunkt: 14.00 Uhr am SWV-Vereinsheim \nOrganisation: Rolf Boger
URL:https://swv-sindelfingen.de/event/neuer-wein-und-zwiebelkuchen-2/
CATEGORIES:Wandergruppe
END:VEVENT
BEGIN:VEVENT
DTSTART;TZID=Europe/Berlin:20251001T184500
DTEND;TZID=Europe/Berlin:20251001T184500
DTSTAMP:20260420T130623
CREATED:20250131T075402Z
LAST-MODIFIED:20250131T075402Z
UID:10006402-1759344300-1759344300@swv-sindelfingen.de
SUMMARY:Trainingsbetrieb
DESCRIPTION:Mittwochabends (im Winterhalbjahr ab 18:45 Uhr)\, im Badezentrum Sindelfingen (außer in den Schulferien\, dann z.T. Ersatztraining).\nInfos: Felix Loroff
URL:https://swv-sindelfingen.de/event/trainingsbetrieb/2025-10-01/
CATEGORIES:Kanusport
END:VEVENT
BEGIN:VEVENT
DTSTART;TZID=Europe/Berlin:20251001T190000
DTEND;TZID=Europe/Berlin:20251001T211500
DTSTAMP:20260420T130623
CREATED:20250130T202848Z
LAST-MODIFIED:20250130T202848Z
UID:10005278-1759345200-1759353300@swv-sindelfingen.de
SUMMARY:Fitness nur für Frauen
DESCRIPTION:
URL:https://swv-sindelfingen.de/event/fitness-nur-fuer-frauen-2/2025-10-01/
END:VEVENT
END:VCALENDAR