BEGIN:VCALENDAR
VERSION:2.0
PRODID:-//Schwarzwaldverein Sindelfingen e. V. - ECPv6.15.20//NONSGML v1.0//EN
CALSCALE:GREGORIAN
METHOD:PUBLISH
X-ORIGINAL-URL:https://swv-sindelfingen.de
X-WR-CALDESC:Veranstaltungen für Schwarzwaldverein Sindelfingen e. V.
REFRESH-INTERVAL;VALUE=DURATION:PT1H
X-Robots-Tag:noindex
X-PUBLISHED-TTL:PT1H
BEGIN:VTIMEZONE
TZID:Europe/Berlin
BEGIN:DAYLIGHT
TZOFFSETFROM:+0100
TZOFFSETTO:+0200
TZNAME:CEST
DTSTART:20240331T010000
END:DAYLIGHT
BEGIN:STANDARD
TZOFFSETFROM:+0200
TZOFFSETTO:+0100
TZNAME:CET
DTSTART:20241027T010000
END:STANDARD
BEGIN:DAYLIGHT
TZOFFSETFROM:+0100
TZOFFSETTO:+0200
TZNAME:CEST
DTSTART:20250330T010000
END:DAYLIGHT
BEGIN:STANDARD
TZOFFSETFROM:+0200
TZOFFSETTO:+0100
TZNAME:CET
DTSTART:20251026T010000
END:STANDARD
BEGIN:DAYLIGHT
TZOFFSETFROM:+0100
TZOFFSETTO:+0200
TZNAME:CEST
DTSTART:20260329T010000
END:DAYLIGHT
BEGIN:STANDARD
TZOFFSETFROM:+0200
TZOFFSETTO:+0100
TZNAME:CET
DTSTART:20261025T010000
END:STANDARD
END:VTIMEZONE
BEGIN:VEVENT
DTSTART;VALUE=DATE:20250914
DTEND;VALUE=DATE:20250916
DTSTAMP:20260421T145124
CREATED:20250131T082113Z
LAST-MODIFIED:20250905T051232Z
UID:10006657-1757836800-1757923199@swv-sindelfingen.de
SUMMARY:Herbsttour an die Glems
DESCRIPTION:Vom Treff am Glaspalast startet die Tour in Richtung Magstadt und weiter vorbei am Hölzersee\, hoch zum Frauenkreuz. Auf breiten Forstwegen geht es anschließend hinunter zum Glemseck. Am ADAC Gelände vorbei\, biegen wir ab ins Krummbachtal und erreichen über die Gerlinger Heide das Wahrzeichen von Leonberg dem Engelbergturm. Hier besteht die Möglichkeit über 123 Stufen hoch zu steigen um die schöne Aussicht zu genießen. Zur anschließenden Mittagseinkehr im Biergarten radeln wir nun wieder abwärts an die Glems und folgen dem Glemsradweg bis Ditzingen. Nach der Einkehr führt die Tour uns über Hirschlanden\, Höfingen\, Gebersheim\, Perouse und Renningen zurück nach Sindelfingen.\nTourenlänge:   ca. 65 km\nTourenführer: Ludwig König / Eugen Ulrich  \nStart: 9.30 am Glaspalast in Sindelfingen \nEine Anmeldung ist nicht erfoderlich
URL:https://swv-sindelfingen.de/event/herbsttour-an-die-glems-2/
CATEGORIES:Radfahren
END:VEVENT
END:VCALENDAR