BEGIN:VCALENDAR
VERSION:2.0
PRODID:-//Schwarzwaldverein Sindelfingen e. V. - ECPv6.15.20//NONSGML v1.0//EN
CALSCALE:GREGORIAN
METHOD:PUBLISH
X-ORIGINAL-URL:https://swv-sindelfingen.de
X-WR-CALDESC:Veranstaltungen für Schwarzwaldverein Sindelfingen e. V.
REFRESH-INTERVAL;VALUE=DURATION:PT1H
X-Robots-Tag:noindex
X-PUBLISHED-TTL:PT1H
BEGIN:VTIMEZONE
TZID:Europe/Berlin
BEGIN:DAYLIGHT
TZOFFSETFROM:+0100
TZOFFSETTO:+0200
TZNAME:CEST
DTSTART:20240331T010000
END:DAYLIGHT
BEGIN:STANDARD
TZOFFSETFROM:+0200
TZOFFSETTO:+0100
TZNAME:CET
DTSTART:20241027T010000
END:STANDARD
BEGIN:DAYLIGHT
TZOFFSETFROM:+0100
TZOFFSETTO:+0200
TZNAME:CEST
DTSTART:20250330T010000
END:DAYLIGHT
BEGIN:STANDARD
TZOFFSETFROM:+0200
TZOFFSETTO:+0100
TZNAME:CET
DTSTART:20251026T010000
END:STANDARD
BEGIN:DAYLIGHT
TZOFFSETFROM:+0100
TZOFFSETTO:+0200
TZNAME:CEST
DTSTART:20260329T010000
END:DAYLIGHT
BEGIN:STANDARD
TZOFFSETFROM:+0200
TZOFFSETTO:+0100
TZNAME:CET
DTSTART:20261025T010000
END:STANDARD
END:VTIMEZONE
BEGIN:VEVENT
DTSTART;VALUE=DATE:20250906
DTEND;VALUE=DATE:20250915
DTSTAMP:20260422T012300
CREATED:20250131T074810Z
LAST-MODIFIED:20250131T074810Z
UID:10006363-1757145600-1757836799@swv-sindelfingen.de
SUMMARY:Elde-Müritz-Wasserstraße
DESCRIPTION:Mehrtägige Gepäcktour durch Mecklenburg-Vorpommern auf dem alten Verbindungsweg zwischen Müritz und Elbe.\nInfos: Elke Käthner\nAnmeldeschluss: 01.06.2025
URL:https://swv-sindelfingen.de/event/elde-mueritz-wasserstrasse/
CATEGORIES:Kanusport
END:VEVENT
BEGIN:VEVENT
DTSTART;TZID=Europe/Berlin:20250906T134500
DTEND;TZID=Europe/Berlin:20250906T173000
DTSTAMP:20260422T012300
CREATED:20250131T080823Z
LAST-MODIFIED:20250905T060546Z
UID:10006642-1757166300-1757179800@swv-sindelfingen.de
SUMMARY:Vormittagswanderung im Schönbuch
DESCRIPTION:ACHTUNG:TERMINÄNDERUNG\nDie Wanderung am 6. September muss aus\nfamiliären Gründen verschoben werden. \nGruppe Wandern \nNeuer Termin\nSamstag 27. September 2025\nAuf die Schönbuchlichtung zu den Schäferhunden – Sorbers letzte Wanderung –\nWir wandern über die weitläufige Lichtung des Schönbuchs zur Anlage des Vereins für Deutsche Schäferhunde Ortsgruppe Böblingen. Dort erfahren wir einiges interessantes über die Zucht und Ausbildung von Schäferhunden. \nWanderführer: Karin und Burkhard Sorber
URL:https://swv-sindelfingen.de/event/vormittagswanderung-im-schoenbuch/
CATEGORIES:Wandergruppe
END:VEVENT
END:VCALENDAR