BEGIN:VCALENDAR
VERSION:2.0
PRODID:-//Schwarzwaldverein Sindelfingen e. V. - ECPv6.15.20//NONSGML v1.0//EN
CALSCALE:GREGORIAN
METHOD:PUBLISH
X-WR-CALNAME:Schwarzwaldverein Sindelfingen e. V.
X-ORIGINAL-URL:https://swv-sindelfingen.de
X-WR-CALDESC:Veranstaltungen für Schwarzwaldverein Sindelfingen e. V.
REFRESH-INTERVAL;VALUE=DURATION:PT1H
X-Robots-Tag:noindex
X-PUBLISHED-TTL:PT1H
BEGIN:VTIMEZONE
TZID:Europe/Berlin
BEGIN:DAYLIGHT
TZOFFSETFROM:+0100
TZOFFSETTO:+0200
TZNAME:CEST
DTSTART:20240331T010000
END:DAYLIGHT
BEGIN:STANDARD
TZOFFSETFROM:+0200
TZOFFSETTO:+0100
TZNAME:CET
DTSTART:20241027T010000
END:STANDARD
BEGIN:DAYLIGHT
TZOFFSETFROM:+0100
TZOFFSETTO:+0200
TZNAME:CEST
DTSTART:20250330T010000
END:DAYLIGHT
BEGIN:STANDARD
TZOFFSETFROM:+0200
TZOFFSETTO:+0100
TZNAME:CET
DTSTART:20251026T010000
END:STANDARD
BEGIN:DAYLIGHT
TZOFFSETFROM:+0100
TZOFFSETTO:+0200
TZNAME:CEST
DTSTART:20260329T010000
END:DAYLIGHT
BEGIN:STANDARD
TZOFFSETFROM:+0200
TZOFFSETTO:+0100
TZNAME:CET
DTSTART:20261025T010000
END:STANDARD
END:VTIMEZONE
BEGIN:VEVENT
DTSTART;VALUE=DATE:20250817
DTEND;VALUE=DATE:20250819
DTSTAMP:20260424T114646
CREATED:20250131T082031Z
LAST-MODIFIED:20250804T060935Z
UID:10006656-1755417600-1755503999@swv-sindelfingen.de
SUMMARY:Calw - Nagoldtaltour
DESCRIPTION:Wir starten vom Treffpunkt am Parkplatz Glaspalast in Richtung Weil d. Stadt und radeln über Simmonsheim nach Althengstett. Durch die Fuchsklinge steil bergab erreichen wir Hirsau mit seiner eindrucksvollen Klosteranlage. Nach einem Stopp dort\, geht es zur Mittagseinkehr nach Calw in einem Biergarten direkt am Nagoldufer gelegen. \nNach der Einkehr geht es auf dem idyllischen Nagoldradweg weiter in Richtung Wildberg. Kurz davor wechseln wir über die Nagold\, es folgt ein Anstieg hoch nach Gültlingen und weiter bis Deckenpfronn. Jetzt ist der anstrengende Teil der Tour geschafft. Wir rollen nach Gärtringen und kommen über Ehningen\, Dagersheim zurück nach Sindelfingen. \nStart: 9.30 am Glaspalast in Sindelfingen \nEine Anmeldung ist nicht erfoderlich
URL:https://swv-sindelfingen.de/event/monbachtal-calwtour/
CATEGORIES:Radfahren
END:VEVENT
END:VCALENDAR