BEGIN:VCALENDAR
VERSION:2.0
PRODID:-//Schwarzwaldverein Sindelfingen e. V. - ECPv6.15.20//NONSGML v1.0//EN
CALSCALE:GREGORIAN
METHOD:PUBLISH
X-ORIGINAL-URL:https://swv-sindelfingen.de
X-WR-CALDESC:Veranstaltungen für Schwarzwaldverein Sindelfingen e. V.
REFRESH-INTERVAL;VALUE=DURATION:PT1H
X-Robots-Tag:noindex
X-PUBLISHED-TTL:PT1H
BEGIN:VTIMEZONE
TZID:Europe/Berlin
BEGIN:DAYLIGHT
TZOFFSETFROM:+0100
TZOFFSETTO:+0200
TZNAME:CEST
DTSTART:20240331T010000
END:DAYLIGHT
BEGIN:STANDARD
TZOFFSETFROM:+0200
TZOFFSETTO:+0100
TZNAME:CET
DTSTART:20241027T010000
END:STANDARD
BEGIN:DAYLIGHT
TZOFFSETFROM:+0100
TZOFFSETTO:+0200
TZNAME:CEST
DTSTART:20250330T010000
END:DAYLIGHT
BEGIN:STANDARD
TZOFFSETFROM:+0200
TZOFFSETTO:+0100
TZNAME:CET
DTSTART:20251026T010000
END:STANDARD
BEGIN:DAYLIGHT
TZOFFSETFROM:+0100
TZOFFSETTO:+0200
TZNAME:CEST
DTSTART:20260329T010000
END:DAYLIGHT
BEGIN:STANDARD
TZOFFSETFROM:+0200
TZOFFSETTO:+0100
TZNAME:CET
DTSTART:20261025T010000
END:STANDARD
END:VTIMEZONE
BEGIN:VEVENT
DTSTART;VALUE=DATE:20250524
DTEND;VALUE=DATE:20250527
DTSTAMP:20260422T191759
CREATED:20250131T073838Z
LAST-MODIFIED:20250131T073838Z
UID:10006353-1748073600-1748246399@swv-sindelfingen.de
SUMMARY:WW-Kanal-Wochenende
DESCRIPTION:Ein Wochenende auf und an einem Wildwasser-Übungskanal. Die Auswahl des Kanals richtet sich nach der Tendenz der Teilnehmer. Möglichkeiten reichen von WW I-II bis III-IV\nAnmeldeschluss: 04.05.2025
URL:https://swv-sindelfingen.de/event/ww-kanal-wochenende/
CATEGORIES:Kanusport
END:VEVENT
BEGIN:VEVENT
DTSTART;VALUE=DATE:20250525
DTEND;VALUE=DATE:20250527
DTSTAMP:20260422T191759
CREATED:20250131T081749Z
LAST-MODIFIED:20250506T122740Z
UID:10006653-1748160000-1748246399@swv-sindelfingen.de
SUMMARY:Ammertal-Gäutour
DESCRIPTION:Vom Treff am Glaspalast geht es nach Ehningen und über Rohrau hoch zum Schlossberg. Inmitten schöner Streuobstwiesen radeln wir nach Kayh\, zweigen ab nach Breitenholz und über Entringen erreichen wir Poltringen zur Mittagseinkehr. Gut gestärkt geht es danach über Oberndorf\, Hailfingen\, Öschelbronn\, Herrenberg\, Nufringen zurück nach Sindelfingen.\nTourenlänge:   ca. 75 km\nTourenführer: Gerd Kanzler / Eugen Ulrich  \nStart: 9.30 am Glaspalast in Sindelfingen \nEine Anmeldung ist nicht erfoderlich \n 
URL:https://swv-sindelfingen.de/event/ammertal-gaeutour/
LOCATION:Glaspalast
CATEGORIES:Radfahren
END:VEVENT
END:VCALENDAR