BEGIN:VCALENDAR
VERSION:2.0
PRODID:-//Schwarzwaldverein Sindelfingen e. V. - ECPv6.15.20//NONSGML v1.0//EN
CALSCALE:GREGORIAN
METHOD:PUBLISH
X-WR-CALNAME:Schwarzwaldverein Sindelfingen e. V.
X-ORIGINAL-URL:https://swv-sindelfingen.de
X-WR-CALDESC:Veranstaltungen für Schwarzwaldverein Sindelfingen e. V.
REFRESH-INTERVAL;VALUE=DURATION:PT1H
X-Robots-Tag:noindex
X-PUBLISHED-TTL:PT1H
BEGIN:VTIMEZONE
TZID:Europe/Berlin
BEGIN:DAYLIGHT
TZOFFSETFROM:+0100
TZOFFSETTO:+0200
TZNAME:CEST
DTSTART:20240331T010000
END:DAYLIGHT
BEGIN:STANDARD
TZOFFSETFROM:+0200
TZOFFSETTO:+0100
TZNAME:CET
DTSTART:20241027T010000
END:STANDARD
BEGIN:DAYLIGHT
TZOFFSETFROM:+0100
TZOFFSETTO:+0200
TZNAME:CEST
DTSTART:20250330T010000
END:DAYLIGHT
BEGIN:STANDARD
TZOFFSETFROM:+0200
TZOFFSETTO:+0100
TZNAME:CET
DTSTART:20251026T010000
END:STANDARD
BEGIN:DAYLIGHT
TZOFFSETFROM:+0100
TZOFFSETTO:+0200
TZNAME:CEST
DTSTART:20260329T010000
END:DAYLIGHT
BEGIN:STANDARD
TZOFFSETFROM:+0200
TZOFFSETTO:+0100
TZNAME:CET
DTSTART:20261025T010000
END:STANDARD
END:VTIMEZONE
BEGIN:VEVENT
DTSTART;VALUE=DATE:20250409
DTEND;VALUE=DATE:20250411
DTSTAMP:20260423T084402
CREATED:20250131T080036Z
LAST-MODIFIED:20250319T204232Z
UID:10006632-1744185600-1744271999@swv-sindelfingen.de
SUMMARY:Stuttgart in der Zeit des Nationalsozialismus
DESCRIPTION:Mit dem Beginn der NS Regierung in Berlin im Jahr 1933 änderten sich auch die politischen Zustände in den Ländern grundlegend. Die demokratischen Parteien wurden verboten und Juden und Menschen\, die den Machthabern im Weg standen\, wurden aus ihren Ämtern entlassen. Die Polizei wurde systematisch der SA und der Gestapo unterstellt\, und der Weg in die Verfolgung\, Verhaftung und Deportierung der Juden bereitet. \nWir besuchen die Stätten der Verfolgung im Polizeigefängnis in der „Büchsenschmiere“ im Hospitalhof und danach die Ausstellung im „Hotel Silber“. Wenn noch Zeit ist\, gehen wir zum Oberlandesgericht hinüber\, wo viele Todesurteile gefällt und im Hof vollzogen wurden. \nEine Abschlusseinkehr ist vorgesehen \nDie Teilnehmerzahl ist begrenzt. \nAnfahrt: mit öffentlichen Verkehrsmitteln. \nTreffpunkt: 12:45 Uhr\, S-Bahnstation Goldberg. Abfahrt mit S1 um 13:02 Uhr Gleis 2. \nBitte ein Tagesticket für die Zonen 1\, 2 und 3 mitbringen und in den vordersten Wagen einsteigen. Bitte beachten Sie: Die Parkgebühr beträgt dort jetzt 3 Euro/Tag. \nOrganisation: Dr. Alfred Hinderer
URL:https://swv-sindelfingen.de/event/stuttgart-in-der-zeit-des-nationalsozialismus/
CATEGORIES:Wandergruppe
END:VEVENT
BEGIN:VEVENT
DTSTART;TZID=Europe/Berlin:20250409T184500
DTEND;TZID=Europe/Berlin:20250409T184500
DTSTAMP:20260423T084402
CREATED:20250131T075402Z
LAST-MODIFIED:20250131T075402Z
UID:10006377-1744224300-1744224300@swv-sindelfingen.de
SUMMARY:Trainingsbetrieb
DESCRIPTION:Mittwochabends (im Winterhalbjahr ab 18:45 Uhr)\, im Badezentrum Sindelfingen (außer in den Schulferien\, dann z.T. Ersatztraining).\nInfos: Felix Loroff
URL:https://swv-sindelfingen.de/event/trainingsbetrieb/2025-04-09/
CATEGORIES:Kanusport
END:VEVENT
BEGIN:VEVENT
DTSTART;TZID=Europe/Berlin:20250409T190000
DTEND;TZID=Europe/Berlin:20250409T211500
DTSTAMP:20260423T084402
CREATED:20250130T202848Z
LAST-MODIFIED:20250130T202848Z
UID:10005253-1744225200-1744233300@swv-sindelfingen.de
SUMMARY:Fitness nur für Frauen
DESCRIPTION:
URL:https://swv-sindelfingen.de/event/fitness-nur-fuer-frauen-2/2025-04-09/
END:VEVENT
END:VCALENDAR