BEGIN:VCALENDAR
VERSION:2.0
PRODID:-//Schwarzwaldverein Sindelfingen e. V. - ECPv6.15.20//NONSGML v1.0//EN
CALSCALE:GREGORIAN
METHOD:PUBLISH
X-ORIGINAL-URL:https://swv-sindelfingen.de
X-WR-CALDESC:Veranstaltungen für Schwarzwaldverein Sindelfingen e. V.
REFRESH-INTERVAL;VALUE=DURATION:PT1H
X-Robots-Tag:noindex
X-PUBLISHED-TTL:PT1H
BEGIN:VTIMEZONE
TZID:Europe/Berlin
BEGIN:DAYLIGHT
TZOFFSETFROM:+0100
TZOFFSETTO:+0200
TZNAME:CEST
DTSTART:20240331T010000
END:DAYLIGHT
BEGIN:STANDARD
TZOFFSETFROM:+0200
TZOFFSETTO:+0100
TZNAME:CET
DTSTART:20241027T010000
END:STANDARD
BEGIN:DAYLIGHT
TZOFFSETFROM:+0100
TZOFFSETTO:+0200
TZNAME:CEST
DTSTART:20250330T010000
END:DAYLIGHT
BEGIN:STANDARD
TZOFFSETFROM:+0200
TZOFFSETTO:+0100
TZNAME:CET
DTSTART:20251026T010000
END:STANDARD
BEGIN:DAYLIGHT
TZOFFSETFROM:+0100
TZOFFSETTO:+0200
TZNAME:CEST
DTSTART:20260329T010000
END:DAYLIGHT
BEGIN:STANDARD
TZOFFSETFROM:+0200
TZOFFSETTO:+0100
TZNAME:CET
DTSTART:20261025T010000
END:STANDARD
END:VTIMEZONE
BEGIN:VEVENT
DTSTART;TZID=Europe/Berlin:20250404T080000
DTEND;TZID=Europe/Berlin:20250404T170000
DTSTAMP:20260422T201755
CREATED:20250130T204210Z
LAST-MODIFIED:20250130T204210Z
UID:10006089-1743753600-1743786000@swv-sindelfingen.de
SUMMARY:Fit werden - fit bleiben
DESCRIPTION:
URL:https://swv-sindelfingen.de/event/fit-werden-fit-bleiben-2/2025-04-04/
END:VEVENT
BEGIN:VEVENT
DTSTART;TZID=Europe/Berlin:20250404T180000
DTEND;TZID=Europe/Berlin:20250404T213000
DTSTAMP:20260422T201755
CREATED:20250317T135036Z
LAST-MODIFIED:20250317T135036Z
UID:10006929-1743789600-1743802200@swv-sindelfingen.de
SUMMARY:Jahreshauptversammlung 2025
DESCRIPTION:  \nLiebe Mitglieder\, \ngemäß Artikel 8 unserer Satzung laden wir Sie hiermit ein zur ordentlichen \n  \n     Jahreshauptversammlung 2025 \n  \nam Freitag\, dem 4. April 2025\, Beginn 18 Uhr im Vereinsheim \n(Arthur-Gruber-Straße 65) \n  \nTagesordnung: \n\nEröffnung und Begrüßung\nBericht des Vorstandes\nBerichte der Abteilungen\nJahresrechnung 2024\nAussprache\nBericht der Kassenprüfer\nEntlastung des Kassiers\nEntlastung des Vorstandes\nNeuwahlen\nVerschiedenes\nFilm: „Sindelfinger Geschichten“ Historische Miniaturen ans Licht geholt.\nEin Film von Horst Weber\, Klaus Philippscheck und Hans Knaus\n\n  \nAnträge wollen Sie bitte schriftlich bis spätestens 24. März 2025 an die          Geschäftsstelle\, Untere Vorstadt 17\, in Sindelfingen\, z. H. des Vorstandes \neinreichen. \n  \n                                                                      Der Vorstand
URL:https://swv-sindelfingen.de/event/jahreshauptversammlung-2025-2/
END:VEVENT
END:VCALENDAR